Workbook
Name LISTADO: "'file://Server/Cotizaciones/COTIZADOR%20ELELCTRICO/Lista%20y%20precios%20rubros%20electricos.xls'#$'Lista Precios'.$A$1:$A$65536"
Name MATERIALES: '[1]PRECIOS '!$A$1:$A$65536

Sheet Etapa 1
B1: LICO - GPI - 0007 - 2012 (ETAPA I: CHECKLIST)
C3: Descripción: | D3: CONSTRUCCI{ON DEL EDIFICIO "CENTRO DE INTEGRACIÓN PROVINCIAL"
C4: Presupuesto Referencial: | D4: 870000 | F4: Adjudicación: | G4: Total
C5: Forma de Pago: | D5: Anticipo 50% | F5: Plazo: | G5: 300 días
A6: cu | F6: Vigencia: | G6: 90 días
B8: Form | C8: Descripción | D8: JAIC CÍA. LTDA. | E8: BUENAÑO VINUEZA FAUSTO GERARDO | F8: CONSTRUCTORA ANDRADE RODAS- VIP S.A. | G8: OBSERVACIONES
B9: 1 | C9: Carta Compromiso | D9: CUMPLE | E9: CUMPLE | F9: CUMPLE
B10: 2 | C10: Tabla de Rubros, Cantidades, y Precios | D10: CUMPLE | E10: CUMPLE | F10: CUMPLE
B11: 3 | C11: Datos Generales del Oferente | D11: CUMPLE | E11: CUMPLE | F11: CUMPLE
B12: 4 | C12: Análisis de Precios Unitarios | D12: CUMPLE | E12: CUMPLE | F12: CUMPLE
B13: 5 | C13: Situación Financiera | D13: NO CUMPLE | E13: CUMPLE | F13: CUMPLE | G13: FALTA FORMULARIO 102, CONVALIDAR
B14: 6 | C14: Variaciones de la Situación Financiera | D14: CUMPLE | E14: CUMPLE | F14: CUMPLE
B15: 7 | C15: Equipo Asignado | D15: CUMPLE | E15: CUMPLE | F15: CUMPLE
B16: 8 | C16: Personal Técnico Propuesto | D16: CUMPLE | E16: CUMPLE | F16: CUMPLE
B17: 9 | C17: Curriculum Vitae del Personal | D17: CUMPLE | E17: CUMPLE | F17: CUMPLE
B18: 10 | C18: Experiencia del Oferente | D18: CUMPLE | E18: CUMPLE | F18: CUMPLE
B19: 11 | C19: Cronograma Valorado | D19: CUMPLE | E19: CUMPLE | F19: CUMPLE
B20: 12 | C20: Metodología de Construcción | D20: CUMPLE | E20: CUMPLE | F20: CUMPLE
B21: 13-A | C21: Participación Nacional del Contratista | D21: CUMPLE | E21: CUMPLE | F21: CUMPLE
B22: 13-B | C22: Estimación de la PN del Desagregado | D22: CUMPLE | E22: CUMPLE | F22: CUMPLE
B23: 14 | C23: Nómina de Socios / Accionistas | D23: CUMPLE | E23: CUMPLE | F23: CUMPLE
B24: 15 | C24: Compromiso Arrendamiento de Equipo | D24: CUMPLE | E24: CUMPLE | F24: CUMPLE
B25: 16 | C25: Compromiso Disponibilidad de Equipo | D25: CUMPLE | E25: CUMPLE | F25: CUMPLE
B26: 17 | C26: Compromiso de Venta de Equipo | D26: CUMPLE | E26: CUMPLE | F26: CUMPLE
C28: Acta de Recepción Provisional de una obra similar y por un monto mínimo del 50% del referencial | D28: NO CUMPLE | E28: CUMPLE | F28: CUMPLE | G28: CONVALIDAR EXPERIENCIA
B29: Equipo Mínimo | C29: Mini cargadora | D29: CUMPLE | E29: CUMPLE | F29: CUMPLE
C30: Volqueta # 1 | D30: CUMPLE | E30: CUMPLE | F30: CUMPLE | K30: 1758113.3
C31: Volqueta # 2 | D31: CUMPLE | E31: CUMPLE | F31: CUMPLE | K31: 181237.27 | L31: =M31 -> 0
C32: Taladro neumático | D32: CUMPLE | E32: CUMPLE | F32: CUMPLE | K32: =K30/K31 -> 9.7006168
C33: Concretera | D33: CUMPLE | E33: CUMPLE | F33: CUMPLE
C34: Elevador | D34: CUMPLE | E34: CUMPLE | F34: CUMPLE
C35: Alisador de Piso | D35: CUMPLE | E35: CUMPLE | F35: CUMPLE
C36: Vibrador | D36: CUMPLE | E36: CUMPLE | F36: CUMPLE
B43: Índices Financieros | C43: Indice de Solvencia >=1 | D43: CUMPLE | E43: NO CUMPLE | F43: CUMPLE
C44: Indice Estructural >=0.3 | D44: NO CUMPLE | E44: CUMPLE | F44: NO CUMPLE
C45: Indice de Endeudamiento < 1.5 | D45: NO CUMPLE | E45: CUMPLE | F45: NO CUMPLE
B46: Personal Técnico Mínimo | C46: Ing. Civil - Superintendente | D46: CUMPLE | E46: CUMPLE | F46: CUMPLE
C47: Ing. Civil - Residente | D47: CUMPLE | E47: CUMPLE | F47: CUMPLE
C48: Ing. Civil / Geotécnico - Asfaltos | D48: CUMPLE | E48: CUMPLE | F48: CUMPLE
C49: Técnico Ambiental | D49: CUMPLE | E49: CUMPLE | F49: CUMPLE
...

Sheet Etapa 2
B1: ='Etapa 1'!B1:G1 -> LICO - GPI - 0007 - 2012 (ETAPA I: CHECKLIST)
C3: Descripción: | E3: ='Etapa 1'!D3 -> CONSTRUCCI{ON DEL EDIFICIO "CENTRO DE INTEGRACIÓN PROVINCIAL"
C4: Presupuesto Referencial: | E4: ='Etapa 1'!D4 -> 870000 | G4: Adjudicación: | H4: ='Etapa 1'!G4 -> Total
C5: Forma de Pago: | E5: Anticipo 50% | G5: Plazo: | H5: ='Etapa 1'!G5 -> 300 días
G6: Vigencia: | H6: ='Etapa 1'!G6 -> 90 días
B8: Item | C8: Descripción | D8: PUNTAJE | E8: ='Etapa 1'!D8 -> JAIC CÍA. LTDA. | F8: ='Etapa 1'!E8 -> BUENAÑO VINUEZA FAUSTO GERARDO | G8: ='Etapa 1'!F8 -> CONSTRUCTORA ANDRADE RODAS- VIP S.A.
B9: a) | C9: Experiencia en Trabajos Similares | D9: 30 | F9: ='Exp. Similar'!H24 -> 11.87 | G9: ='Exp. Similar'!K24 -> 30
B10: b) | C10: Metodología y Cronograma | D10: 5 | F10: =Metodologia!H19 -> 4 | G10: =Metodologia!J19 -> 4
B11: c) | C11: Experiencia Personal Técnico | D11: 15 | F11: ='Exp. Técnico'!G79 -> 4.4935296 | G11: ='Exp. Técnico'!J79 -> 14
B12: d) | C12: Participación Nacional | D12: 10 | F12: 10 | G12: 10
B13: e) | C13: Oferta Económica | D13: 40 | F13: =Ofertas!F37 -> 38.763855 | G13: =Ofertas!F38 -> 40
B14: RESULTADO EVALUACIÓN (ETAPA II) | D14: =SUM(D9:D13) -> 100 | F14: =SUM(F9:F13) -> 69.127384 | G14: =SUM(G9:G13) -> 98
E21: Ing. Gloría Realpe
E22: PRESIDENTA DE LA COMISIÓN
C28: Ing. Jaime Pérez | G28: Ing. Patricio Jaramillo
C29: PROFESIONAL AFÍN | G29: AREA REQUIRENTE
C35: Mgs. Miguel Solá | G35: Ing. María Morales
C36: PROCURADOR SÍNDICO | G36: SUBDIRECTORA FINANCIERA
C44: 13-A | F44: 99.303 | G44: 94.554
C45: 13-B | F45: 93.112 | G45: 93.112

Sheet Exp. Similar
D5: ='Etapa 1'!D8 -> JAIC CÍA. LTDA. | G5: ='Etapa 1'!E8 -> BUENAÑO VINUEZA FAUSTO GERARDO | J5: ='Etapa 1'!F8 -> CONSTRUCTORA ANDRADE RODAS- VIP S.A. | M5: ='Etapa 1'!G8 -> OBSERVACIONES
B6: Experiencia de trabajos similares | D6: Descripción | E6: Monto | F6: Acepta | G6: Descripción | H6: Monto | I6: Acepta | J6: Descripción | K6: Monto | L6: Acepta | M6: Descripción | N6: Monto | O6: Acepta
D7: Construcción del edificio Bonanza de la ciudad de Quito, 8 plantas y 2 sub suelos | E7: 2112500 | F7: SI | G7: Construcción del Hotel Plaza Victoria ubicada en la ciudad de Ibarra calle Bolivar y Rafael Larrea | H7: 525366 | I7: SI | J7: Construcción Edificio Diamont Tnnis 1 Quito | K7: 2117759.5 | L7: SI
D8: Construcción y refrozamineto del coliseo metálico del almacenamiento de Klinker en f´brica Lafarge | E8: 118332.22 | F8: NO | G8: Construcción de la tercera etapa del Edificio de Post grado CAI de la UTN | H8: 162895.24 | I8: SI | J8: Construcción Edificio Matriz de la Cooperativa Angel Flores Ltda | K8: 144878.41 | L8: SI
G9: Construcción planta baja del Edificio Modular de la UTN | H9: 161754.7
G10: Construcción de la cuarta etapa del edificio CAI de la UTN | H10: 204333.63
B14: Presupuesto Referencial: | C14: ='Etapa 1'!D4 -> 870000
B15: % | C15: 2
B19: Monto Base | C19: =C14*C15 -> 1740000
E22: =SUMIF(F7:F13,"si",E7:E13) -> 2112500 | H22: =SUMIF(I7:I13,"si",H7:H13) -> 688261.24 | K22: =SUMIF(L7:L12,"si",K7:K12) -> 2262637.9 | N22: =SUMIF(O7:O21,"si",N7:N21) -> 0
B23: Porcentaje | E23: =IF(E22/$C$19<1,E22/$C$19,1) -> 1 | H23: =IF(H22/$C$19<1,H22/$C$19,1) -> 0.39555244 | K23: =IF(K22/$C$19<1,K22/$C$19,1) -> 1 | N23: =IF(N22/$C$19<1,N22/$C$19,1) -> 0
B24: Valor Base | C24: 30 | E24: =ROUND(E23*$C$24,2) -> 30 | H24: =ROUND(H23*$C$24,2) -> 11.87 | K24: =ROUND(K23*$C$24,2) -> 30 | N24: =ROUND(N23*$C$24,2) -> 0

Sheet Metodologia
E5: ='Etapa 1'!D8 -> JAIC CÍA. LTDA. | G5: ='Etapa 1'!E8 -> BUENAÑO VINUEZA FAUSTO GERARDO | I5: ='Etapa 1'!F8 -> CONSTRUCTORA ANDRADE RODAS- VIP S.A. | K5: ='Etapa 1'!G8 -> OBSERVACIONES
C7: Descripción | E7: Describe | F7: % | G7: Describe | H7: % | I7: Describe | J7: % | K7: Describe | L7: %
C8: Metodología | D8: 0.4 | E8: SI | F8: =IF(E8="si",$D8,0) -> 0.4 | G8: SI | H8: =IF(G8="si",$D8,0) -> 0.4 | I8: SI | J8: =IF(I8="si",$D8,0) -> 0.4 | K8: SI | L8: =IF(K8="si",$D8,0) -> 0.4
C9: Cuidado Ambiental | D9: 0.2 | E9: SI | F9: =IF(E9="si",$D9,0) -> 0.2 | G9: SI | H9: =IF(G9="si",$D9,0) -> 0.2 | I9: SI | J9: =IF(I9="si",$D9,0) -> 0.2 | K9: SI | L9: =IF(K9="si",$D9,0) -> 0.2
C10: Seguridad Industrial | D10: 0.2 | E10: SI | F10: =IF(E10="si",$D10,0) -> 0.2 | G10: SI | H10: =IF(G10="si",$D10,0) -> 0.2 | I10: SI | J10: =IF(I10="si",$D10,0) -> 0.2 | K10: SI | L10: =IF(K10="si",$D10,0) -> 0.2
C11: Cronograma | D11: 0.2 | E11: SI | F11: =IF(E11="si",D11,0) -> 0.2 | G11: NO | H11: =IF(G11="si",$D11,0) -> 0 | I11: NO | J11: =IF(I11="si",H11,0) -> 0 | K11: SI | L11: =IF(K11="si",$D11,0) -> 0.2
C18: Total Porcentaje | D18: =SUM(D8:D16) -> 1 | F18: =SUM(F8:F16) -> 1 | H18: =SUM(H8:H16) -> 0.8 | J18: =SUM(J8:J16) -> 0.8 | L18: =SUM(L8:L16) -> 1
C19: Puntuación | D19: 5 | F19: =$D$19*F18 -> 5 | H19: =$D$19*H18 -> 4 | J19: =$D$19*J18 -> 4 | L19: =$D$19*L18 -> 5

Sheet Exp. Técnico
G2: ='Etapa 1'!D4 -> 870000
C4: ='Etapa 1'!D8 -> JAIC CÍA. LTDA. | F4: ='Etapa 1'!E8 -> BUENAÑO VINUEZA FAUSTO GERARDO | I4: ='Etapa 1'!F8 -> CONSTRUCTORA ANDRADE RODAS- VIP S.A. | L4: ='Etapa 1'!G8 -> OBSERVACIONES
B5: Personal Técnico | C5: Descripción | E5: Se acepta | F5: Descripción | G5: Monto | H5: Se acepta | I5: Descripción | J5: Monto | K5: Se acepta | L5: Descripción | M5: Monto | N5: Se acepta
G6: US$ | J6: US$ | M6: US$
C7: Carlos Eduardo Carpio Garces | F7: Fausto Buenaño | I7: Raúl Esteban Gavela Chavez
E8: SI | F8: ='Exp. Similar'!G7 -> Construcción del Hotel Plaza Victoria ubicada en la ciudad de Ibarra calle Bolivar y Rafael Larrea | G8: ='Exp. Similar'!H7 -> 525366 | H8: ='Exp. Similar'!I7 -> SI | I8: Gerente general en la obra del edificio Diamont | J8: ='Exp. Similar'!K7 -> 2117759.5 | K8: SI
B9: Ingeniero Civil | F9: ='Exp. Similar'!G8 -> Construcción de la tercera etapa del Edificio de Post grado CAI de la UTN | G9: ='Exp. Similar'!H8 -> 162895.24 | H9: ='Exp. Similar'!I8 -> SI
F10: ='Exp. Similar'!G9 -> Construcción planta baja del Edificio Modular de la UTN | G10: ='Exp. Similar'!H9 -> 161754.7 | H10: ='Exp. Similar'!I9 -> 0
B11: Gerente del Proyecto | F11: ='Exp. Similar'!G10 -> Construcción de la cuarta etapa del edificio CAI de la UTN | G11: ='Exp. Similar'!H10 -> 204333.63 | H11: ='Exp. Similar'!I10 -> 0
C13: Monto de Trabajos | D13: =SUMIF(E8:E11,"si",D8:D11) -> 0 | F13: Monto de Trabajos | G13: =SUMIF(H8:H11,"si",G8:G11) -> 688261.24 | I13: Monto de Trabajos | J13: =SUMIF(K8:K11,"si",J8:J11) -> 2117759.5 | L13: Monto de Trabajos
C14: Puntuación Obtenida | D14: =IF(D13*8/$G$2>8,8) -> FALSE | F14: Puntuación Obtenida | G14: =IF(G13*8/$G$2>8,8) -> FALSE | I14: Puntuación Obtenida | J14: =IF(J13*8/$G$2>8,8) -> 8 | L14: Puntuación Obtenida | M14: =IF(M13*8/$G$2>8,8) -> FALSE
C15: Luis Cazerez Figueroa | F15: Arturo León Ortiz | I15: Luis Javier Narvqez Vaca
C16: Adecuación de la casa barrial, aceras del barrio 1 de Enero de Alpachaca | D16: 10980 | E16: NO | F16: Construcción 7 viviendas del Bono | G16: 280000 | H16: SI | I16: Superintendente de la construcción del Edificio Lugano en la ciudad de Quito | J16: 980000 | K16: SI
F17: Superintendente en la construcción del Edificio Torres de la Colón ubicado en la calle Ibarra | G17: 800000
F18: Construcción Edificio EMELNORTE de la ciudad de San Gabriel | G18: 149311.45
B19: Ingeniero Civil
B21: Superintendente
B23: 3.0
C26: Monto de Trabajos | D26: =SUMIF(E16:E23,"si",D16:D23) -> 0 | F26: Monto de Trabajos | G26: =SUMIF(H16:H23,"si",G16:G23) -> 280000 | I26: Monto de Trabajos | J26: =SUMIF(K16:K23,"si",J16:J23) -> 980000 | L26: Monto de Trabajos | M26: =SUMIF(N16:N23,"si",M16:M23) -> 0
C27: Puntuación Obtenida | D27: =IF(D26>$G$2,3,3*D26/$G$2) -> 0 | F27: Puntuación Obtenida | G27: =IF(G26>$G$2,3,3*G26/$G$2) -> 0.96551724 | I27: Puntuación Obtenida | J27: =IF(J26>$G$2,3,3*J26/$G$2) -> 3 | L27: Puntuación Obtenida | M27: =IF(M26>$G$2,3,M26/$G$2) -> 0
C28: Pablo Fernando Perugachi | F28: Edgar Ledesma Alarcón | I28: Carlos Narvaez Rosero
C29: Residente de obra en el Proyecto Construcción de la Residencia del Dr. Aguinaga | E29: NO | F29: Reubicación del Centro Obstétrico y Neonatologia del Hospital de IESS | G29: 544229.85 | I29: Residente de obra en el Proyecto Residendial Marbella en la parroquia Calderón cantón Quito | J29: 1800000 | K29: SI | N29: SI
B30: Especialista | F30: Ampliación y remodelación de Terapia del IESS | G30: 114195.04 | K30: NO
F31: Remodelación del Quirófano Central de Cuidados Intensivos del hospital de Quito | G31: 271356.83
B32: Residente
B34: 3.0
C36: Monto de Trabajos | D36: =SUMIF(E29:E31,"si",D29:D31) -> 0 | F36: Monto de Trabajos | G36: =SUM(G29:G35) -> 929781.72 | I36: Monto de Trabajos | J36: =SUMIF(K29:K31,"si",J29:J31) -> 1800000 | L36: Monto de Trabajos | M36: =SUMIF(N29:N34,"si",M29:M34) -> 0
C37: Puntuación Obtenida | D37: =IF(D36>$G$2,3,3*D36/$G$2) -> 0 | F37: Puntuación Obtenida | G37: =IF(G36>$G$2,3,3*G36/$G$2) -> 3 | I37: Puntuación Obtenida | J37: =IF(J36>$G$2,3,3*J36/$G$2) -> 3 | L37: Puntuación Obtenida | M37: =IF(M36>$G$2,3,M36/$G$2) -> 0
C38: Carlos Jaramillo Vinueza | F38: Luis Alberto Pupiales Angamarca | I38: Patricio Mejía Yandum
C39: Construcción de Mercado de comercialización de 700m2 en estrucra metálica y cimentación profunda, en la ciudad de Quito | D39: 29000 | F39: Construcción de Salón de Actos, Conserjeria y Aula Computo en la Escual Abelardo Paez de Sta. Ros del Tejar | G39: 92043.91 | I39: Construcción de cerramiento sobre muro perimetral y trabajos varios en el centro de rehabilitación de Tulcán
B40: Ingeniero Civil | F40: Edificio de cuatro plantas del Sr. Fernando García en el conjunto habitacional San Andres de la ciudad de Ibarra | G40: 188200.5
B42: Estructural
B44: 3.0
C46: Monto de Trabajos | D46: =SUMIF(E39:E41,"si",D39:D41) -> 0 | F46: Monto de Trabajos | G46: =SUM(G39:G45) -> 280244.41 | I46: Monto de Trabajos | J46: =SUMIF(K39:K41,"si",J39:J41) -> 0 | L46: Monto de Trabajos | M46: =SUMIF(N39:N44,"si",M39:M44) -> 0
C47: Puntuación Obtenida | D47: =IF(D46>$G$2,3,3*D46/$G$2) -> 0 | F47: Puntuación Obtenida | G47: =IF(G46>$G$2,3,3*G46/$G$2) -> 0.96636003 | I47: Puntuación Obtenida | J47: =IF(J46>$G$2,3,3*J46/$G$2) -> 0 | L47: Puntuación Obtenida | M47: =IF(M46>$G$2,3,M46/$G$2) -> 0
C48: Edison Alejandro Cruz Mena | F48: Pablo Torres Burgos | I48: Diego Borja Escobar
C49: Construcción del edificio Bonanza | D49: ='Exp. Similar'!E7 -> 2112500 | F49: Centro Cultural Ibarra Fase III | G49: 103408.59
B50: Ingeniero Civil | F50: Construcción de la Fase I para la Ampliación y mejoramiento de la Bodega de Alpachaca de la EMAPA I | G50: 82909.54
F51: Construccón de 24 vivienda nuevas y 2 mejoramientos en el cantón Urcuqui parroquia Buenos Aires | G51: 123800
B52: Sanitario | F52: Adoquinado de la Av. Ricardo Sánchez entre Av. Luis Tafur y Eugenio Espejo | G52: 114828.51
...

Sheet Ofertas
B2: RESUMEN DE OFERTAS - LICITACIONES DE OBRAS
B4: LICO-GPI-0001-2012
B5: SAN PABLO - UGSHA - ZULETA | C5: 2585867.6
B7: OFERENTE | C7: US$ | D7: ORDEN | F7: 40
B8: MAQHAYES S.A. | C8: 2557047.8 | D8: 2 | F8: =$C$9/C8 -> 0.99710156 | G8: =$F$7*F8 -> 39.884062
B9: AFLOCON CIA. LTDA. | C9: 2549636.3 | D9: 1 | F9: =$C$9/C9 -> 1 | G9: =$F$7*F9 -> 40
B10: MENATLAS QUITO C.A. | C10: 2559131.2 | D10: 3 | F10: =$C$9/C10 -> 0.9962898 | G10: =$F$7*F10 -> 39.851592
B11: DPM INGENIEROS ASOCIADOS CIA. LTDA | C11: 2580854.2 | D11: 4 | F11: =$C$9/C11 -> 0.98790406 | G11: =$F$7*F11 -> 39.516162
B14: LICO-GPI-0002-2012
B15: COÑAQUI | C15: 3849551.8
B17: OFERENTE | C17: US$ | D17: ORDEN | F17: 40
B18: ASOCIACION ING. EDGAR PALACIOS Y NEXTCO | C18: 3477533.8 | D18: 1
B19: AFLOCON CIA. LTDA. | C19: 3795755.4 | D19: 4 | F19: =C21/C19 -> 0.99346702 | G19: =$F$17*F19 -> 39.738681
B20: MENATLAS QUITO C.A. | C20: 3782808.8 | D20: 3 | F20: =C21/C20 -> 0.99686715 | G20: =$F$17*F20 -> 39.874686
B21: DPM INGENIEROS ASOCIADOS CIA. LTDA | C21: 3770957.8 | D21: 2 | F21: =C21/C21 -> 1 | G21: =$F$17*F21 -> 40
B24: LICO-GPI-0003-2012
B25: SAN BLAS - TIMBUYACU | C25: 1201000
B27: OFERENTE | C27: US$ | D27: ORDEN
B28: CONSORCIO CIUDAD BLANCA | C28: 1165353.9 | D28: 2
B29: MENATLAS QUITO C.A. | C29: 1136390.9 | D29: 1
B30: DPM INGENIEROS ASOCIADOS CIA. LTDA | C30: 1194138.4 | D30: 3
B33: LICO-GPI-0005-2012
B34: VÍA EJIDO DE CARANQUI - SAN ANTONIO | C34: ='Etapa 1'!D4 -> 870000
B36: OFERENTE | C36: US$ | D36: ORDEN | E36: 40
B37: ='Etapa 1'!E8 -> BUENAÑO VINUEZA FAUSTO GERARDO | C37: 1687966.7 | D37: 2 | E37: =C38/C37 -> 0.96909637 | F37: =E36*E37 -> 38.763855
B38: ='Etapa 1'!F8 -> CONSTRUCTORA ANDRADE RODAS- VIP S.A. | C38: 1635802.4 | D38: 1 | E38: =C38/C38 -> 1 | F38: =E36*E38 -> 40
C39: 1194138.4 | D39: 3
B41: ELABORADO POR: JAIME PÉREZ

Sheet Civil
B1: TABLA DE DESCRIPCION DE RUBROS , UNIDADES, CANTIDADES Y PRECIOS
B2: ITEM | C2: DESCRIPCION | D2: UNIDAD | E2: CANTIDAD | F2: P.UNITARIO | G2: TOTAL
B3: 1 | C3: DERROCAMIENTO DE MAMPOSTERÍA | D3: m2 | E3: 300 | G3: =E3*F3 -> 0
B4: 2 | C4: PICADO Y DERROCAMIENTO DE ELEMENTOS DE HORMIGÓN | D4: m3 | E4: 5 | G4: =E4*F4 -> 0
B5: 3 | C5: PICADO DE PISOS | D5: m2 | E5: 50 | G5: =E5*F5 -> 0
B6: 4 | C6: DESALOJO DE MATERIAL | D6: m3 | E6: 96 | G6: =E6*F6 -> 0
B7: 5 | C7: CUBIERTA DE FIBRO CEMENTO - TEJA | D7: m2 | E7: 720 | G7: =E7*F7 -> 0
B8: 6 | C8: ESTRUCTURA METÁLICA Y DOMOS | D8: m2 | E8: 27 | G8: =E8*F8 -> 0
B9: 7 | C9: BÓVEDA METALICA Y POLICARBONATO | D9: m2 | E9: 13 | G9: =E9*F9 -> 0
B10: 8 | C10: MAMPOSTERIA DE BLOQUE 6CM MORTERO 1:6 | D10: m2 | E10: 35 | G10: =E10*F10 -> 0
B11: 9 | C11: MAMPOSTERIA DE BLOQUE 10CM MORTERO 1:4 | D11: m2 | E11: 225 | G11: =E11*F11 -> 0
B12: 10 | C12: MAMPOSTERIA DE BLOQUE 15CM MORTERO 1:4 | D12: m2 | E12: 725 | G12: =E12*F12 -> 0
B13: 11 | C13: DINTELES DE H.A. FC'= 210 KG/CM2 | D13: m3 | E13: 13 | G13: =E13*F13 -> 0
B14: 12 | C14: DINTELES CON MALLA METÀLICA ENLUCIDA | D14: m2 | E14: 27 | G14: =E14*F14 -> 0
... B73: 71 | C73: PROTECCIONES DE HIERRO - VENTANAS PB. | D73: m2 | E73: 52 | G73: =E73*F73 -> 0
B74: ESTRUCTURA METÁLICA Y DE CUBIERTA
C75: ESTRUCTURA DE PORTICO
B76: =+B73+1 -> 72 | C76: PLACA BASE(400 X 450 X 5)MM INCLUYE PERNOS Y VARILLA Ф 30 MM DE ANCLAJE | D76: u | E76: 43 | G76: =E76*F76 -> 0
B77: =+B76+1 -> 73 | C77: ANGULOS SOLDADOS A PLACA DE ANCLAJE(50X3) | D77: kg | E77: 11.2 | G77: =E77*F77 -> 0
B78: =+B77+1 -> 74 | C78: COLUMNAS DE ACERO 2G 250X200X25X5 | D78: kg | E78: 1491.24 | G78: =E78*F78 -> 0
B79: =+B78+1 -> 75 | C79: VIGAS DE ACERO 2G 200X50X15X3 | D79: kg | E79: 1445.63 | G79: =E79*F79 -> 0
C80: LOSA COOPERANTE
B81: =+B79+1 -> 76 | C81: PLACA COOPERANTE E =1.20 MM | D81: m2 | E81: 68.84 | G81: =E81*F81 -> 0
B82: =+B81+1 -> 77 | C82: VIGUETAS TIPO CAJON 2G 175X50X15X3 | D82: kg | E82: 1309.59 | G82: =E82*F82 -> 0
B83: =+B82+1 -> 78 | C83: VIGAS PERIMETRAL DE ACERO 2G 200X50X15X3 | D83: kg | E83: 849.42 | G83: =E83*F83 -> 0
C84: ESTRUCTURA DE CUBIERTA
B85: =+B83+1 -> 79 | C85: PERFILES DE ACERO LAMINADOS EN FRIO | D85: kg | E85: 9736.79 | G85: =E85*F85 -> 0
B86: HORMIGONES
B87: =+B85+1 -> 80 | C87: HORMIGÓN SIMPLE F´C = 210 KG/CM2 EN COLUMNAS (INCLUYE ENCOFRADO) | D87: m3 | E87: 33 | G87: =E87*F87 -> 0
B88: =+B87+1 -> 81 | C88: HORMIGÓN SIMPLE F´C = 210 KG/CM2 EN VIGAS (INCLUYE ENCOFRADO) | D88: m3 | E88: 82.99 | G88: =E88*F88 -> 0
B89: =+B88+1 -> 82 | C89: HORMIGÓN SIMPLE F´C = 210 KG/CM2 EN LOSAS | D89: m3 | E89: 104.15 | G89: =E89*F89 -> 0
B90: =+B89+1 -> 83 | C90: HORMIGÓN SIMPLE F´C = 210 KG/CM2 GRADAS | D90: m3 | E90: 5.91 | G90: =E90*F90 -> 0
B91: =+B90+1 -> 84 | C91: HORMIGON SIMPLE F'C= 210 KG/CM2 EN CAJA DE ASCENSOR | D91: m3 | E91: 3.09 | G91: =E91*F91 -> 0
B92: =+B91+1 -> 85 | C92: ACERO DE REFUERZO FY: 4200 KG/CM2 | D92: kg | E92: 22245.07 | G92: =E92*F92 -> 0
B93: =+B92+1 -> 86 | C93: BLOQUES DE HORMIGON 40 X 20 X 25 | D93: u | E93: 1159 | G93: =E93*F93 -> 0
B94: =+B93+1 -> 87 | C94: BLOQUES DE HORMIGON 40 X 20 X 20 | D94: u | E94: 1270 | G94: =E94*F94 -> 0
B95: RUBROS DE INTERVENCIÓN URBANA
B96: =+B94+1 -> 88 | C96: LEVANTAMIENTO DE BORDILLOS | D96: m | E96: 100 | G96: =E96*F96 -> 0
B97: =+B96+1 -> 89 | C97: LEVANTAMIENTO DE ACERAS | D97: m2 | E97: 180 | G97: =E97*F97 -> 0
B98: =+B97+1 -> 90 | C98: LEVANTAMIENTO DE CALZADA DE PIEDRA | D98: m2 | E98: 158 | G98: =E98*F98 -> 0
...

Sheet Hidrosanitarios
B1: CENTRO DE INTEGRACIÓN PROVINCIAL
B2: RUBROS HIDROSANITARIOS
B3: ITEM | C3: COD | D3: DESCRIPCION | E3: UNIDAD | F3: CANTIDAD | G3: P.UNITARIO | H3: TOTAL
D4: INSTALACIONES DE AGUA POTABLE
D5: ACOMETIDA, ENTRADA Y SALIDA DE BOMBA
B6: 1 | C6: 505705 | D6: ACOMETIDA DOMICILIARIA AGUA POTABLE 1" | E6: u | F6: 1 | G6: 176.16 | H6: =F6*G6 -> 176.16
B7: 2 | C7: 505655 | D7: TUBERÍA AGUA POTABLE 1" CON ANCLAJE | E7: m | F7: 38.11 | G7: 9.78 | H7: =F7*G7 -> 372.7158
B8: 3 | C8: 505686 | D8: TUBERÍA AGUA POTABLE 1 1/2" CON ANCLAJE | E8: m | F8: 39.6 | G8: 23.18 | H8: =F8*G8 -> 917.928
B9: 4 | C9: 505669 | D9: VALVULA DE COMPUERTA BRONCE R/R 1 1/2" | E9: u | F9: 3 | G9: 68.8 | H9: =F9*G9 -> 206.4
B10: 5 | C10: 505670 | D10: VALVULA DE COMPUERTA BRONCE R/R 1" | E10: u | F10: 2 | G10: 43.56 | H10: =F10*G10 -> 87.12
B11: 6 | C11: 505698 | D11: VÁLVULA CHECK 1" | E11: u | F11: 1 | G11: 29.18 | H11: =F11*G11 -> 29.18
D12: COLUMNA DE AGUA C1
B13: 7 | C13: 505685 | D13: TUBERÍA AGUA POTABLE 1 1/2" | E13: m | F13: 22.9 | G13: 13.22 | H13: =F13*G13 -> 302.738
B14: 8 | C14: 505701 | D14: PUNTO DE AGUA POTABLE 3/4" CON TUB PRINCIP 1 1/4" | E14: pto | F14: 15 | G14: 36.77 | H14: =F14*G14 -> 551.55
B15: 9 | C15: 505700 | D15: PUNTO DE AGUA POTABLE 1/2" CON TUB PRINCIP 1 1/4" | E15: pto | F15: 9 | G15: 36.19 | H15: =F15*G15 -> 325.71
B16: 10 | C16: 505702 | D16: PUNTO DE AGUA POTABLE 3/4" CON TUB PRINCIP 1" | E16: pto | F16: 2 | G16: 31.56 | H16: =F16*G16 -> 63.12
B17: 11 | C17: 505662 | D17: PUNTO DE AGUA POTABLE 1/2" | E17: pto | F17: 3 | G17: 18.25 | H17: =F17*G17 -> 54.75
B18: 12 | C18: 505703 | D18: VALVULA DE COMPUERTA BRONCE R/R 1 1/4" | E18: u | F18: 11 | G18: 61 | H18: =F18*G18 -> 671
B19: 13 | C19: 505670 | D19: VALVULA DE COMPUERTA BRONCE R/R 1" | E19: u | F19: 1 | G19: 43.56 | H19: =F19*G19 -> 43.56
D20: COLUMNA DE AGUA C2
B21: 14 | C21: 505685 | D21: TUBERIA AGUA POTABLE 1 1/2" | E21: m | F21: 11.1 | G21: 13.22 | H21: =F21*G21 -> 146.742
B22: 15 | C22: 505701 | D22: PUNTO DE AGUA POTABLE 3/4" CON TUB PRINCIP 1 1/4" | E22: pto | F22: 8 | G22: 36.77 | H22: =F22*G22 -> 294.16
B23: 16 | C23: 505700 | D23: PUNTO DE AGUA POTABLE 1/2" CON TUB PRINCIP 1 1/4" | E23: pto | F23: 6 | G23: 36.19 | H23: =F23*G23 -> 217.14
B24: 17 | C24: 505702 | D24: PUNTO DE AGUA POTABLE 3/4" CON TUB PRINCIP 1" | E24: pto | F24: 6 | G24: 31.56 | H24: =F24*G24 -> 189.36
B25: 18 | C25: 505662 | D25: PUNTO DE AGUA POTABLE 1/2" | E25: pto | F25: 2 | G25: 18.25 | H25: =F25*G25 -> 36.5
B26: 19 | C26: 505670 | D26: VALVULA DE COMPUERTA BRONCE R/R 1" | E26: u | F26: 6 | G26: 43.56 | H26: =F26*G26 -> 261.36
B27: 20 | C27: 505671 | D27: VALVULA DE COMPUERTA BRONCE R/R 3/4" | E27: u | F27: 4 | G27: 19.4 | H27: =F27*G27 -> 77.6
D28: COLUMNA DE AGUA C3
B29: 21 | C29: 505685 | D29: TUBERIA AGUA POTABLE 1 1/2" | E29: m | F29: 11.1 | G29: 13.22 | H29: =F29*G29 -> 146.742
B30: 22 | C30: 505701 | D30: PUNTO DE AGUA POTABLE 3/4" CON TUB PRINCIP 1 1/4" | E30: pto | F30: 1 | G30: 36.77 | H30: =F30*G30 -> 36.77
B31: 23 | C31: 505660 | D31: PUNTO DE AGUA POTABLE 1/2" CON TUB PRINCIP 1" | E31: pto | F31: 4 | G31: 30.98 | H31: =F31*G31 -> 123.92
B32: 24 | C32: 505671 | D32: VALVULA DE COMPUERTA BRONCE R/R 3/4" | E32: u | F32: 1 | G32: 19.4 | H32: =F32*G32 -> 19.4
D33: COLUMNA RIEGO ECOLÓGICO
B34: 25 | C34: 505689 | D34: TUBERÍA AGUA POTABLE 3/4" CON ANCLAJE | E34: m | F34: 5 | G34: 5.93 | H34: =F34*G34 -> 29.65
B35: 26 | C35: 505687 | D35: TUBERÍA AGUA POTABLE 1" | E35: m | F35: 1 | G35: 9.59 | H35: =F35*G35 -> 9.59
B36: 27 | C36: 505690 | D36: TUBERÍA AGUA POTABLE 3/4" | E36: m | F36: 10.7 | G36: 3.35 | H36: =F36*G36 -> 35.845
B37: 28 | C37: 505662 | D37: PUNTO DE AGUA POTABLE 1/2" | E37: pto | F37: 8 | G37: 18.25 | H37: =F37*G37 -> 146
B38: 29 | C38: 505671 | D38: VALVULA DE COMPUERTA BRONCE R/R 3/4" | E38: u | F38: 1 | G38: 19.4 | H38: =F38*G38 -> 19.4
B39: 30 | C39: 505670 | D39: VALVULA DE COMPUERTA BRONCE R/R 1" | E39: u | F39: 1 | G39: 43.56 | H39: =F39*G39 -> 43.56
B40: 31 | C40: 505698 | D40: VÁLVULA CHECK 1" | E40: u | F40: 1 | G40: 29.18 | H40: =F40*G40 -> 29.18
...

Sheet Electricos
B1: CENTRO DE INTEGRACIÓN PROVINCIAL
B2: RUBROS HIDROSANITARIOS
B3: ITEM | C3: COD | D3: DESCRIPCION | E3: UNIDAD | F3: CANTIDAD | G3: P.UNITARIO | H3: TOTAL
B4: 1 | D4: Punto de iluminacion Normal | E4: u | F4: 433 | G4: 21.5 | H4: =F4*G4 -> 9309.5
B5: 2 | D5: Punto de iluminacion conmutada | E5: u | F5: 10 | G5: 33.2 | H5: =F5*G5 -> 332
B6: 3 | D6: Punto iluminacion dimerizable | E6: u | F6: 36 | G6: 22.5 | H6: =F6*G6 -> 810
B7: 4 | D7: Punto para sensor fotoeléctrico | E7: u | F7: 7 | G7: 17.2 | H7: =F7*G7 -> 120.4
B8: 5 | D8: Punto de tomacorriente normal | E8: u | F8: 176 | G8: 26.5 | H8: =F8*G8 -> 4664
B9: 6 | D9: Sensor fotoeléctrico | E9: u | F9: 7 | G9: 43 | H9: =F9*G9 -> 301
B10: 7 | D10: Pieza de Interruptor simple | E10: u | F10: 67 | G10: 4.3 | H10: =F10*G10 -> 288.1
B11: 8 | D11: Pieza de Interruptor doble | E11: u | F11: 6 | G11: 6.7 | H11: =F11*G11 -> 40.2
B12: 9 | D12: Pieza Conmutador simple | E12: u | F12: 10 | G12: 6.7 | H12: =F12*G12 -> 67
B13: 10 | D13: Pieza de Interruptor triple | E13: u | F13: 4 | G13: 7.18 | H13: =F13*G13 -> 28.72
B14: 11 | D14: Pieza tomacorriente doble polarizado | E14: u | F14: 176 | G14: 6.18 | H14: =F14*G14 -> 1087.68
B15: 12 | D15: Tablero de distribución 6 espacios trifasicos | E15: u | F15: 3 | G15: 108.96 | H15: =F15*G15 -> 326.88
B16: 13 | D16: Tablero de distribución 20 espacios trifasicos | E16: u | F16: 4 | G16: 268.66 | H16: =F16*G16 -> 1074.64
B18: =B16+1 -> 14 | D18: Tablero de distribución Especial TDP | E18: u | F18: 1 | G18: 1920 | H18: =F18*G18 -> 1920
B19: =B18+1 -> 15 | D19: Protección principal 3P 150 A
B20: =B19+1 -> 16 | D20: 1 Termico 3P 60 A
B21: =B20+1 -> 17 | D21: 3 Termico 3P 50 A
B22: =B21+1 -> 18 | D22: 3 Termico 3P 30 A
B24: =B22+1 -> 19 | D24: Térmico de 1 polo hasta 20 A | E24: u | F24: 36 | G24: 5.86 | H24: =F24*G24 -> 210.96
B25: =B24+1 -> 20 | D25: Térmico de 1 polo hasta 30 A | E25: u | F25: 27 | G25: 5.86 | H25: =F25*G25 -> 158.22
B26: =B25+1 -> 21 | D26: Bandeja tipo escalerilla de 2,4mx 200x80 mm (con accesorios) | E26: u | F26: 90 | G26: 52 | H26: =F26*G26 -> 4680
B27: =B26+1 -> 22 | D27: Ducto clip base troquelada 2,4mx300x100mm (con accesorios) | E27: u | F27: 9 | G27: 63 | H27: =F27*G27 -> 567
B28: =B27+1 -> 23 | D28: Alimentador a tableros distribuc THHN 3x#6+1x#6+1x#6 | E28: m | F28: 2 | G28: 7.75 | H28: =F28*G28 -> 15.5
B29: =B28+1 -> 24 | D29: Alimentador a tableros distribuc THHN 3x#4+1x#4+1x#4 | E29: m | F29: 10 | G29: 21.5 | H29: =F29*G29 -> 215
B30: =B29+1 -> 25 | D30: Alimentador a tableros distribuc THHN 3x#4+1x#4+1x#4 | E30: m | F30: 13 | G30: 21.5 | H30: =F30*G30 -> 279.5
B31: =B30+1 -> 26 | D31: Alimentador a tableros distribuc THHN 3x#4+1x#4+1x#4 | E31: m | F31: 17 | G31: 21.5 | H31: =F31*G31 -> 365.5
B32: =B31+1 -> 27 | D32: Alimentador a tableros distribuc THHN 3x#4+1x#4+1x#4 | E32: m | F32: 20 | G32: 21.5 | H32: =F32*G32 -> 430
B33: =B32+1 -> 28 | D33: Alimentador a tableros distribuc THHN 3x#6+1x#6+1x#8 | E33: m | F33: 48 | G33: 14.72 | H33: =F33*G33 -> 706.56
B34: 29 | D34: Alimentador TTU 3x#1/0+ Cu.Des1x#1/0+THHN1x4. | E34: m | F34: 6 | G34: 43.99 | H34: =F34*G34 -> 263.94
B36: =B34+1 -> 30 | D36: Generador de 60 kVA efectivos | E36: u | F36: 1 | G36: 27700 | H36: =F36*G36 -> 27700
B37: =B36+1 -> 31 | D37: Tablero de transferencia automático 50 KVA | E37: u | F37: 1 | G37: 4300 | H37: =F37*G37 -> 4300
D39: EQUIPOS DE ALUMBRADO
B40: =B37+1 -> 32 | D40: Luminaria tipo ojo de buey de 2x15W | E40: u | F40: 99 | G40: 33.2 | H40: =F40*G40 -> 3286.8
B41: =B40+1 -> 33 | D41: Luminaria tipo ojo de buey de 2x20W | E41: u | F41: 143 | G41: 35.6 | H41: =F41*G41 -> 5090.8
B42: =B41+1 -> 34 | D42: Luminaria Accor 2X28W T5 | E42: u | F42: 117 | G42: 45.2 | H42: =F42*G42 -> 5288.4
B43: =B42+1 -> 35 | D43: Luminaria dimerizable Accor 2X28W T5 | E43: u | F43: 36 | G43: 275 | H43: =F43*G43 -> 9900
B44: =B43+1 -> 36 | D44: Luminaria sellada difusor acrilico 2X32W | E44: u | F44: 46 | G44: 48 | H44: =F44*G44 -> 2208
...

Sheet Electronicos Final
B1: CENTRO DE INTEGRACIÓN PROVINCIAL
B2: RUBROS HIDROSANITARIOS
B3: ITEM | C3: COD | D3: DESCRIPCION | E3: UNIDAD | F3: CANTIDAD | G3: P.UNITARIO | H3: TOTAL
C4: ELECTRONICOS
D5: PUNTOS DE RED
C6: 1 | D6: Cable Multipar UTP Categoría 6A | E6: m | F6: 1525.65 | G6: 1.84 | H6: =F6*G6 -> 2807.196
C7: 2 | D7: Jacks RJ45 Categoría 6A | E7: u | F7: 38 | G7: 17.9 | H7: =F7*G7 -> 680.2
C8: 3 | D8: Face Plate de 1 Puerto | E8: u | F8: 26 | G8: 5.16 | H8: =F8*G8 -> 134.16
C9: 4 | D9: Face Plate de 2 Puertos | E9: u | F9: 6 | G9: 5.4 | H9: =F9*G9 -> 32.4
C10: 5 | D10: Patch Cord 3FT Categoría 6A | E10: u | F10: 38 | G10: 20.45 | H10: =F10*G10 -> 777.1
C11: 6 | D11: Patch Cord 7FT Categoría 6A | E11: u | F11: 38 | G11: 22.4 | H11: =F11*G11 -> 851.2
C12: 7 | D12: Tubería EMT Conduit de 1' | E12: u | F12: 35 | G12: 6.81 | H12: =F12*G12 -> 238.35
C13: 8 | D13: Conectores EMT Conduit 1' | E13: u | F13: 30 | G13: 1.46 | H13: =F13*G13 -> 43.8
C14: 9 | D14: Uniones EMT Conduit 1' | E14: u | F14: 26 | G14: 1.46 | H14: =F14*G14 -> 37.96
C15: 10 | D15: Tubería EMT Conduit de 3/4' | E15: u | F15: 79 | G15: 4.21 | H15: =F15*G15 -> 332.59
C16: 11 | D16: Conectores EMT Conduit 3/4' | E16: u | F16: 50 | G16: 0.38 | H16: =F16*G16 -> 19
C17: 12 | D17: Uniones EMT Conduit 3/4' | E17: u | F17: 45 | G17: 0.38 | H17: =F17*G17 -> 17.1
... C20: 15 | D20: Certificación de puntos de cableado | E20: u | F20: 38 | G20: 11 | H20: =F20*G20 -> 418
D21: CAMARAS | G21: 0 | H21: =F21*G21 -> 0
C22: 16 | D22: Camara Domo IR Interior | E22: u | F22: 12 | G22: 854.22 | H22: =F22*G22 -> 10250.64
C23: 17 | D23: Camara Tipo Bala IR Exterior | E23: u | F23: 2 | G23: 963.64 | H23: =F23*G23 -> 1927.28
C24: 18 | D24: Instalación de Cámaras y Configuración | E24: u | F24: 14 | G24: 17.53 | H24: =F24*G24 -> 245.42
C25: 19 | D25: Configuración de Sistema de Grabación | E25: u | F25: 1 | G25: 43.83 | H25: =F25*G25 -> 43.83
D26: ACCESS POINT | G26: 0 | H26: =F26*G26 -> 0
C27: 20 | D27: Wireless Controller 15 APs | E27: u | F27: 1 | G27: =3823.45-238.58 -> 3584.87 | H27: =F27*G27 -> 3584.87
C28: 21 | D28: Access Point de Interiores | E28: u | F28: 8 | G28: 539.4 | H28: =F28*G28 -> 4315.2
C29: 22 | D29: Instalación y configuración Access Point | E29: u | F29: 8 | G29: 34.09 | H29: =F29*G29 -> 272.72
C30: 23 | D30: Configuración y puesta en marcha Wireless Controller | E30: u | F30: 1 | G30: 248.38 | H30: =F30*G30 -> 248.38
D31: PANTALLA-PIZARRAS INTERACTIVAS | G31: 0 | H31: =F31*G31 -> 0
C32: 24 | D32: Pantalla Pizarra Interactiva 79 pulgadas diagonales Rel: 4:3 | E32: u | F32: 6 | G32: 2313.36 | H32: =F32*G32 -> 13880.16
C33: 25 | D33: Módulo para conexión inalámbrica | E33: u | F33: 6 | G33: 185.06 | H33: =F33*G33 -> 1110.36
C34: 26 | D34: Proyector tiro corto DLP | E34: u | F34: 6 | G34: 925.34 | H34: =F34*G34 -> 5552.04
C35: 27 | D35: Soporte Para Pantalla | E35: u | F35: 6 | G35: 292.21 | H35: =F35*G35 -> 1753.26
C36: 28 | D36: Instalación y puesta en marcha | E36: u | F36: 6 | G36: 146.1 | H36: =F36*G36 -> 876.6
D37: CONTROL DE ACCESO | G37: 0 | H37: =F37*G37 -> 0
C38: 1 | D38: Módulo Principal de Control de Acceso incluye software de Gestión | E38: u | F38: 1 | G38: 701.31 | H38: =F38*G38 -> 701.31
C39: 2 | D39: Módulo de Control de Acceso con Wiegand 26 bits | E39: u | F39: 1 | G39: 136.36 | H39: =F39*G39 -> 136.36
C40: 3 | D40: Cajas Metálicas para módulos | E40: u | F40: 2 | G40: 14.61 | H40: =F40*G40 -> 29.22
C41: 4 | D41: Lectoras de Proximidad | E41: u | F41: 2 | G41: 175.32 | H41: =F41*G41 -> 350.64
C42: 5 | D42: Interfaz de conexión IP | E42: u | F42: 1 | G42: 180.19 | H42: =F42*G42 -> 180.19
...

Sheet Electronicos
B1: CENTRO DE INTEGRACIÓN PROVINCIAL
B2: RUBROS HIDROSANITARIOS
B3: ITEM | C3: COD | D3: DESCRIPCION | E3: UNIDAD | F3: CANTIDAD | G3: P.UNITARIO | H3: TOTAL
C4: ELECTRONICOS
D5: PUNTOS DE RED
C6: 1 | D6: Cable Multipar UTP Categoría 6A | E6: m | F6: 1525.65 | G6: 1.84 | H6: =F6*G6 -> 2807.196
C7: 2 | D7: Jacks RJ45 Categoría 6A | E7: u | F7: 38 | G7: 17.9 | H7: =F7*G7 -> 680.2
C8: 3 | D8: Face Plate de 1 Puerto | E8: u | F8: 26 | G8: 5.16 | H8: =F8*G8 -> 134.16
C9: 4 | D9: Face Plate de 2 Puertos | E9: u | F9: 6 | G9: 5.4 | H9: =F9*G9 -> 32.4
C10: 5 | D10: Patch Cord 3FT Categoría 6A | E10: u | F10: 38 | G10: 20.45 | H10: =F10*G10 -> 777.1
C11: 6 | D11: Patch Cord 7FT Categoría 6A | E11: u | F11: 38 | G11: 22.4 | H11: =F11*G11 -> 851.2
C12: 7 | D12: Tubería EMT Conduit de 1' | E12: u | F12: 35 | G12: 6.81 | H12: =F12*G12 -> 238.35
C13: 8 | D13: Conectores EMT Conduit 1' | E13: u | F13: 30 | G13: 1.46 | H13: =F13*G13 -> 43.8
C14: 9 | D14: Uniones EMT Conduit 1' | E14: u | F14: 26 | G14: 1.46 | H14: =F14*G14 -> 37.96
C15: 10 | D15: Tubería EMT Conduit de 3/4' | E15: u | F15: 79 | G15: 4.21 | H15: =F15*G15 -> 332.59
C16: 11 | D16: Conectores EMT Conduit 3/4' | E16: u | F16: 50 | G16: 0.38 | H16: =F16*G16 -> 19
C17: 12 | D17: Uniones EMT Conduit 3/4' | E17: u | F17: 45 | G17: 0.38 | H17: =F17*G17 -> 17.1
... C20: 15 | D20: Certificación de puntos de cableado | E20: u | F20: 38 | G20: 11 | H20: =F20*G20 -> 418
D21: CAMARAS | G21: 0 | H21: =F21*G21 -> 0
C22: 16 | D22: Camara Domo IR Interior | E22: u | F22: 12 | G22: 854.22 | H22: =F22*G22 -> 10250.64
C23: 17 | D23: Camara Tipo Bala IR Exterior | E23: u | F23: 2 | G23: 963.64 | H23: =F23*G23 -> 1927.28
C24: 18 | D24: Instalación de Cámaras y Configuración | E24: u | F24: 14 | G24: 17.53 | H24: =F24*G24 -> 245.42
C25: 19 | D25: Configuración de Sistema de Grabación | E25: u | F25: 1 | G25: 43.83 | H25: =F25*G25 -> 43.83
D26: ACCESS POINT | G26: 0 | H26: =F26*G26 -> 0
C27: 20 | D27: Wireless Controller 15 APs | E27: u | F27: 1 | G27: =3823.45-238.58 -> 3584.87 | H27: =F27*G27 -> 3584.87
C28: 21 | D28: Access Point de Interiores | E28: u | F28: 8 | G28: 539.4 | H28: =F28*G28 -> 4315.2
C29: 22 | D29: Instalación y configuración Access Point | E29: u | F29: 8 | G29: 34.09 | H29: =F29*G29 -> 272.72
C30: 23 | D30: Configuración y puesta en marcha Wireless Controller | E30: u | F30: 1 | G30: 248.38 | H30: =F30*G30 -> 248.38
D31: PANTALLA-PIZARRAS INTERACTIVAS | G31: 0 | H31: =F31*G31 -> 0
C32: 24 | D32: Pantalla Pizarra Interactiva 79 pulgadas diagonales Rel: 4:3 | E32: u | F32: 6 | G32: 2313.36 | H32: =F32*G32 -> 13880.16
C33: 25 | D33: Módulo para conexión inalámbrica | E33: u | F33: 6 | G33: 185.06 | H33: =F33*G33 -> 1110.36
C34: 26 | D34: Proyector tiro corto DLP | E34: u | F34: 6 | G34: 925.34 | H34: =F34*G34 -> 5552.04
C35: 27 | D35: Soporte Para Pantalla | E35: u | F35: 6 | G35: 292.21 | H35: =F35*G35 -> 1753.26
C36: 28 | D36: Instalación y puesta en marcha | E36: u | F36: 6 | G36: 146.1 | H36: =F36*G36 -> 876.6
D37: CONTROL DE ACCESO | G37: 0 | H37: =F37*G37 -> 0
C38: 1 | D38: Módulo Principal de Control de Acceso incluye software de Gestión | E38: u | F38: 1 | G38: 701.31 | H38: =F38*G38 -> 701.31
C39: 2 | D39: Módulo de Control de Acceso con Wiegand 26 bits | E39: u | F39: 1 | G39: 136.36 | H39: =F39*G39 -> 136.36
C40: 3 | D40: Cajas Metálicas para módulos | E40: u | F40: 2 | G40: 14.61 | H40: =F40*G40 -> 29.22
C41: 4 | D41: Lectoras de Proximidad | E41: u | F41: 2 | G41: 175.32 | H41: =F41*G41 -> 350.64
C42: 5 | D42: Interfaz de conexión IP | E42: u | F42: 1 | G42: 180.19 | H42: =F42*G42 -> 180.19
...

Sheet Mobiliario
A1: PRESUPUESTO DE MOBILIARIO
A2: EDIFICIO CENTRO DE INTEGRACIÓN PROVINCIAL
A3: GOBIERNO PROVINCIAL D EIMBABURA
A5: RUBRO | B5: UNIDAD | C5: P. UNITARIO $ | D5: P. TOTAL $
A6: SUBSUELO
A7: PLANTA BAJA
A8: Escritorio | B8: 1 | C8: 282 | D8: =B8*C8 -> 282
A9: Silla | B9: 1 | C9: 65 | D9: =B9*C9 -> 65
A10: 1. PLANTA ALTA
A11: Estación de trabajo | B11: 29 | C11: 528 | D11: =B11*C11 -> 15312
A12: Computadores | B12: 30 | C12: 850 | D12: =B12*C12 -> 25500
A13: Salas | B13: 3 | C13: 400 | D13: =B13*C13 -> 1200
A14: Mesa de reuniones | B14: 1 | C14: 800 | D14: =B14*C14 -> 800
A15: Butacas | B15: 10 | C15: 220 | D15: =B15*C15 -> 2200
A16: Estación ejecutiva | B16: 1 | C16: 700 | D16: =B16*C16 -> 700
A17: 2. PLANTA ALTA
A18: Estaciones de trabajo | B18: 14 | C18: 528 | D18: =B18*C18 -> 7392
A19: Mesa de reuniones | B19: 1 | C19: 800 | D19: =B19*C19 -> 800
A20: Sillones | B20: 32 | C20: 220 | D20: =B20*C20 -> 7040
A21: Butacas | B21: 72 | C21: 220 | D21: =B21*C21 -> 15840
A22: Mesa directiva | B22: 1 | C22: 250 | D22: =B22*C22 -> 250
A23: Juego de sala | B23: 3 | C23: 400 | D23: =B23*C23 -> 1200
A24: 3. PLANTA ALTA
A25: Mesas | B25: 20 | C25: 370 | D25: =B25*C25 -> 7400
A26: Sillas | B26: 70 | C26: 65 | D26: =B26*C26 -> 4550
A27: Juegos de sala | B27: 2 | C27: 350 | D27: =B27*C27 -> 700
A28: Mesas de trabajo | B28: 7 | C28: 900 | D28: =B28*C28 -> 6300
A29: Sillas | B29: 34 | C29: 65 | D29: =B29*C29 -> 2210
A31: TOTAL | D31: 162741
A32: SON: CIENTO SESENTA Y DOS MIL SETECIENTOS CUARENTA Y UN DÓLARES

Sheet Rubros Civil
B1: CENTRO DE INTEGRACIÓN PROVINCIAL
B2: RUBROS ARQUITECTONICOS
B3: ITEM | C3: COD | D3: DESCRIPCION | E3: UNIDAD | F3: CANTIDAD | G3: P.UNITARIO | H3: TOTAL
B4: 1 | D4: ACERO DE REFUERZO FY: 4200 KG/CM2 | E4: kg | F4: 22245.07 | G4: 2.06 | H4: =F4*G4 -> 45824.844 | J4: REVESTIMIENTO DE PISOS Y ESCALERAS | K4: m2 | L4: 3340 | M4: 33.6 | N4: 112224 | O4: =N4/N$112 -> 0.19183668 | P4: =O4 -> 0.19183668 | S4: ACERO DE REFUERZO FY: 4200 KG/CM2 | T4: kg
B5: 2 | D5: ADOQUIN DE ARCILLA EN CALZADA 10 X 30 X 7 CM. | E5: m2 | F5: 14 | G5: 19.36 | H5: =F5*G5 -> 271.04 | J5: ASCENSOR | K5: u | L5: 1 | M5: 53597.65 | N5: 53597.65 | O5: =N5/N$112 -> 0.091620287 | P5: =P4+O5 -> 0.28345696 | S5: ADOQUIN DE ARCILLA EN CALZADA 10 X 30 X 7 CM. | T5: m2
B6: 3 | D6: ADOQUINADO DECORATIVO EN ACERAS | E6: m2 | F6: 19.2 | G6: 19.01 | H6: =F6*G6 -> 364.992 | J6: ACERO DE REFUERZO FY: 4200 KG/CM2 | K6: kg | L6: 22245.07 | M6: 2.06 | N6: 45824.844 | O6: =N6/N$112 -> 0.078333385 | P6: =P5+O6 -> 0.36179035 | S6: ADOQUINADO DECORATIVO EN ACERAS | T6: m2
B7: 4 | D7: ALFOMBRADO.- | E7: m2 | F7: 126 | G7: 15.82 | H7: =F7*G7 -> 1993.32 | J7: CIELO RASO FALSO DE FIBRA MINERAL | K7: m2 | L7: 2346 | M7: 17.64 | N7: 41383.44 | O7: =N7/N$112 -> 0.07074121 | P7: =P6+O7 -> 0.43253156 | S7: ALFOMBRADO.- | T7: m2
B8: 5 | D8: ANGULOS SOLDADOS A PLACA DE ANCLAJE(50X3) | E8: kg | F8: 11.2 | G8: 3.32 | H8: =F8*G8 -> 37.184 | J8: PERFILES DE ACERO LAMINADOS EN FRIO | K8: kg | L8: 9736.79 | M8: 3.32 | N8: 32326.143 | O8: =N8/N$112 -> 0.055258588 | P8: =P7+O8 -> 0.48779015 | S8: ANGULOS SOLDADOS A PLACA DE ANCLAJE(50X3) | T8: kg
B9: 6 | D9: ASCENSOR | E9: u | F9: 1 | G9: 53597.65 | H9: =F9*G9 -> 53597.65 | J9: HORMIGÓN SIMPLE F´C = 210 KG/CM2 EN LOSAS | K9: m3 | L9: 104.15 | M9: 273.31 | N9: 28465.237 | O9: =N9/N$112 -> 0.048658722 | P9: =P8+O9 -> 0.53644887 | S9: ASCENSOR | T9: u
B10: 7 | D10: BLOQUES DE HORMIGON 40 X 20 X 20 | E10: u | F10: 1270 | G10: 0.53 | H10: =F10*G10 -> 673.1 | J10: CUBIERTA DE FIBRO CEMENTO - TEJA | K10: m2 | L10: 720 | M10: 27.95 | N10: 20124 | O10: =N10/N$112 -> 0.03440014 | P10: =P9+O10 -> 0.57084901 | S10: BLOQUES DE HORMIGON 40 X 20 X 20 | T10: u
B11: 8 | D11: BLOQUES DE HORMIGON 40 X 20 X 25 | E11: u | F11: 1159 | G11: 0.66 | H11: =F11*G11 -> 764.94 | J11: HORMIGÓN SIMPLE F´C = 210 KG/CM2 EN VIGAS (INCLUYE ENCOFRADO) | K11: m3 | L11: 82.99 | M11: 193.51 | N11: 16059.395 | O11: =N11/N$112 -> 0.027452069 | P11: =P10+O11 -> 0.59830108 | S11: BLOQUES DE HORMIGON 40 X 20 X 25 | T11: u
B12: 9 | D12: BORDILLOS DE JARDINERAS | E12: u | F12: 12 | G12: 16.45 | H12: =F12*G12 -> 197.4 | J12: VENTANAS DE ALUMINIO -VIDRIO BRONCE | K12: m2 | L12: 318 | M12: 43.2 | N12: 13737.6 | O12: =N12/N$112 -> 0.023483172 | P12: =P11+O12 -> 0.62178425 | S12: BORDILLOS DE JARDINERAS | T12: u
B13: 10 | D13: BORDILLOS DE PIEDRA | E13: m | F13: 40 | G13: 40.03 | H13: =F13*G13 -> 1601.2 | J13: REVESTIMIENTO DE PAREDES CON CERAMICA | K13: m2 | L13: 620 | M13: 22.02 | N13: 13652.4 | O13: =N13/N$112 -> 0.023337531 | P13: =P12+O13 -> 0.64512178 | S13: BORDILLOS DE PIEDRA | T13: m
B14: 11 | D14: BÓVEDA METALICA Y POLICARBONATO | E14: m2 | F14: 13 | G14: 42.43 | H14: =F14*G14 -> 551.59 | J14: INODOROS | K14: u | L14: 24 | M14: 496.62 | N14: 11918.88 | O14: =N14/N$112 -> 0.020374237 | P14: =P13+O14 -> 0.66549602 | S14: BÓVEDA METALICA Y POLICARBONATO | T14: m2
B15: 12 | D15: CAJAS DE REVISIÓN | E15: U | F15: 4 | G15: 100 | H15: =F15*G15 -> 400 | J15: FUNDICION Y MASILLADO DE PISO 6 CM. | K15: m2 | L15: 680 | M15: 14.86 | N15: 10104.8 | O15: =N15/N$112 -> 0.017273233 | P15: =P14+O15 -> 0.68276925 | S15: CAJAS DE REVISIÓN | T15: U
B16: 13 | D16: CAMA DE ARENA | E16: m3 | F16: 6 | G16: 12.72 | H16: =F16*G16 -> 76.32 | J16: ENLUCIDO VERTICAL INTERIOR | K16: m2 | L16: 2540 | M16: 3.86 | N16: 9804.4 | O16: =N16/N$112 -> 0.016759726 | P16: =P15+O16 -> 0.69952898 | S16: CAMA DE ARENA | T16: m3
... B74: 71 | D74: PLACA BASE(400 X 450 X 5)MM INCLUYE PERNOS Y VARILLA Ф 30 MM DE ANCLAJE | E74: u | F74: 43 | G74: 82.19 | H74: =F74*G74 -> 3534.17 | J74: SECADORA DE MANOS | K74: u | L74: 4 | M74: 156.29 | N74: 625.16 | O74: =N74/N$112 -> 0.0010686539 | P74: =P73+O74 -> 0.98425512 | S74: PLACA COOPERANTE E =1.20 MM | T74: m2
D75: PLACA COOPERANTE E =1.20 MM | E75: m2 | F75: 38.5 | G75: 19.15 | H75: =F75*G75 -> 737.275 | J75: LEVANTAMIENTO DE ACERAS | K75: m2 | L75: 180 | M75: 3.2 | N75: 576 | O75: =N75/N$112 -> 0.00098461938 | P75: =P74+O75 -> 0.98523973 | S75: PLANTAS EN JARDINERAS | T75: m
D76: PLACA COOPERANTE E =1.20 MM | E76: m2 | F76: 68.84 | G76: 19.15 | H76: =F76*G76 -> 1318.286 | J76: DESALOJO DE MATERIAL | K76: m3 | L76: 96 | M76: 5.8 | N76: 556.8 | O76: =N76/N$112 -> 0.00095179874 | P76: =P75+O76 -> 0.98619153 | S76: PROTECCIONES DE HIERRO - VENTANAS PB. | T76: m2
B77: 1 | D77: PLANTAS EN JARDINERAS | E77: m | F77: 56.2 | G77: 3.12 | H77: =F77*G77 -> 175.344 | J77: BÓVEDA METALICA Y POLICARBONATO | K77: m2 | L77: 13 | M77: 42.43 | N77: 551.59 | O77: =N77/N$112 -> 0.00094289272 | P77: =P76+O77 -> 0.98713443 | S77: PUERTA METAL. GIRATORIA AUTOMÁTICA DE 3.00 M | T77: u
B78: 2 | D78: PROTECCIONES DE HIERRO - VENTANAS PB. | E78: m2 | F78: 52 | G78: 70 | H78: =F78*G78 -> 3640 | J78: PUERTAS TAMPORADAS (P3=1.00M) | K78: u | L78: 3 | M78: 182.53 | N78: 547.59 | O78: =N78/N$112 -> 0.00093605508 | P78: =P77+O78 -> 0.98807048 | S78: PUERTA METALICA PLEGABLE Y BATIENTE | T78: m2
B79: 3 | D79: PUERTA METAL. GIRATORIA AUTOMÁTICA DE 3.00 M | E79: u | F79: 1 | G79: 3253.57 | H79: =F79*G79 -> 3253.57 | J79: TAPAJUNTAS VERTICAL DE MADERA.- | K79: m | L79: 52 | M79: 9.66 | N79: 502.32 | O79: =N79/N$112 -> 0.00085867015 | P79: =P78+O79 -> 0.98892915 | S79: PUERTAS BATIENTES DE VIDRIO P4=2.46 M. | T79: u
B80: 4 | D80: PUERTA METALICA PLEGABLE Y BATIENTE | E80: m2 | F80: 44.5 | G80: 67.8 | H80: =F80*G80 -> 3017.1 | J80: ESPEJOS | K80: m2 | L80: 19.5 | M80: 25.38 | N80: 494.91 | O80: =N80/N$112 -> 0.00084600344 | P80: =P79+O80 -> 0.98977516 | S80: PUERTAS BATIENTES DE VIDRIO P5 = 1.60 M. | T80: u
D81: PUERTAS BATIENTES DE VIDRIO P4=2.46 M. | E81: u | F81: 1 | G81: 202.45 | H81: =F81*G81 -> 202.45 | J81: ENLUCIDO HORIZONTAL EXTERIOR | K81: m2 | L81: 55 | M81: 8.16 | N81: 448.8 | O81: =N81/N$112 -> 0.0007671826 | P81: =P80+O81 -> 0.99054234 | S81: PUERTAS TAMBORADAS (P1=.70M.) | T81: u
B82: 5 | D82: PUERTAS BATIENTES DE VIDRIO P5 = 1.60 M. | E82: u | F82: 5 | G82: 182.05 | H82: =F82*G82 -> 910.25 | J82: CAJAS DE REVISIÓN | K82: U | L82: 4 | M82: 100 | N82: 400 | O82: =N82/N$112 -> 0.00068376346 | P82: =P81+O82 -> 0.9912261 | S82: PUERTAS TAMBORADAS (P2= .90 M.) | T82: u
B83: 6 | D83: PUERTAS TAMBORADAS (P1=.70M.) | E83: u | F83: 24 | G83: 152.84 | H83: =F83*G83 -> 3668.16 | J83: MEDIAS CAÑAS | K83: m | L83: 100 | M83: 3.67 | N83: 367 | O83: =N83/N$112 -> 0.00062735298 | P83: =P82+O83 -> 0.99185345 | S83: PUERTAS TAMPORADAS (P3=1.00M) | T83: u
B84: 7 | D84: PUERTAS TAMBORADAS (P2= .90 M.) | E84: u | F84: 41 | G84: 176.84 | H84: =F84*G84 -> 7250.44 | J84: ADOQUINADO DECORATIVO EN ACERAS | K84: m2 | L84: 19.2 | M84: 19.01 | N84: 364.992 | O84: =N84/N$112 -> 0.00062392048 | P84: =P83+O84 -> 0.99247737 | S84: RECONFORMACIÓN DE SUBRAZANTE | T84: m3
D85: PUERTAS TAMPORADAS (P3=1.00M) | E85: u | F85: 3 | G85: 182.53 | H85: =F85*G85 -> 547.59 | J85: DINTELES CON MALLA METÀLICA ENLUCIDA | K85: m2 | L85: 27 | M85: 11.88 | N85: 320.76 | O85: =N85/N$112 -> 0.00054830992 | P85: =P84+O85 -> 0.99302568 | S85: REFILAMIENTO Y PULIDA DE LA PIEDRA DE CALZADA | T85: m2
B86: 8 | D86: RECONFORMACIÓN DE SUBRAZANTE | E86: m3 | F86: 31.6 | G86: 2.1 | H86: =F86*G86 -> 66.36 | J86: REFILAMIENTO Y PULIDA DE LA PIEDRA DE CALZADA | K86: m2 | L86: 158 | M86: 1.85 | N86: 292.3 | O86: =N86/N$112 -> 0.00049966015 | P86: =P85+O86 -> 0.99352534 | S86: REFUERZO DE ACERO 10 MM. | T86: kg
B87: HORMIGONES | D87: REFILAMIENTO Y PULIDA DE LA PIEDRA DE CALZADA | E87: m2 | F87: 158 | G87: 1.85 | H87: =F87*G87 -> 292.3 | J87: LASTRE PARA BASE DE ACERAS | K87: m3 | L87: 20 | M87: 14.54 | N87: 290.8 | O87: =N87/N$112 -> 0.00049709604 | P87: =P86+O87 -> 0.99402244 | S87: REFUERZO DE ACERO 12 MM. | T87: kg
B88: 1 | D88: REFUERZO DE ACERO 10 MM. | E88: kg | F88: 111 | G88: 2.06 | H88: =F88*G88 -> 228.66 | J88: ADOQUIN DE ARCILLA EN CALZADA 10 X 30 X 7 CM. | K88: m2 | L88: 14 | M88: 19.36 | N88: 271.04 | O88: =N88/N$112 -> 0.00046331812 | P88: =P87+O88 -> 0.99448576 | S88: REFUERZO DE ACERO 8 MM. | T88: kg
B89: 2 | D89: REFUERZO DE ACERO 12 MM. | E89: kg | F89: 782 | G89: 2.06 | H89: =F89*G89 -> 1610.92 | J89: REVESTIMIENTO HORIZONTAL CON ADOQUIN DE ARCILLA | K89: m2 | L89: 13.5 | M89: 19.36 | N89: 261.36 | O89: =N89/N$112 -> 0.00044677105 | P89: =P88+O89 -> 0.99493253 | S89: RELLENO COMPACTADO | T89: m3
B90: 3 | D90: REFUERZO DE ACERO 8 MM. | E90: kg | F90: 553 | G90: 2.06 | H90: =F90*G90 -> 1139.18 | J90: MALLA ELECTROSOLDADA 400 X 400 X 4.5 | K90: u | L90: 42 | M90: 5.96 | N90: 250.32 | O90: =N90/N$112 -> 0.00042789917 | P90: =P89+O90 -> 0.99536043 | S90: RELLENO DE BLOQUE .10 CM. Y HORMIGÓN SIMPLE | T90: m2
B91: 4 | D91: RELLENO COMPACTADO | E91: m3 | F91: 12 | G91: 8 | H91: =F91*G91 -> 96 | J91: REFUERZO DE ACERO 10 MM. | K91: kg | L91: 111 | M91: 2.06 | N91: 228.66 | O91: =N91/N$112 -> 0.00039087338 | P91: =P90+O91 -> 0.9957513 | S91: REUBICACIÓN DE BORDILLOS DE PIEDRA | T91: m
B92: 5 | D92: RELLENO DE BLOQUE .10 CM. Y HORMIGÓN SIMPLE | E92: m2 | F92: 80 | G92: 16.43 | H92: =F92*G92 -> 1314.4 | J92: REUBICACIÓN DE BORDILLOS DE PIEDRA | K92: m | L92: 120 | M92: 1.86 | N92: 223.2 | O92: =N92/N$112 -> 0.00038154001 | P92: =P91+O92 -> 0.99613284 | S92: REUBICACIÓN DE SUMIDEROS | T92: U
B93: 6 | D93: REUBICACIÓN DE BORDILLOS DE PIEDRA | E93: m | F93: 120 | G93: 1.86 | H93: =F93*G93 -> 223.2 | J93: CERRAMIENTO PROVISIONAL - SEÑALÉTICA | K93: m | L93: 54 | M93: 3.79 | N93: 204.66 | O93: =N93/N$112 -> 0.00034984757 | P93: =P92+O93 -> 0.99648269 | S93: REVESTIMIENTO CON GRANITO DE MÁRMOL | T93: m2
B94: 7 | D94: REUBICACIÓN DE SUMIDEROS | E94: U | F94: 2 | G94: 30 | H94: =F94*G94 -> 60 | J94: PUERTAS BATIENTES DE VIDRIO P4=2.46 M. | K94: u | L94: 1 | M94: 202.45 | N94: 202.45 | O94: =N94/N$112 -> 0.00034606978 | P94: =P93+O94 -> 0.99682876 | S94: REVESTIMIENTO DE PARED CON BALDOSA DE PIEDRA | T94: m2
B95: 8 | D95: REVESTIMIENTO CON GRANITO DE MÁRMOL | E95: m2 | F95: 37 | G95: 22 | H95: =F95*G95 -> 814 | J95: MAMPOSTERIA DE BLOQUE 6CM MORTERO 1:6 | K95: m2 | L95: 35 | M95: 5.66 | N95: 198.1 | O95: =N95/N$112 -> 0.00033863385 | P95: =P94+O95 -> 0.99716739 | S95: REVESTIMIENTO DE PAREDES CON CERAMICA | T95: m2
B96: RUBROS DE INTERVENCIÓN URBANA | D96: REVESTIMIENTO DE PARED CON BALDOSA DE PIEDRA | E96: m2 | F96: 95 | G96: 45.79 | H96: =F96*G96 -> 4350.05 | J96: BORDILLOS DE JARDINERAS | K96: u | L96: 12 | M96: 16.45 | N96: 197.4 | O96: =N96/N$112 -> 0.00033743727 | P96: =P95+O96 -> 0.99750483 | S96: REVESTIMIENTO DE PAREDES CON DUELA | T96: m2
B97: 1 | D97: REVESTIMIENTO DE PAREDES CON CERAMICA | E97: m2 | F97: 620 | G97: 22.02 | H97: =F97*G97 -> 13652.4 | J97: PICADO DE PISOS | K97: m2 | L97: 50 | M97: 3.74 | N97: 187 | O97: =N97/N$112 -> 0.00031965942 | P97: =P96+O97 -> 0.99782449 | S97: REVESTIMIENTO DE PISOS Y ESCALERAS | T97: m2
...

Sheet Rubros Hidro
C1: CENTRO DE INTEGRACIÓN PROVINCIAL
C2: RUBROS HIDROSANITARIOS
B3: UNIDAD | C3: ITEM | D3: COD | E3: DESCRIPCION | F3: CANTIDAD | G3: P.UNITARIO | H3: TOTAL
B4: glb | C4: 73 | D4: 505676 | E4: BOMBAS CENTRÍFUGA Q=140 L/min TDH=60M | F4: 1 | G4: 6456.17 | H4: =F4*G4 -> 6456.17 | J4: 505677 | K4: SIST. BOMBEO INCENDIOS BOMBA JOCKEY + MOTOBOMBA Q=280 L/min TDH=50M | L4: 9832.25 | M4: =SUMIF($D$4:$D$84,J4,$F$4:$F$84) -> 1 | N4: =L4*M4 -> 9832.25 | P4: =N4/N$51 -> 0.1762347 | Q4: =P4 -> 0.1762347 | T4: ACERO DE REFUERZO FY=4200 KG/CM2 | U4: kg | V4: 1.69 | W4: =SUMIF(E$4:E$84,T4,F$4:F$84) -> 653 | X4: =V4*W4 -> 1103.57
B5: glb | C5: 74 | D5: 505677 | E5: SIST. BOMBEO INCENDIOS BOMBA JOCKEY + MOTOBOMBA Q=280 L/min TDH=50M | F5: 1 | G5: 9832.25 | H5: =F5*G5 -> 9832.25 | J5: 505675 | K5: EXTRACTOR DE OLORES CFM 70 CON CONMUTADOR A LUZ | L5: 1097.71 | M5: =SUMIF($D$4:$D$84,J5,$F$4:$F$84) -> 6 | N5: =L5*M5 -> 6586.26 | P5: =N5/N$51 -> 0.1180531 | Q5: =P5+Q4 -> 0.2942878 | T5: ACOMETIDA DOMICILIARIA AGUA POTABLE 1" | U5: u | V5: 176.16 | W5: =SUMIF(E$4:E$84,T5,F$4:F$84) -> 1 | X5: =V5*W5 -> 176.16
B6: glb | C6: 75 | D6: 505708 | E6: BOMBAS CENTRÍFUGA 1HP Q=30 L/min TDH=40m | F6: 1 | G6: 2691.61 | H6: =F6*G6 -> 2691.61 | J6: 505676 | K6: BOMBAS CENTRÍFUGA Q=140 L/min TDH=60M | L6: 6456.17 | M6: =SUMIF($D$4:$D$84,J6,$F$4:$F$84) -> 1 | N6: =L6*M6 -> 6456.17 | P6: =N6/N$51 -> 0.11572135 | Q6: =P6+Q5 -> 0.41000915 | T6: ANCLAJE DE HORMIGON SIMPLE 210 KG/CM2 | U6: m3 | V6: 131.24 | W6: =SUMIF(E$4:E$84,T6,F$4:F$84) -> 0.5 | X6: =V6*W6 -> 65.62
B7: kg | C7: 79 | D7: 505682 | E7: ACERO DE REFUERZO FY=4200 KG/CM2 | F7: 653 | G7: 1.69 | H7: =F7*G7 -> 1103.57 | J7: 505709 | K7: REJILLA PERFIL T 1 1/2"X1/4" CON CERCO L 1 1/2"x1/4" | L7: 147.24 | M7: =SUMIF($D$4:$D$84,J7,$F$4:$F$84) -> 31.7 | N7: =L7*M7 -> 4667.508 | P7: =N7/N$51 -> 0.083661104 | Q7: =P7+Q6 -> 0.49367025 | T7: BOMBAS CENTRÍFUGA 1HP Q=30 L/min TDH=40m | U7: glb | V7: 2691.61 | W7: =SUMIF(E$4:E$84,T7,F$4:F$84) -> 1 | X7: =V7*W7 -> 2691.61
B8: m | C8: 2 | D8: 505655 | E8: TUBERÍA AGUA POTABLE 1" CON ANCLAJE | F8: 38.11 | G8: 9.78 | H8: =F8*G8 -> 372.7158 | J8: 505674 | K8: EXTRACTOR DE OLORES CFM 50 CON CONMUTADOR A LUZ | L8: 645.82 | M8: =SUMIF($D$4:$D$84,J8,$F$4:$F$84) -> 5 | N8: =L8*M8 -> 3229.1 | P8: =N8/N$51 -> 0.057878866 | Q8: =P8+Q7 -> 0.55154912 | T8: BOMBAS CENTRÍFUGA Q=140 L/min TDH=60M | U8: glb | V8: 6456.17 | W8: =SUMIF(E$4:E$84,T8,F$4:F$84) -> 1 | X8: =V8*W8 -> 6456.17
B9: m | C9: 3 | D9: 505686 | E9: TUBERÍA AGUA POTABLE 1 1/2" CON ANCLAJE | F9: 39.6 | G9: 23.18 | H9: =F9*G9 -> 917.928 | J9: 505708 | K9: BOMBAS CENTRÍFUGA 1HP Q=30 L/min TDH=40m | L9: 2691.61 | M9: =SUMIF($D$4:$D$84,J9,$F$4:$F$84) -> 1 | N9: =L9*M9 -> 2691.61 | P9: =N9/N$51 -> 0.048244816 | Q9: =P9+Q8 -> 0.59979393 | T9: CAJA DE REVISION 0.80X0.80 H=0.60 - 1.20M | U9: u | V9: 119.7 | W9: =SUMIF(E$4:E$84,T9,F$4:F$84) -> 6 | X9: =V9*W9 -> 718.2
B10: m | C10: 7 | D10: 505685 | E10: TUBERÍA AGUA POTABLE 1 1/2" | F10: 22.9 | G10: 13.22 | H10: =F10*G10 -> 302.738 | J10: 505684 | K10: CANAL PLASTICO DE AGUAS LLUVIA | L10: 22.48 | M10: =SUMIF($D$4:$D$84,J10,$F$4:$F$84) -> 102.6 | N10: =L10*M10 -> 2306.448 | P10: =N10/N$51 -> 0.041341115 | Q10: =P10+Q9 -> 0.64113505 | T10: CANAL PLASTICO DE AGUAS LLUVIA | U10: m | V10: 22.48 | W10: =SUMIF(E$4:E$84,T10,F$4:F$84) -> 102.6 | X10: =V10*W10 -> 2306.448
B11: m | C11: 14 | D11: 505685 | E11: TUBERIA AGUA POTABLE 1 1/2" | F11: 11.1 | G11: 13.22 | H11: =F11*G11 -> 146.742 | J11: 505696 | K11: GABINETE CONTRA INCENDIOS CON VIDRIO, SEGURIDAD Y ACCESORIOS | L11: 412.25 | M11: =SUMIF($D$4:$D$84,J11,$F$4:$F$84) -> 5 | N11: =L11*M11 -> 2061.25 | P11: =N11/N$51 -> 0.03694615 | Q11: =P11+Q10 -> 0.6780812 | T11: DESAGÜE PVC-D 2" | U11: pto | V11: 18.48 | W11: =SUMIF(E$4:E$84,T11,F$4:F$84) -> 43 | X11: =V11*W11 -> 794.64
B12: m | C12: 21 | D12: 505685 | E12: TUBERIA AGUA POTABLE 1 1/2" | F12: 11.1 | G12: 13.22 | H12: =F12*G12 -> 146.742 | J12: 505659 | K12: TUBERÍA PVC-D 6" CON ACCESORIOS | L12: 20.53 | M12: =SUMIF($D$4:$D$84,J12,$F$4:$F$84) -> 71.17 | N12: =L12*M12 -> 1461.1201 | P12: =N12/N$51 -> 0.026189333 | Q12: =P12+Q11 -> 0.70427053 | T12: DESAGÜE PVC-D 3" | U12: pto | V12: 26.68 | W12: =SUMIF(E$4:E$84,T12,F$4:F$84) -> 3 | X12: =V12*W12 -> 80.04
B13: m | C13: 25 | D13: 505689 | E13: TUBERÍA AGUA POTABLE 3/4" CON ANCLAJE | F13: 5 | G13: 5.93 | H13: =F13*G13 -> 29.65 | J13: 505666 | K13: TUBERÍA AGUA HG 2" CON ACCESORIOS | L13: 32.03 | M13: =SUMIF($D$4:$D$84,J13,$F$4:$F$84) -> 44.85 | N13: =L13*M13 -> 1436.5455 | P13: =N13/N$51 -> 0.025748854 | Q13: =P13+Q12 -> 0.73001938 | T13: DESAGÜE PVC-D 4" | U13: pto | V13: 30.83 | W13: =SUMIF(E$4:E$84,T13,F$4:F$84) -> 28 | X13: =V13*W13 -> 863.24
B14: m | C14: 26 | D14: 505687 | E14: TUBERÍA AGUA POTABLE 1" | F14: 1 | G14: 9.59 | H14: =F14*G14 -> 9.59 | J14: 505682 | K14: ACERO DE REFUERZO FY=4200 KG/CM2 | L14: 1.69 | M14: =SUMIF($D$4:$D$84,J14,$F$4:$F$84) -> 653 | N14: =L14*M14 -> 1103.57 | P14: =N14/N$51 -> 0.019780552 | Q14: =P14+Q13 -> 0.74979994 | T14: ENCOFRADO - DESENCOFRADO RECTO EN MADERA | U14: m2 | V14: 13.5 | W14: =SUMIF(E$4:E$84,T14,F$4:F$84) -> 51.72 | X14: =V14*W14 -> 698.22
B15: m | C15: 27 | D15: 505690 | E15: TUBERÍA AGUA POTABLE 3/4" | F15: 10.7 | G15: 3.35 | H15: =F15*G15 -> 35.845 | J15: 505658 | K15: TUBERÍA PVC-D 3" CON ACCESORIOS | L15: 6.84 | M15: =SUMIF($D$4:$D$84,J15,$F$4:$F$84) -> 157.2 | N15: =L15*M15 -> 1075.248 | P15: =N15/N$51 -> 0.019272904 | Q15: =P15+Q14 -> 0.76907284 | T15: ENLUCIDO INTERIOR ALISADO CON MORTERO 1:3 + IMPERMEABILIZANTE | U15: m2 | V15: 7.01 | W15: =SUMIF(E$4:E$84,T15,F$4:F$84) -> 61.3 | X15: =V15*W15 -> 429.713
B16: m | C16: 32 | D16: 505657 | E16: TUBERÍA PVC-D 4" CON ACCESORIOS | F16: 4.3 | G16: 9.82 | H16: =F16*G16 -> 42.226 | J16: 505686 | K16: TUBERÍA AGUA POTABLE 1 1/2" CON ANCLAJE | L16: 23.18 | M16: =SUMIF($D$4:$D$84,J16,$F$4:$F$84) -> 39.6 | N16: =L16*M16 -> 917.928 | P16: =N16/N$51 -> 0.016453077 | Q16: =P16+Q15 -> 0.78552592 | T16: EXTINTOR TIPO ABC | U16: u | V16: 70.08 | W16: =SUMIF(E$4:E$84,T16,F$4:F$84) -> 5 | X16: =V16*W16 -> 350.4
... B50: pto | C50: 22 | D50: 505701 | E50: PUNTO DE AGUA POTABLE 3/4" CON TUB PRINCIP 1 1/4" | F50: 1 | G50: 36.77 | H50: =F50*G50 -> 36.77 | J50: 505687 | K50: TUBERÍA AGUA POTABLE 1" | L50: 9.59 | M50: =SUMIF($D$4:$D$84,J50,$F$4:$F$84) -> 1 | N50: =L50*M50 -> 9.59 | P50: =N50/N$51 -> 0.00017189258 | Q50: =P50+Q49 -> 1 | T50: VALVULA DE COMPUERTA BRONCE R/R 1" | U50: u | V50: 43.56 | W50: =SUMIF(E$4:E$84,T50,F$4:F$84) -> 10 | X50: =V50*W50 -> 435.6
B51: pto | C51: 23 | D51: 505660 | E51: PUNTO DE AGUA POTABLE 1/2" CON TUB PRINCIP 1" | F51: 4 | G51: 30.98 | H51: =F51*G51 -> 123.92 | N51: =SUM(N4:N50) -> 55790.658 | T51: VALVULA DE COMPUERTA BRONCE R/R 3/4" | U51: u | V51: 19.4 | W51: =SUMIF(E$4:E$84,T51,F$4:F$84) -> 6 | X51: =V51*W51 -> 116.4
B52: pto | C52: 28 | D52: 505662 | E52: PUNTO DE AGUA POTABLE 1/2" | F52: 8 | G52: 18.25 | H52: =F52*G52 -> 146 | T52: VENTILACION 3" CON ACCESORIOS | U52: pto | V52: 24.47 | W52: =SUMIF(E$4:E$84,T52,F$4:F$84) -> 2 | X52: =V52*W52 -> 48.94
B53: pto | C53: 34 | D53: 505665 | E53: DESAGÜE PVC-D 2" | F53: 3 | G53: 18.48 | H53: =F53*G53 -> 55.44 | T53: VENTILACION 3" CON TUB. PRINCIP 4" - ACCESORIOS | U53: pto | V53: 28.98 | W53: =SUMIF(E$4:E$84,T53,F$4:F$84) -> 7 | X53: =V53*W53 -> 202.86
B54: pto | C54: 35 | D54: 505663 | E54: DESAGÜE PVC-D 4" | F54: 2 | G54: 30.83 | H54: =F54*G54 -> 61.66 | X54: =SUM(X4:X53) -> 55790.658
B55: pto | C55: 37 | D55: 505665 | E55: DESAGÜE PVC-D 2" | F55: 7 | G55: 18.48 | H55: =F55*G55 -> 129.36
B56: pto | C56: 38 | D56: 505663 | E56: DESAGÜE PVC-D 4" | F56: 3 | G56: 30.83 | H56: =F56*G56 -> 92.49
B57: pto | C57: 40 | D57: 505665 | E57: DESAGÜE PVC-D 2" | F57: 15 | G57: 18.48 | H57: =F57*G57 -> 277.2
B58: pto | C58: 41 | D58: 505663 | E58: DESAGÜE PVC-D 4" | F58: 6 | G58: 30.83 | H58: =F58*G58 -> 184.98
B59: pto | C59: 43 | D59: 505665 | E59: DESAGÜE PVC-D 2" | F59: 12 | G59: 18.48 | H59: =F59*G59 -> 221.76
B60: pto | C60: 44 | D60: 505663 | E60: DESAGÜE PVC-D 4" | F60: 15 | G60: 30.83 | H60: =F60*G60 -> 462.45
B61: pto | C61: 46 | D61: 505665 | E61: DESAGÜE PVC-D 2" | F61: 6 | G61: 18.48 | H61: =F61*G61 -> 110.88
B62: pto | C62: 47 | D62: 505663 | E62: DESAGÜE PVC-D 4" | F62: 2 | G62: 30.83 | H62: =F62*G62 -> 61.66
B63: pto | C63: 51 | D63: 505664 | E63: DESAGÜE PVC-D 3" | F63: 3 | G63: 26.68 | H63: =F63*G63 -> 80.04
B64: pto | C64: 62 | D64: 505668 | E64: VENTILACION 3" CON ACCESORIOS | F64: 2 | G64: 24.47 | H64: =F64*G64 -> 48.94
B65: pto | C65: 63 | D65: 505672 | E65: VENTILACION 3" CON TUB. PRINCIP 4" - ACCESORIOS | F65: 7 | G65: 28.98 | H65: =F65*G65 -> 202.86
B66: u | C66: 1 | D66: 505705 | E66: ACOMETIDA DOMICILIARIA AGUA POTABLE 1" | F66: 1 | G66: 176.16 | H66: =F66*G66 -> 176.16
... B84: u | C84: 71 | D84: 505679 | E84: VÁLVULA CHECK 2" UL | F84: 1 | G84: 54.48 | H84: =F84*G84 -> 54.48
B85: TOTAL: | H85: =SUM(H4:H84) -> 55790.658

Sheet Rubros Elec
B1: CENTRO DE INTEGRACIÓN PROVINCIAL
B2: RUBROS HIDROSANITARIOS
B3: ITEM | C3: DESCRIPCION | D3: UNIDAD | E3: P.UNITARIO | F3: CANTIDAD | K3: P.UNITARIO | L3: CANTIDAD | M3: P.UNITARIO
B4: 1 | C4: Alimentador a tableros distribuc THHN 3x#6+1x#6+1x#6 | D4: m | E4: 7.75 | F4: 2 | H4: 23 | I4: Generador de 60 kVA efectivos | J4: u | K4: 27700 | L4: =SUMIF($C$4:$C$40,I4,$F$4:$F$40) -> 1 | M4: =K4*L4 -> 27700 | O4: =M4/M$37 -> 0.31075307 | P4: =O4 -> 0.31075307
B5: 2 | C5: Alimentador a tableros distribuc THHN 3x#4+1x#4+1x#4 | D5: m | E5: 21.5 | F5: 10 | H5: 28 | I5: Luminaria dimerizable Accor 2X28W T5 | J5: u | K5: 275 | L5: =SUMIF($C$4:$C$40,I5,$F$4:$F$40) -> 36 | M5: =K5*L5 -> 9900 | O5: =M5/M$37 -> 0.11106337 | P5: =P4+O5 -> 0.42181644
B6: 3 | C6: Alimentador a tableros distribuc THHN 3x#4+1x#4+1x#4 | D6: m | E6: 21.5 | F6: 13 | H6: 5 | I6: Punto de iluminacion Normal | J6: u | K6: 21.5 | L6: =SUMIF($C$4:$C$40,I6,$F$4:$F$40) -> 433 | M6: =K6*L6 -> 9309.5 | O6: =M6/M$37 -> 0.10443883 | P6: =P5+O6 -> 0.52625527
B7: 4 | C7: Alimentador a tableros distribuc THHN 3x#4+1x#4+1x#4 | D7: m | E7: 21.5 | F7: 17 | H7: 27 | I7: Luminaria Accor 2X28W T5 | J7: u | K7: 45.2 | L7: =SUMIF($C$4:$C$40,I7,$F$4:$F$40) -> 117 | M7: =K7*L7 -> 5288.4 | O7: =M7/M$37 -> 0.059328033 | P7: =P6+O7 -> 0.5855833
B8: 5 | C8: Alimentador a tableros distribuc THHN 3x#4+1x#4+1x#4 | D8: m | E8: 21.5 | F8: 20 | H8: 26 | I8: Luminaria tipo ojo de buey de 2x20W | J8: u | K8: 35.6 | L8: =SUMIF($C$4:$C$40,I8,$F$4:$F$40) -> 143 | M8: =K8*L8 -> 5090.8 | O8: =M8/M$37 -> 0.057111253 | P8: =P7+O8 -> 0.64269455
B9: 6 | C9: Alimentador a tableros distribuc THHN 3x#6+1x#6+1x#8 | D9: m | E9: 14.72 | F9: 34 | H9: 21 | I9: Bandeja tipo escalerilla de 2,4mx 200x80 mm (con accesorios) | J9: u | K9: 52 | L9: =SUMIF($C$4:$C$40,I9,$F$4:$F$40) -> 90 | M9: =K9*L9 -> 4680 | O9: =M9/M$37 -> 0.052502684 | P9: =P8+O9 -> 0.69519724
B10: 7 | C10: Alimentador a tableros distribuc THHN 3x#6+1x#6+1x#8 | D10: m | E10: 14.72 | F10: 14 | H10: 9 | I10: Punto de tomacorriente normal | J10: u | K10: 26.5 | L10: =SUMIF($C$4:$C$40,I10,$F$4:$F$40) -> 176 | M10: =K10*L10 -> 4664 | O10: =M10/M$37 -> 0.052323188 | P10: =P9+O10 -> 0.74752043
B11: 8 | C11: Alimentador TTU 3x#1/0+ Cu.Des1x#1/0+THHN1x4. | D11: m | E11: 43.99 | F11: 6 | H11: 24 | I11: Tablero de transferencia automático 50 KVA | J11: u | K11: 4300 | L11: =SUMIF($C$4:$C$40,I11,$F$4:$F$40) -> 1 | M11: =K11*L11 -> 4300 | O11: =M11/M$37 -> 0.048239646 | P11: =P10+O11 -> 0.79576007
B12: 9 | C12: Punto de iluminacion Normal | D12: u | E12: 21.5 | F12: 433 | H12: 25 | I12: Luminaria tipo ojo de buey de 2x15W | J12: u | K12: 33.2 | L12: =SUMIF($C$4:$C$40,I12,$F$4:$F$40) -> 99 | M12: =K12*L12 -> 3286.8 | O12: =M12/M$37 -> 0.036873039 | P12: =P11+O12 -> 0.83263311
B13: 10 | C13: Punto de iluminacion conmutada | D13: u | E13: 33.2 | F13: 10 | H13: 29 | I13: Luminaria sellada difusor acrilico 2X32W | J13: u | K13: 48 | L13: =SUMIF($C$4:$C$40,I13,$F$4:$F$40) -> 46 | M13: =K13*L13 -> 2208 | O13: =M13/M$37 -> 0.024770497 | P13: =P12+O13 -> 0.85740361
