Workbook
Name \a: MATERIAL!#REF!
Name \b: MATERIAL!#REF!
Name \r: MATERIAL!#REF!
Name _1: MATERIAL!#REF!
Name _10: MATERIAL!#REF!
Name _11: MATERIAL!#REF!
Name _12: MATERIAL!#REF!
Name _13: MATERIAL!#REF!
Name _14: MATERIAL!#REF!
Name _15: MATERIAL!#REF!
Name _16: MATERIAL!#REF!
Name _2: MATERIAL!#REF!
Name _3: MATERIAL!#REF!
Name _4: MATERIAL!#REF!
Name _5: MATERIAL!#REF!
Name _6: MATERIAL!#REF!
Name _7: MATERIAL!#REF!
Name _8: MATERIAL!#REF!
Name _9: MATERIAL!#REF!
Name _CAB1: MATERIAL!#REF!
Name _MA1: MATERIAL!#REF!
Name _MAT2: MATERIAL!#REF!
Name _MO1: MATERIAL!#REF!
Name _MO2: MATERIAL!#REF!
Name _PRE1: MATERIAL!#REF!
Name _SUB1: MATERIAL!#REF!
Name _SUB2: MATERIAL!#REF!
Name AUTO: MATERIAL!#REF!
Name BORRE: MATERIAL!#REF!
Name C_RMO: MATERIAL!#REF!
Name CABEZA: MATERIAL!#REF!
Name CANMAT: MATERIAL!#REF!
Name CANMO: MATERIAL!#REF!
Name CANPREMAT: MATERIAL!#REF!
Name CANPREMO: MATERIAL!#REF!
Name CMAT: MATERIAL!#REF!
Name CMO: MATERIAL!#REF!
Name CODMAT: MATERIAL!#REF!
Name CONSTRUCCION: MATERIAL!#REF!
Name DED: MATERIAL!#REF!
Name DEDATOS: MATERIAL!#REF!
Name EXP: MATERIAL!#REF!
Name IMO: MATERIAL!#REF!
Name IMPMAT: MATERIAL!#REF!
Name IMPMO: MATERIAL!#REF!
Name Imprimir_área_IM: MATERIAL!$C$4:$H$12
Name ITMO: MATERIAL!#REF!
Name LISMAT: MATERIAL!#REF!
Name LISMO: MATERIAL!#REF!
Name MAT_AB: MATERIAL!#REF!
Name MAT_BE: MATERIAL!#REF!
Name MAT_CR: MATERIAL!#REF!
Name MAT_DB: MATERIAL!$C$12:$IJ$5780
Name MAT_DF: MATERIAL!#REF!
Name MAT_EN: MATERIAL!#REF!
Name MAT_MA: MATERIAL!#REF!
Name MATER: MATERIAL!#REF!
Name MO_AB: MATERIAL!#REF!
Name MO_BE: MATERIAL!#REF!
Name MO_CR: MATERIAL!#REF!

Sheet MATERIAL
B2: ANEXO 4.1
B4: PROYECTO DE ELECTRIFICACION EBENEZER - MACUMA - TAISHA
C6: PROVINCIA : | D6: MORONA SANTIAGO
C7: CANTON : | D7: TAISHA
C10: LISTADO TOTAL DE MATERIALES (DESDE P1 HASTA P926)
B12: ITEM | C12: CODIGO | D12: DESCRIPCION | E12: UNIDAD | F12: CANTIDAD | G12: P. UNITARIO | H12: TOTAL
B13: 1 | C13: 022561210 | D13: Abrazadera "U" de varilla galvanizada diámetro 15.87 x 150 mm | E13: U | F13: 510
B14: 2 | C14: 022002010 | D14: Abrazadera pletina galvanizada doble diámetro 38x130-150 mm | E14: U | F14: 460
B15: 3 | C15: 022002110 | D15: Abrazadera pletina galvanizada doble diámetro 38x160-190 mm | E15: U | F15: 155
B16: 4 | C16: 022001010 | D16: Abrazadera pletina galvanizada simple diámetro 38x130-150 mm | E16: U | F16: 1726
B17: 5 | C17: 022001110 | D17: Abrazadera pletina galvanizada simple diámetro 38x160-190 mm | E17: U | F17: 710
B18: 6 | C18: 020129110 | D18: Aislador espiga porcelana sin intf al radio int ANSI 56-1 | E18: U | F18: 2432
B19: 7 | C19: 020106060 | D19: Aislador de suspensión caucho siliconado CAT 401028-0215, 22 KV | E19: U | F19: 1022
B20: 8 | C20: 020160040 | D20: Aislador rollo de porcelana clase ANSI 53-2 | E20: U | F20: 1353
B21: 9 | C21: 020590010 | D21: Bastidor galvanizado liviano 1 vía | E21: U | F21: 965
B22: 10 | C22: 020590030 | D22: Bastidor galvanizado liviano 3 vías | E22: U | F22: 1
B23: 11 | C23: 020590040 | D23: Bastidor galvanizado liviano 4 vías | E23: U | F23: 97
B24: 12 | C24: 024801010 | D24: Bloque H.A. anclaje con agujero diámetro 20 mm | E24: U | F24: 612
... B72: 60 | C72: 022575031 | D72: Varilla de anclaje galvanizada 15,87x1800 mm | E72: U | F72: 612
B73: =B72+1 -> 61 | C73: 023530260 | D73: Varilla puesta a tierra Copperweld 15.87 x 1800 mm | E73: U | F73: 324
G74: TOTAL: $ | H74: =SUM(H13:H73) -> 0
B76: SON :
C79: =+NOW() -> 39790.762

Sheet MONTAJE
B1: ANEXO 4.2
B3: =MATERIAL!B4 -> PROYECTO DE ELECTRIFICACION EBENEZER - MACUMA - TAISHA
B5: PROVINCIA : | C5: MORONA SANTIAGO
B6: CANTON : | C6: TAISHA
B9: MANO DE OBRA CALIFICADA PARA MONTAJE (DESDE P1e HASTA P926)
A11: Item | B11: Cod. | C11: DESCRIPCION | D11: U. | E11: CONTRAT | F11: EERCS | G11: CANTIDAD | H11: P. UNITARIO | I11: P. TOTAL
A13: 1 | B13: C802400 | C13: REPLANTEO | D13: KM. | G13: 81.76
A14: 2 | B14: Z010200 | C14: DESBROCE DE VEGETACION POR KM | D14: KM. | G14: =+G13 -> 81.76
A15: 3 | B15: C802550 | C15: TENDIDO,CALIBRACION Y AMARRE CONDUCTOR CALIBRE #04 TIPO ACSR | D15: KM. | G15: =+MATERIAL!F32/1000 -> 5.923
A16: 4 | B16: C802551 | C16: TENDIDO,CALIBRACION Y AMARRE CONDUCTOR CALIBRE #2 TIPO ACSR | D16: KM. | G16: =+MATERIAL!F31/1000 -> 13.397
A17: 5 | B17: C802552 | C17: TENDIDO,CALIBRACION Y AMARRE CONDUCTOR CALIBRE#1/0 TIPO ACSR | D17: KM. | G17: =+MATERIAL!F33/1000 -> 83.327
A18: 6 | B18: C802554 | C18: TENDIDO,CALIBRACION Y AMARRE CONDUCTOR CALIBRE#3/0 TIPO ACSR | D18: KM. | G18: =+MATERIAL!F34/1000 -> 245.103
A19: 7 | B19: E770200 | C19: ESTRUCTURA TIPO UP | D19: U. | G19: 5
A20: 8 | B20: E770203 | C20: ESTRUCTURA TIPO UR | D20: U. | G20: 9
A21: 10 | B21: E770400 | C21: ESTRUCTURA TIPO CP | D21: U. | G21: 502
A22: 11 | B22: E770402 | C22: ESTRUCTURA TIPO CP2 | D22: U. | G22: 101
A23: 12 | B23: E770419 | C23: ESTRUCTURA TIPO RRC | D23: U. | G23: 115
A24: 13 | B24: E770420 | C24: ESTRUCTURA TIPO RC | D24: U. | G24: 2
A25: 14 | B25: E770421 | C25: ESTRUCTURA TIPO RC + RC | D25: U. | G25: 16
A26: 15 | B26: E770501 | C26: ESTRUCTURA TIPO HS | D26: U. | G26: 2
A27: 16 | B27: E770503 | C27: ESTRUCTURA TIPO HR2 | D27: U. | G27: 33
A28: 17 | B28: E770600 | C28: ESTRUCTURA TIPO CP + UR | D28: U. | G28: 4
A29: 18 | B29: E770601 | C29: ESTRUCTURA TIPO CP2 + UR | D29: U. | G29: 2
A30: 19 | B30: E781201 | C30: ESTRUCTURA TIPO ES041 | D30: U. | G30: =424+20 -> 444
A31: 20 | B31: E781203 | C31: ESTRUCTURA TIPO ES043 | D31: U. | G31: 1
A32: 21 | B32: E781204 | C32: ESTRUCTURA TIPO ES044 | D32: U. | G32: 88
A33: 23 | B33: E781211 | C33: ESTRUCTURA TIPO 3(ES041) | D33: U. | G33: =66+2 -> 68
A34: 24 | B34: E781231 | C34: ESTRUCTURA TIPO 2ES041 | D34: U. | G34: 125
A35: 25 | B35: E781234 | C35: ESTRUCTURA TIPO 2ES044 | D35: U. | G35: 3
A36: 26 | B36: E781302 | C36: ESTRUCTURA TIPO ES041+ES044 | D36: U. | G36: 1
A37: 27 | B37: E781310 | C37: ESTRUCTURA TIPO ES041+2(ES041) | D37: U. | G37: 2
A38: 28 | B38: E781311 | C38: ESTRUCTURA TIPO ES041+3(ES041) | D38: U. | G38: 2
A39: 29 | B39: E781316 | C39: ESTRUCTURA TIPO 2(ES041)+3(ES041) | D39: U. | G39: 2
A40: 31 | B40: E841103 | C40: ESTRUCTURA TIPO HR + RC | D40: U. | G40: 2
A41: 32 | B41: L852302 | C41: MONTAJE E INST. LUMINARIA CERRADA NA. 70W | D41: U. | G41: =+MATERIAL!F44 -> 50
A42: 33 | B42: L852306 | C42: MONTAJE E INST. LUMINARIA CERRADA NA. 70W. AUTOCONTROLADA | D42: U. | G42: =+MATERIAL!F43 -> 22
A43: 34 | B43: L852400 | C43: MONTAJE E INST. DE CONTROL DE ALUMBRADO PUBLICO COMPLETO | D43: U. | G43: =+MATERIAL!F57 -> 3
A44: 35 | B44: M213008 | C44: INSTALACION DE EQUIPO DE MEDICION DISPERSO Y REPORTE DE INF. | D44: U. | G44: 161
A45: 36 | B45: S/C | C45: IZADO Y RETACADO DE POSTE DE H.A. DE 9 M. CON MAQUINA | D45: U. | G45: =+MATERIAL!F54 -> 3
A46: 37 | B46: P480101 | C46: IZADO Y RETACADO DE POSTE DE H.A. DE 11 M. CON MAQUINA | D46: U. | G46: =+MATERIAL!F55 -> 121
...

Sheet DESMONTAJE
B1: ANEXO 4.3
B3: =+MATERIAL!B4 -> PROYECTO DE ELECTRIFICACION EBENEZER - MACUMA - TAISHA
B5: PROVINCIA : | C5: MORONA SANTIAGO
B6: CANTON : | C6: TAISHA
B8: MANO DE OBRA CALIFICADA PARA DESMONTAJE
C10: DISTANCIA [KM] : | D10: 25 | I10: FACT. DISTANCIA: | J10: =1+$D$10/350 -> 1.0714286
B12: ITEM | C12: DESCRIPCION | D12: U. | E12: CONTRAT | F12: EERCS | G12: CANTIDAD | H12: RENDIMIEN | I12: PRECIO | J12: PRECIO
I13: UNITARIO | J13: TOTAL
B14: C802551 | C14: TENDIDO,CALIBRACION Y AMARRE CONDUCTOR CALIBRE #2 TIPO ACSR | D14: KM. | G14: 23.561 | H14: =IF($B14<>"",1/VLOOKUP(B14,[1]M_OBRA!$C$4:$E$351,3),"") -> 8.2857112
B15: C802552 | C15: TENDIDO,CALIBRACION Y AMARRE CONDUCTOR CALIBRE#1/0 TIPO ACSR | D15: KM. | G15: 23.286 | H15: =IF($B15<>"",1/VLOOKUP(B15,[1]M_OBRA!$C$4:$E$351,3),"") -> 9.3333296
B16: E770200 | C16: ESTRUCTURA TIPO UP | D16: U. | G16: 92
B17: E770202 | C17: ESTRUCTURA TIPO UA | D17: U. | G17: 12
B18: E770203 | C18: ESTRUCTURA TIPO UR | D18: U. | G18: 3
B19: E770205 | C19: ESTRUCTURA TIPO UR2 | D19: U. | G19: 31
B20: E770301 | C20: ESTRUCTURA TIPO UP+UR | D20: U. | G20: 2
B21: E770305 | C21: ESTRUCTURA TIPO UR+UR | D21: U. | G21: 3
B22: E770307 | C22: ESTRUCTURA TIPO UR2+UR | D22: U. | G22: 1
B23: E781201 | C23: ESTRUCTURA TIPO ES041 | D23: U. | G23: 4
B24: E781231 | C24: ESTRUCTURA TIPO 2ES041 | D24: U. | G24: 8
B25: S081800 | C25: SECCIONADOR S1,1 PROTECTOR SOBRETENSION Y PUESTA TIERRA(SP1) | D25: U. | G25: 19
B26: T111404 | C26: MONTAJE DE TENSOR TIPO TP | D26: U. | G26: 5
B27: T111406 | C27: TENSOR TIPO TT, EN AT | D27: U. | G27: 111
C28: SUBTOTAL | J28: =SUM(J14:J27)*0.8 -> 0
C30: SON:
B44: =+NOW() -> 39790.762

Sheet NOCALIF
B1: ANEXO 4.4
B3: =MATERIAL!B4 -> PROYECTO DE ELECTRIFICACION EBENEZER - MACUMA - TAISHA
B5: PROVINCIA : | C5: MORONA SANTIAGO
B6: CANTON : | C6: TAISHA
B8: MANO DE OBRA NO CALIFICADA PARA MONTAJE
B10: ITEM | C10: DESCRIPCION | D10: U. | E10: CANTIDAD | F10: RENDIMIEN | G10: PRECIO | H10: PRECIO
G11: UNITARIO | H11: TOTAL
B12: S/C | C12: Acopio y transporte de piedra con acémila distancia mayor a 50 m | D12: m3- m | E12: =+'[2]MOC Y MONC ADIC.'!$F$25 -> 496.37097 | F12: 14
B13: S/C | C13: Desbosque de terreno | D13: m2 | E13: =+'[2]MOC Y MONC ADIC.'!$F$26 -> 572320 | F13: 0.04
B14: P485000 | C14: Izado y retacado de postes PFVR de 11m con personal | D14: U. | E14: 548 | F14: =IF($B14<>"",1/VLOOKUP(B14,[1]M_OBRA!$C$4:$E$351,3,FALSE),"") -> #N/A
B15: P485001 | C15: Izado y retacado de postes de PFVR de 9m con personal | D15: U. | E15: 92 | F15: =IF($B15<>"",1/VLOOKUP(B15,[1]M_OBRA!$C$4:$E$351,3,FALSE),"") -> #N/A
B16: P485100 | C16: Excavación para poste de 11m y recolección de piedra | D16: U. | E16: =+E14+MATERIAL!F55 -> 669 | F16: =IF($B16<>"",1/VLOOKUP(B16,[1]M_OBRA!$C$4:$E$351,3,FALSE),"") -> #N/A
B17: P485101 | C17: Excavación para poste de 9m y recolección de piedra | D17: U. | E17: =+E15+MATERIAL!F54 -> 95 | F17: =IF($B17<>"",1/VLOOKUP(B17,[1]M_OBRA!$C$4:$E$351,3,FALSE),"") -> #N/A
B18: T115102 | C18: Excavación para anclajes y recolección de piedras | D18: U. | E18: =MATERIAL!F24 -> 612 | F18: =IF($B18<>"",1/VLOOKUP(B18,[1]M_OBRA!$C$4:$E$351,3,FALSE),"") -> #N/A
C19: TOTAL: | H19: =SUM(H12:H18) -> 0
C21: SON: …... DOLARES
B30: =+NOW() -> 39790.762
