Workbook
Name __1Excel_BuiltIn_Print_Titles_2_1: "$'AVALUO 1'.$A$#REF!:$IV$#REF!"
Name _1Excel_BuiltIn_Print_Titles_2_1: "$'AVALUO 1'.$A$#REF!:$IV$#REF!"
Name _2Excel_BuiltIn_Print_Titles_2_1: "$'AVALUO 1'.$A$#REF!:$IV$#REF!"
Name anexoarn: #REF!
Name anexoarn: #REF!
Name anexoarn: #REF!
Name anexoarn: #REF!
Name anexoarn: #REF!
Name anexosase: #REF!
Name anexosase: #REF!
Name anexosase: #REF!
Name anexosase: #REF!
Name anexosase: #REF!
Name AVALUO: #REF!
Name AVALUO: #REF!
Name AVALUO: #REF!
Name AVALUO: #REF!
Name AVALUO: #REF!
Name bien: #REF!
Name bien: #REF!
Name bien: #REF!
Name bien: #REF!
Name bien: #REF!
Name CERTIFICADO: #REF!
Name CERTIFICADO: #REF!
Name CERTIFICADO: #REF!
Name CERTIFICADO: #REF!
Name CERTIFICADO: #REF!
Name eww: '[1]AVALUO 1'!$A$1:$O$50
Name EX: #REF!
Name EX: #REF!
Name EX: #REF!
Name EX: #REF!
Name EX: #REF!
Name EXC: #REF!
Name EXC: #REF!
Name EXC: #REF!
Name EXC: #REF!
Name EXC: #REF!
Name Excel_BuiltIn_Print_Titles_2: #REF!
Name Excel_BuiltIn_Print_Titles_2: #REF!
Name Excel_BuiltIn_Print_Titles_2: #REF!
Name Excel_BuiltIn_Print_Titles_2: #REF!
Name Excel_BuiltIn_Print_Titles_2: #REF!
Name FINAL: "$#REF!.$A$1:$P$48"
Name GRE: "$#REF!.$A$1:$P$230"
Name INFLACION: #REF!
Name INFLACION: #REF!
Name INFLACION: #REF!
Name INFLACION: #REF!
Name INFLACION: #REF!
Name INTERMEDIO: "$#REF!.$A$1:$P$109"
Name legal: #REF!
Name legal: #REF!
Name legal: #REF!
Name legal: #REF!
Name legal: #REF!
Name METODO: #REF!
Name METODO: #REF!
Name METODO: #REF!

Sheet CUADRO RESUMEN
B8: GRAN NACIONAL MINERA MARISCAL SUCRE C.E.M.
B9: CPC 713340011 CUADRO RESUMEN
B11: COBERTURAS | C11: SUMAS ASEGURADAS
B14: INCENDIO - CPC 713340311
B15: CONTENIDOS (MUEBLES Y ENSERES, HERRAMIENTAS, INSTALACIONES, EQUIPOS DE OFICINA) | C15: =+'IN CONTENIDOS'!AM1781 -> 291099.03
B16: MERCADERIA E INVENTARIO | C16: 20000
B17: MAQUINARIA | C17: =+'ROTURA MAQUINARIA'!AM25 -> 224617.55
B18: Cláusulas Adicionales
B19: Remoción de escombros hasta | C19: 100000
B20: Gastos de extinción de incendio hasta | C20: 20000
B21: Cobertura automática para nuevas propiedades | C21: 20000
B22: Clausula eléctrica amplía hasta | C22: 50000
B23: Sabotaje terrorismo y colapso | C23: 500000
B24: Honorarios de ingenieros y topógrafos hasta | C24: 50000
B25: Documentos y modelos hasta | C25: 20000
B26: Auto explosión hasta | C26: 20000
B27: Derrame de contenidos hasta | C27: 20000
B28: Rotura de vidrios y cristales, hasta | C28: 10000
B29: Rotura de tanques hasta | C29: 10000
B30: Rotura de unidades sanitarias hasta | C30: 5000
... B32: Dinero hasta | C32: 3000
B34: COBERTURAS | C34: SUMAS ASEGURADAS
B37: ROBOY/ASALTO - CPC 713340312
B38: Riesgo Absoluto contenidos detallados en Incendio | C38: 100000
B39: Hurto contenidos detallados en Incendio hasta | C39: 5000
B40: Dinero hasta | C40: 3000
B42: COBERTURAS | C42: SUMAS ASEGURADAS
B45: EQUIPO ELECTRÓNICO - CPC 713340321
B46: Equipos Fijos Y Portatiles | C46: =+'EQUIPO ELECTRONICO'!AM547 -> 202603.15
B47: Coberturas adicionales
B48: Sección II Portadores Externos de datos | C48: 10000
B49: Sección III Incrementos en costos de operaciones | C49: 10000
B50: Hurto | C50: 10000
B51: Portabilidad | C51: 10000
B53: COBERTURAS | C53: SUMAS ASEGURADAS
B56: Rotura de Maquinaria - CPC 713340323
B57: Maquinaria y equipos | C57: =+'ROTURA MAQUINARIA'!AM25 -> 224617.55
B59: COBERTURAS | C59: SUMAS ASEGURADAS
B62: Vehículos - CPC 713310012
B63: Livianos y Pesados | C63: =+VEHICULOS!AM26 -> 336097.5
...

Sheet IN CONTENIDOS
A4: No. | B4: COD. | C4: CODIGO PERITO | D4: UBICACIÓN GEOGRAFICA | E4: UBICACIÓN ORGANICA | F4: UBICACIÓN ADMINISTRATIVA | G4: UBICACIÓN GENERAL | H4: TIPO DE BIEN | I4: TIPO DE ACTIVO GNMMS | J4: CLASIFICACION | K4: SUBCLASIFICACION | L4: NOM. /DESCRIPCION | M4: NOMINACION LARGA | N4: EST. | O4: UNIDAD | P4: MODULO | Q4: MARCA | R4: MODELO | S4: SERIE | T4: COLOR | U4: CAPACIDAD | V4: COMPONENTES | W4: ESTADO | X4: AÑO | Y4: OBSERVACION | Z4: PROYECTO | AA4: CANTIDAD GNMMS | AB4: CANTIDAD PERITO | AC4: DIFERENCIA ENTRE GNMMS Y PERITO | AD4: VALOR DE COMPRA UNITARIO GNMMS (USD | AE4: VALOR DE COMPRA TOTAL GNMMS (USD) | AF4: V. REVALORIZADO | AG4: VAL. ACT. | AH4: VALOR DE REPOSICION UNITARIO (USD) | AI4: VALOR DE REPOSICION TOTAL (USD) | AJ4: VALOR COMERCIAL UNITARIO (USD) | AK4: SUBTOTAL VALOR COMERCIAL (USD) | AL4: IVA 12% | AM4: VALOR COMERCIAL INCLUIDO IVA (USD) | AN4: VALOR DE REALIZACION UNITARIO (USD) | AO4: SUBTOTAL VALOR REALIZACION (USD) | AP4: IVA 12% | AQ4: VALOR DE REALIZACION TOTAL INCLUIDO IVA (USD) | AR4: LOTE INFORME | AS4: SUB LOTE INFORME | AT4: PRIMER INFORME ESTADO / BIENE E INVENTARIO | AU4: INFORME / LOTE PARA VENTA | AV4: OBSERVACIÓN / BIENES E INVENTARIO VENDIDOS Y EN USO | AW4: CONTEO | AX4: OBSERVACION | AY4: VERIFICADO | AZ4: RAMO
A5: 3 | B5: 80042000017163 | C5: BIEN0234 | D5: BODEGA CENTRAL | E5: ESTANTERIA 15 | F5: NIVEL 2 | G5: BODEGA CENTRAL | H5: ACTIVO FIJO | I5: ACTIVOS DE EXPLORACION | J5: N/A | K5: N/A | L5: BASTON PARA ANTENA DE GPS TRIDIMENCIONAL CARCA SOUTH | M5: [ ANTENA DE GPS TRIDIMENCIONAL ] - MARCA: SOUTH; MODELO: S82-T; AÑO: 2012; ESTADO: BUENO; COLOR: PLATEADO; ESTRUCTURA: METAL; CANTIDAD: 1 | N5: N/A | O5: N/A | P5: N/A | Q5: SOUTH | R5: S82-T | S5: ND | T5: PLOMO | U5: ND | V5: ND | W5: BUENO | X5: 2012 | Y5: ND | Z5: MATRIZ | AA5: 1 | AB5: 1 | AC5: =AA5-AB5 -> 0 | AD5: N/A | AE5: N/A | AF5: 6636 | AG5: 3981.6 | AH5: 7550 | AI5: =AH5*AB5 -> 7550 | AJ5: 2718.3929 | AK5: =AJ5*AB5 -> 2718.3929 | AL5: =AK5*0.12 -> 326.20714 | AM5: =AL5+AK5 -> 3044.6 | AN5: =AJ5*0.9 -> 2446.5536 | AO5: =AN5*AB5 -> 2446.5536 | AP5: =AO5*0.12 -> 293.58643 | AQ5: =AO5+AP5 -> 2740.14 | AR5: EQUIPOS DE EXPLORACIÓN Y MAQUINARIA DE PERFORACIÓN | AS5: EQUIPO DE TOPOGRAFÍA | AT5: VENTA | AU5: PF | AZ5: IN
A6: 6 | B6: 80042000008772 | C6: BIEN0200 | D6: BODEGA CENTRAL | E6: CONTENEDOR No 2 | F6: INTERIOR CONTENEDOR No 2 | G6: BODEGA CENTRAL | H6: ACTIVO FIJO | I6: ACTIVOS DE EXPLORACION | J6: N/A | K6: N/A | L6: TAMIZADORA | M6: [ TAMIZADORA ] - MARCA: RETSCH; MODELO: AS 200 CONTROL; SERIE: 1214310316; AÑO: 2014; ESTADO: BUENO; COLOR: PLOMO; ESTRUCTURA: ( SIN ESTRUCTURA ); COMPONENTE: ( SIN COMPONENTE ); CAPACIDAD: 340 VA; CANTIDAD: 1 | N6: N/A | O6: N/A | P6: N/A | Q6: RETSCH | R6: AS 200 CONTROL | S6: 1214310316 | T6: PLOMO | U6: 340 VA | V6: ND | W6: BUENO | X6: 2014 | Y6: ND | Z6: MOMPICHE | AA6: 1 | AB6: 1 | AC6: =AA6-AB6 -> 0 | AD6: N/A | AE6: N/A | AF6: 3196 | AG6: 1917.6 | AH6: 4282 | AI6: =AH6*AB6 -> 4282 | AJ6: 1796.25 | AK6: =AJ6*AB6 -> 1796.25 | AL6: =AK6*0.12 -> 215.55 | AM6: =AL6+AK6 -> 2011.8 | AN6: =AJ6*0.9 -> 1616.625 | AO6: =AN6*AB6 -> 1616.625 | AP6: =AO6*0.12 -> 193.995 | AQ6: =AO6+AP6 -> 1810.62 | AR6: EQUIPOS DE EXPLORACIÓN Y MAQUINARIA DE PERFORACIÓN | AS6: EQUIPO DE EXPLORACIÓN | AT6: VENTA | AU6: PF | AZ6: IN
A7: 7 | B7: 80042000006297 | C7: BIEN0276 | D7: BODEGA CENTRAL | E7: CONTENEDOR No 2 | F7: INTERIOR CONTENEDOR No 2 | G7: BODEGA CENTRAL | H7: ACTIVO FIJO | I7: ACTIVOS DE EXPLORACION | J7: N/A | K7: N/A | L7: MUFLA | M7: [ MUFLA ] - MARCA: CARBOLITE; MODELO: AX30; SERIE: 21-304049; AÑO: 2014; ESTADO: BUENO; COLOR: PLOMO; ESTRUCTURA: METAL; COMPONENTE: ( SIN COMPONENTE ); LARGO: 60 CM; ANCHO: 45 CM; ALTO: 43 CM; CANTIDAD: 1 | N7: N/A | O7: N/A | P7: N/A | Q7: CARBOLITE | R7: AX30 | S7: 21-304049 | T7: NEGRO | U7: ND | V7: ND | W7: BUENO | X7: 2014 | Y7: 250º DE TEMPERATURA MAXIMA | Z7: MOMPICHE | AA7: 1 | AB7: 1 | AC7: =AA7-AB7 -> 0 | AD7: N/A | AE7: N/A | AF7: 1913 | AG7: 1147.7 | AH7: 1400 | AI7: =AH7*AB7 -> 1400 | AJ7: 976.395 | AK7: =AJ7*AB7 -> 976.395 | AL7: =AK7*0.12 -> 117.1674 | AM7: =AL7+AK7 -> 1093.5624 | AN7: =AJ7*0.9 -> 878.7555 | AO7: =AN7*AB7 -> 878.7555 | AP7: =AO7*0.12 -> 105.45066 | AQ7: =AO7+AP7 -> 984.20616 | AR7: EQUIPOS DE EXPLORACIÓN Y MAQUINARIA DE PERFORACIÓN | AS7: EQUIPO DE EXPLORACIÓN | AT7: VENTA | AU7: PF | AZ7: IN
A8: 8 | B8: 80042000009885 | C8: BIEN0259 | D8: BODEGA CENTRAL | E8: ESTRUCTURA DE MADERA TRAS CONTENEDOR No 1 | F8: SOBRE ESTRUCTURA DE MADERA TRAS CONTENEDOR No 1 | G8: BODEGA CENTRAL | H8: ACTIVO FIJO | I8: ACTIVOS DE EXPLORACION | J8: N/A | K8: N/A | L8: BALANZA DIGITAL | M8: [ BALANZA DIGITAL ] - MARCA: ADAM; MODELO: PGW 3502E; SERIE: AE434446; AÑO: 2012; ESTADO: BUENO; COLOR: BLANCO; ESTRUCTURA: ( SIN ESTRUCTURA ); COMPONENTE: ( SIN COMPONENTE ); CAPACIDAD: 3.5 KG; CANTIDAD: 1 | N8: N/A | O8: N/A | P8: N/A | Q8: ADAM | R8: PGW 3502E | S8: AE434446 | T8: NEGRO | U8: 3.5 kg | V8: ND | W8: BUENO | X8: 2012 | Y8: ND | Z8: MOMPICHE | AA8: 1 | AB8: 1 | AC8: =AA8-AB8 -> 0 | AD8: N/A | AE8: N/A | AF8: 588 | AG8: 352.8 | AH8: 1020 | AI8: =AH8*AB8 -> 1020 | AJ8: 296.25 | AK8: =AJ8*AB8 -> 296.25 | AL8: =AK8*0.12 -> 35.55 | AM8: =AL8+AK8 -> 331.8 | AN8: =AJ8*0.9 -> 266.625 | AO8: =AN8*AB8 -> 266.625 | AP8: =AO8*0.12 -> 31.995 | AQ8: =AO8+AP8 -> 298.62 | AR8: EQUIPOS DE EXPLORACIÓN Y MAQUINARIA DE PERFORACIÓN | AS8: EQUIPO DE EXPLORACIÓN | AT8: VENTA | AU8: PF | AZ8: IN
A9: 9 | B9: 80042000018191 | C9: BIEN0248 | D9: BODEGA CENTRAL | E9: CONTENEDOR No 2 | F9: INTERIOR CONTENEDOR No 2 | G9: BODEGA CENTRAL | H9: ACTIVO FIJO | I9: ACTIVOS DE EXPLORACION | J9: N/A | K9: N/A | L9: ALTIMETRO | M9: [ ALTIMETRO ] - MARCA: BARIGO; AÑO: 2012; ESTADO: BUENO; COLOR: NEGRO; ESTRUCTURA: PLASTICO; CANTIDAD: 1 | N9: N/A | O9: N/A | P9: N/A | Q9: BARIGO | R9: 6X1000 M | S9: ND | T9: NEGRO | U9: Altímetro de alta precisión 6 x 1000 m. Barómetro. Ø 6 cm. Graduaciones cada 10 m; Rangos: 0 a 4.000 m; 970 a 1.050 hPa. | V9: ND | W9: BUENO | X9: 2012 | Y9: ND | Z9: MATRIZ | AA9: 1 | AB9: 1 | AC9: =AA9-AB9 -> 0 | AD9: N/A | AE9: N/A | AF9: 247 | AG9: 148.3 | AH9: 324 | AI9: =AH9*AB9 -> 324 | AJ9: 152.54464 | AK9: =AJ9*AB9 -> 152.54464 | AL9: =AK9*0.12 -> 18.305357 | AM9: =AL9+AK9 -> 170.85 | AN9: =AJ9*0.9 -> 137.29018 | AO9: =AN9*AB9 -> 137.29018 | AP9: =AO9*0.12 -> 16.474821 | AQ9: =AO9+AP9 -> 153.765 | AR9: EQUIPOS DE EXPLORACIÓN Y MAQUINARIA DE PERFORACIÓN | AS9: EQUIPO DE EXPLORACIÓN | AT9: VENTA | AU9: PF | AZ9: IN
A10: 10 | B10: 80042000018177 | C10: BIEN0249 | D10: BODEGA CENTRAL | E10: CONTENEDOR No 2 | F10: INTERIOR CONTENEDOR No 2 | G10: BODEGA CENTRAL | H10: ACTIVO FIJO | I10: ACTIVOS DE EXPLORACION | J10: N/A | K10: N/A | L10: ALTIMETRO | M10: [ ALTIMETRO ] - MARCA: BARIGO; AÑO: 2012; ESTADO: BUENO; COLOR: NEGRO; ESTRUCTURA: PLASTICO; CANTIDAD: 1 | N10: N/A | O10: N/A | P10: N/A | Q10: BARIGO | R10: 6X1000 M | S10: ND | T10: NEGRO | U10: Altímetro de alta precisión 6 x 1000 m. Barómetro. Ø 6 cm. Graduaciones cada 10 m; Rangos: 0 a 4.000 m; 970 a 1.050 hPa. | V10: ND | W10: BUENO | X10: 2012 | Y10: ND | Z10: MATRIZ | AA10: 1 | AB10: 1 | AC10: =AA10-AB10 -> 0 | AD10: N/A | AE10: N/A | AF10: 247 | AG10: 148.3 | AH10: 324 | AI10: =AH10*AB10 -> 324 | AJ10: 152.54464 | AK10: =AJ10*AB10 -> 152.54464 | AL10: =AK10*0.12 -> 18.305357 | AM10: =AL10+AK10 -> 170.85 | AN10: =AJ10*0.9 -> 137.29018 | AO10: =AN10*AB10 -> 137.29018 | AP10: =AO10*0.12 -> 16.474821 | AQ10: =AO10+AP10 -> 153.765 | AR10: EQUIPOS DE EXPLORACIÓN Y MAQUINARIA DE PERFORACIÓN | AS10: EQUIPO DE EXPLORACIÓN | AT10: VENTA | AU10: PF | AZ10: IN
A11: 11 | B11: 80042000018153 | C11: BIEN0251 | D11: BODEGA CENTRAL | E11: CONTENEDOR No 2 | F11: INTERIOR CONTENEDOR No 2 | G11: BODEGA CENTRAL | H11: ACTIVO FIJO | I11: ACTIVOS DE EXPLORACION | J11: N/A | K11: N/A | L11: ALTIMETRO | M11: [ ALTIMETRO ] - MARCA: BARIGO; AÑO: 2012; ESTADO: BUENO; COLOR: NEGRO; ESTRUCTURA: PLASTICO; CANTIDAD: 1 | N11: N/A | O11: N/A | P11: N/A | Q11: BARIGO | R11: 6X1000 M | S11: ND | T11: NEGRO | U11: Altímetro de alta precisión 6 x 1000 m. Barómetro. Ø 6 cm. Graduaciones cada 10 m; Rangos: 0 a 4.000 m; 970 a 1.050 hPa. | V11: ND | W11: BUENO | X11: 2012 | Y11: ND | Z11: MATRIZ | AA11: 1 | AB11: 1 | AC11: =AA11-AB11 -> 0 | AD11: N/A | AE11: N/A | AF11: 247 | AG11: 148.3 | AH11: 324 | AI11: =AH11*AB11 -> 324 | AJ11: 152.54464 | AK11: =AJ11*AB11 -> 152.54464 | AL11: =AK11*0.12 -> 18.305357 | AM11: =AL11+AK11 -> 170.85 | AN11: =AJ11*0.9 -> 137.29018 | AO11: =AN11*AB11 -> 137.29018 | AP11: =AO11*0.12 -> 16.474821 | AQ11: =AO11+AP11 -> 153.765 | AR11: EQUIPOS DE EXPLORACIÓN Y MAQUINARIA DE PERFORACIÓN | AS11: EQUIPO DE EXPLORACIÓN | AT11: VENTA | AU11: PF | AZ11: IN
A12: 12 | B12: 80042000018184 | C12: BIEN0254 | D12: BODEGA CENTRAL | E12: CONTENEDOR No 2 | F12: INTERIOR CONTENEDOR No 2 | G12: BODEGA CENTRAL | H12: ACTIVO FIJO | I12: ACTIVOS DE EXPLORACION | J12: N/A | K12: N/A | L12: ALTIMETRO | M12: [ ALTIMETRO ] - MARCA: BARIGO; AÑO: 2012; ESTADO: BUENO; COLOR: NEGRO; ESTRUCTURA: PLASTICO; CANTIDAD: 1 | N12: N/A | O12: N/A | P12: N/A | Q12: BARIGO | R12: 6X1000 M | S12: ND | T12: NEGRO | U12: Altímetro de alta precisión 6 x 1000 m. Barómetro. Ø 6 cm. Graduaciones cada 10 m; Rangos: 0 a 4.000 m; 970 a 1.050 hPa. | V12: ND | W12: BUENO | X12: 2012 | Y12: ND | Z12: MATRIZ | AA12: 1 | AB12: 1 | AC12: =AA12-AB12 -> 0 | AD12: N/A | AE12: N/A | AF12: 247 | AG12: 148.3 | AH12: 324 | AI12: =AH12*AB12 -> 324 | AJ12: 152.54464 | AK12: =AJ12*AB12 -> 152.54464 | AL12: =AK12*0.12 -> 18.305357 | AM12: =AL12+AK12 -> 170.85 | AN12: =AJ12*0.9 -> 137.29018 | AO12: =AN12*AB12 -> 137.29018 | AP12: =AO12*0.12 -> 16.474821 | AQ12: =AO12+AP12 -> 153.765 | AR12: EQUIPOS DE EXPLORACIÓN Y MAQUINARIA DE PERFORACIÓN | AS12: EQUIPO DE EXPLORACIÓN | AT12: VENTA | AU12: PF | AZ12: IN
A13: 13 | B13: 80042000018160 | C13: BIEN0256 | D13: BODEGA CENTRAL | E13: CONTENEDOR No 2 | F13: INTERIOR CONTENEDOR No 2 | G13: BODEGA CENTRAL | H13: ACTIVO FIJO | I13: ACTIVOS DE EXPLORACION | J13: N/A | K13: N/A | L13: ALTIMETRO | M13: [ ALTIMETRO ] - MARCA: BARIGO; AÑO: 2012; ESTADO: BUENO; COLOR: NEGRO; ESTRUCTURA: PLASTICO; CANTIDAD: 1 | N13: N/A | O13: N/A | P13: N/A | Q13: BARIGO | R13: 6X1000 M | S13: ND | T13: NEGRO | U13: Altímetro de alta precisión 6 x 1000 m. Barómetro. Ø 6 cm. Graduaciones cada 10 m; Rangos: 0 a 4.000 m; 970 a 1.050 hPa. | V13: ND | W13: BUENO | X13: 2012 | Y13: ND | Z13: MATRIZ | AA13: 1 | AB13: 1 | AC13: =AA13-AB13 -> 0 | AD13: N/A | AE13: N/A | AF13: 247 | AG13: 148.3 | AH13: 324 | AI13: =AH13*AB13 -> 324 | AJ13: 152.54464 | AK13: =AJ13*AB13 -> 152.54464 | AL13: =AK13*0.12 -> 18.305357 | AM13: =AL13+AK13 -> 170.85 | AN13: =AJ13*0.9 -> 137.29018 | AO13: =AN13*AB13 -> 137.29018 | AP13: =AO13*0.12 -> 16.474821 | AQ13: =AO13+AP13 -> 153.765 | AR13: EQUIPOS DE EXPLORACIÓN Y MAQUINARIA DE PERFORACIÓN | AS13: EQUIPO DE EXPLORACIÓN | AT13: VENTA | AU13: PF | AZ13: IN
A14: 14 | B14: 80042000008680 | C14: BIEN0252 | D14: BODEGA CENTRAL | E14: CONTENEDOR No 2 | F14: INTERIOR CONTENEDOR No 2 | G14: BODEGA CENTRAL | H14: ACTIVO FIJO | I14: ACTIVOS DE EXPLORACION | J14: N/A | K14: N/A | L14: ALTIMETRO | M14: [ ALTIMETRO ] - MARCA: BARIGO; AÑO: 2012; ESTADO: BUENO; COLOR: NEGRO; ESTRUCTURA: ( SIN ESTRUCTURA ); COMPONENTE: ( SIN COMPONENTE ); CANTIDAD: 1 | N14: N/A | O14: N/A | P14: N/A | Q14: BARIGO | R14: 6X1000 M | S14: ND | T14: NEGRO | U14: Altímetro de alta precisión 6 x 1000 m. Barómetro. Ø 6 cm. Graduaciones cada 10 m; Rangos: 0 a 4.000 m; 970 a 1.050 hPa. | V14: ND | W14: BUENO | X14: 2012 | Y14: ND | Z14: MOMPICHE | AA14: 1 | AB14: 1 | AC14: =AA14-AB14 -> 0 | AD14: N/A | AE14: N/A | AF14: 247 | AG14: 148.3 | AH14: 324 | AI14: =AH14*AB14 -> 324 | AJ14: 152.54464 | AK14: =AJ14*AB14 -> 152.54464 | AL14: =AK14*0.12 -> 18.305357 | AM14: =AL14+AK14 -> 170.85 | AN14: =AJ14*0.9 -> 137.29018 | AO14: =AN14*AB14 -> 137.29018 | AP14: =AO14*0.12 -> 16.474821 | AQ14: =AO14+AP14 -> 153.765 | AR14: EQUIPOS DE EXPLORACIÓN Y MAQUINARIA DE PERFORACIÓN | AS14: EQUIPO DE EXPLORACIÓN | AT14: VENTA | AU14: PF | AZ14: IN
A15: 15 | B15: 80042000008093 | C15: BIEN0244 | D15: BODEGA CENTRAL | E15: CONTENEDOR No 2 | F15: INTERIOR CONTENEDOR No 2 | G15: BODEGA CENTRAL | H15: ACTIVO FIJO | I15: ACTIVOS DE EXPLORACION | J15: N/A | K15: N/A | L15: ALTIMETRO | M15: [ ALTIMETRO ] - MARCA: BARIGO; AÑO: 2012; ESTADO: BUENO; COLOR: NEGRO; ESTRUCTURA: ( SIN ESTRUCTURA ); COMPONENTE: ( SIN COMPONENTE ); CANTIDAD: 1 | N15: N/A | O15: N/A | P15: N/A | Q15: BARIGO | R15: 6X1000 M | S15: ND | T15: NEGRO | U15: Altímetro de alta precisión 6 x 1000 m. Barómetro. Ø 6 cm. Graduaciones cada 10 m; Rangos: 0 a 4.000 m; 970 a 1.050 hPa. | V15: ND | W15: BUENO | X15: 2012 | Y15: ND | Z15: REVENTADOR | AA15: 1 | AB15: 1 | AC15: =AA15-AB15 -> 0 | AD15: N/A | AE15: N/A | AF15: 247 | AG15: 148.3 | AH15: 324 | AI15: =AH15*AB15 -> 324 | AJ15: 152.54464 | AK15: =AJ15*AB15 -> 152.54464 | AL15: =AK15*0.12 -> 18.305357 | AM15: =AL15+AK15 -> 170.85 | AN15: =AJ15*0.9 -> 137.29018 | AO15: =AN15*AB15 -> 137.29018 | AP15: =AO15*0.12 -> 16.474821 | AQ15: =AO15+AP15 -> 153.765 | AR15: EQUIPOS DE EXPLORACIÓN Y MAQUINARIA DE PERFORACIÓN | AS15: EQUIPO DE EXPLORACIÓN | AT15: VENTA | AU15: PF | AZ15: IN
A16: 16 | B16: 80042000008109 | C16: BIEN0245 | D16: BODEGA CENTRAL | E16: CONTENEDOR No 2 | F16: INTERIOR CONTENEDOR No 2 | G16: BODEGA CENTRAL | H16: ACTIVO FIJO | I16: ACTIVOS DE EXPLORACION | J16: N/A | K16: N/A | L16: ALTIMETRO | M16: [ ALTIMETRO ] - MARCA: BARIGO; AÑO: 2012; ESTADO: BUENO; COLOR: NEGRO; ESTRUCTURA: ( SIN ESTRUCTURA ); COMPONENTE: ( SIN COMPONENTE ); CANTIDAD: 1 | N16: N/A | O16: N/A | P16: N/A | Q16: BARIGO | R16: 6X1000 M | S16: ND | T16: NEGRO | U16: Altímetro de alta precisión 6 x 1000 m. Barómetro. Ø 6 cm. Graduaciones cada 10 m; Rangos: 0 a 4.000 m; 970 a 1.050 hPa. | V16: ND | W16: BUENO | X16: 2012 | Y16: ND | Z16: REVENTADOR | AA16: 1 | AB16: 1 | AC16: =AA16-AB16 -> 0 | AD16: N/A | AE16: N/A | AF16: 247 | AG16: 148.3 | AH16: 324 | AI16: =AH16*AB16 -> 324 | AJ16: 152.54464 | AK16: =AJ16*AB16 -> 152.54464 | AL16: =AK16*0.12 -> 18.305357 | AM16: =AL16+AK16 -> 170.85 | AN16: =AJ16*0.9 -> 137.29018 | AO16: =AN16*AB16 -> 137.29018 | AP16: =AO16*0.12 -> 16.474821 | AQ16: =AO16+AP16 -> 153.765 | AR16: EQUIPOS DE EXPLORACIÓN Y MAQUINARIA DE PERFORACIÓN | AS16: EQUIPO DE EXPLORACIÓN | AT16: VENTA | AU16: PF | AZ16: IN
A17: 17 | B17: 80042000008598 | C17: BIEN0247 | D17: BODEGA CENTRAL | E17: CONTENEDOR No 2 | F17: INTERIOR CONTENEDOR No 2 | G17: BODEGA CENTRAL | H17: ACTIVO FIJO | I17: ACTIVOS DE EXPLORACION | J17: N/A | K17: N/A | L17: ALTIMETRO | M17: [ ALTIMETRO ] - MARCA: BARIGO; AÑO: 2012; ESTADO: BUENO; COLOR: NEGRO; ESTRUCTURA: ( SIN ESTRUCTURA ); COMPONENTE: ( SIN COMPONENTE ); CANTIDAD: 1 | N17: N/A | O17: N/A | P17: N/A | Q17: BARIGO | R17: 6X1000 M | S17: ND | T17: NEGRO | U17: Altímetro de alta precisión 6 x 1000 m. Barómetro. Ø 6 cm. Graduaciones cada 10 m; Rangos: 0 a 4.000 m; 970 a 1.050 hPa. | V17: ND | W17: BUENO | X17: 2012 | Y17: ND | Z17: REVENTADOR | AA17: 1 | AB17: 1 | AC17: =AA17-AB17 -> 0 | AD17: N/A | AE17: N/A | AF17: 247 | AG17: 148.3 | AH17: 324 | AI17: =AH17*AB17 -> 324 | AJ17: 152.54464 | AK17: =AJ17*AB17 -> 152.54464 | AL17: =AK17*0.12 -> 18.305357 | AM17: =AL17+AK17 -> 170.85 | AN17: =AJ17*0.9 -> 137.29018 | AO17: =AN17*AB17 -> 137.29018 | AP17: =AO17*0.12 -> 16.474821 | AQ17: =AO17+AP17 -> 153.765 | AR17: EQUIPOS DE EXPLORACIÓN Y MAQUINARIA DE PERFORACIÓN | AS17: EQUIPO DE EXPLORACIÓN | AT17: VENTA | AU17: PF | AZ17: IN
A18: 18 | B18: 80042000008581 | C18: BIEN0250 | D18: BODEGA CENTRAL | E18: CONTENEDOR No 2 | F18: INTERIOR CONTENEDOR No 2 | G18: BODEGA CENTRAL | H18: ACTIVO FIJO | I18: ACTIVOS DE EXPLORACION | J18: N/A | K18: N/A | L18: ALTIMETRO | M18: [ ALTIMETRO ] - MARCA: BARIGO; AÑO: 2012; ESTADO: BUENO; COLOR: NEGRO; ESTRUCTURA: ( SIN ESTRUCTURA ); COMPONENTE: ( SIN COMPONENTE ); CANTIDAD: 1 | N18: N/A | O18: N/A | P18: N/A | Q18: BARIGO | R18: 6X1000 M | S18: ND | T18: NEGRO | U18: Altímetro de alta precisión 6 x 1000 m. Barómetro. Ø 6 cm. Graduaciones cada 10 m; Rangos: 0 a 4.000 m; 970 a 1.050 hPa. | V18: ND | W18: BUENO | X18: 2012 | Y18: ND | Z18: REVENTADOR | AA18: 1 | AB18: 1 | AC18: =AA18-AB18 -> 0 | AD18: N/A | AE18: N/A | AF18: 247 | AG18: 148.3 | AH18: 324 | AI18: =AH18*AB18 -> 324 | AJ18: 152.54464 | AK18: =AJ18*AB18 -> 152.54464 | AL18: =AK18*0.12 -> 18.305357 | AM18: =AL18+AK18 -> 170.85 | AN18: =AJ18*0.9 -> 137.29018 | AO18: =AN18*AB18 -> 137.29018 | AP18: =AO18*0.12 -> 16.474821 | AQ18: =AO18+AP18 -> 153.765 | AR18: EQUIPOS DE EXPLORACIÓN Y MAQUINARIA DE PERFORACIÓN | AS18: EQUIPO DE EXPLORACIÓN | AT18: VENTA | AU18: PF | AZ18: IN
... A25: 165 | B25: 80042000008949 | C25: BIEN0091 | D25: BODEGA CENTRAL | E25: ESTANTERIA 15 | F25: NIVEL 1 | G25: BODEGA CENTRAL | H25: ACTIVO FIJO | I25: MAQUINARIA Y EQUIPO PESADO | J25: N/A | K25: N/A | L25: ESTACION TOTAL | M25: [ ESTACION TOTAL ] - MARCA: TRIMBLE M3; MODELO: DR2; SERIE: C602604; AÑO: 2012; ESTADO: BUENO; COLOR: AMARILLO; ESTRUCTURA: ( SIN ESTRUCTURA ); COMPONENTE: ( SIN COMPONENTE ); CANTIDAD: 1 | N25: N/A | O25: N/A | P25: N/A | Q25: TRIMBLE | R25: M3 DR2 | S25: C602604 | T25: AMARILLO | U25: ND | V25: ND | W25: BUENO | X25: 2012 | Y25: ND | Z25: MOMPICHE | AA25: 1 | AB25: 1 | AC25: =AA25-AB25 -> 0 | AD25: N/A | AE25: N/A | AF25: 7320 | AG25: 5124 | AH25: 7344 | AI25: =AH25*AB25 -> 7344 | AJ25: 3843.75 | AK25: =AJ25*AB25 -> 3843.75 | AL25: =AK25*0.12 -> 461.25 | AM25: =AL25+AK25 -> 4305 | AN25: =AJ25*0.9 -> 3459.375 | AO25: =AN25*AB25 -> 3459.375 | AP25: =AO25*0.12 -> 415.125 | AQ25: =AO25+AP25 -> 3874.5 | AR25: EQUIPOS DE EXPLORACIÓN Y MAQUINARIA DE PERFORACIÓN | AS25: EQUIPO DE TOPOGRAFÍA | AT25: VENTA | AU25: PF | AZ25: IN
A26: 166 | B26: 80042000006242 | C26: BIEN0323 | D26: BODEGA CENTRAL | E26: CONTENEDOR No 1 | F26: INTERIOR CONTENEDOR No 1 | G26: BODEGA CENTRAL | H26: ACTIVO FIJO | I26: MAQUINARIA Y EQUIPO PESADO | J26: N/A | K26: N/A | L26: CONTENEDOR | M26: [ CONTENEDOR ] - AÑO: 2008; ESTADO: BUENO; COLOR: ROJO; ESTRUCTURA: METAL; COMPONENTE: ( SIN COMPONENTE ); LARGO: 600 CM; ANCHO: 240 CM; ALTO: 260 CM; CANTIDAD: 1 | N26: N/A | O26: N/A | P26: N/A | Q26: FLORENS | R26: 22G1 | S26: 308590 | T26: ROJO | U26: 28260 KG | V26: ND | W26: BUENO | X26: 2008 | Y26: PISO DE MADERA | Z26: MOMPICHE | AA26: 1 | AB26: 1 | AC26: =AA26-AB26 -> 0 | AD26: N/A | AE26: N/A | AF26: 5282 | AG26: 3697.4 | AH26: 6500 | AI26: =AH26*AB26 -> 6500 | AJ26: 2219.04 | AK26: =AJ26*AB26 -> 2219.04 | AL26: =AK26*0.12 -> 266.2848 | AM26: =AL26+AK26 -> 2485.3248 | AN26: =AJ26*0.9 -> 1997.136 | AO26: =AN26*AB26 -> 1997.136 | AP26: =AO26*0.12 -> 239.65632 | AQ26: =AO26+AP26 -> 2236.7923 | AR26: EQUIPOS DE EXPLORACIÓN Y MAQUINARIA DE PERFORACIÓN | AS26: MAQUINARIAS E ÍNSUMOS DE PERFORACIÓN | AT26: VENTA | AU26: PF | AZ26: IN
A27: 167 | B27: 80042000006259 | C27: BIEN0381 | D27: BODEGA CENTRAL | E27: CONTENEDOR No 2 | F27: INTERIOR CONTENEDOR No 2 | G27: BODEGA CENTRAL | H27: ACTIVO FIJO | I27: MAQUINARIA Y EQUIPO PESADO | J27: N/A | K27: N/A | L27: CONTENEDOR | M27: [ CONTENEDOR ] - AÑO: 2008; ESTADO: BUENO; COLOR: ROJO; ESTRUCTURA: METAL; COMPONENTE: ( SIN COMPONENTE ); LARGO: 600 CM; ANCHO: 240 CM; ALTO: 260 CM; CANTIDAD: 1 | N27: N/A | O27: N/A | P27: N/A | Q27: FLORENS | R27: 22G1 | S27: 385814 | T27: ROJO | U27: 28260 KG | V27: ND | W27: BUENO | X27: 2008 | Y27: PISO DE MADERA | Z27: MOMPICHE | AA27: 1 | AB27: 1 | AC27: =AA27-AB27 -> 0 | AD27: N/A | AE27: N/A | AF27: 5282 | AG27: 3697.4 | AH27: 6500 | AI27: =AH27*AB27 -> 6500 | AJ27: 2219.04 | AK27: =AJ27*AB27 -> 2219.04 | AL27: =AK27*0.12 -> 266.2848 | AM27: =AL27+AK27 -> 2485.3248 | AN27: =AJ27*0.9 -> 1997.136 | AO27: =AN27*AB27 -> 1997.136 | AP27: =AO27*0.12 -> 239.65632 | AQ27: =AO27+AP27 -> 2236.7923 | AR27: EQUIPOS DE EXPLORACIÓN Y MAQUINARIA DE PERFORACIÓN | AS27: MAQUINARIAS E ÍNSUMOS DE PERFORACIÓN | AT27: VENTA | AU27: PF | AZ27: IN
A28: 168 | B28: 80042000008956 | C28: BIEN0083 | D28: BODEGA CENTRAL | E28: ESTANTERIA 15 | F28: NIVEL 3 | G28: BODEGA CENTRAL | H28: ACTIVO FIJO | I28: MAQUINARIA Y EQUIPO PESADO | J28: N/A | K28: N/A | L28: ESTACION TOTAL | M28: [ ESTACION TOTAL ] - MARCA: SOKKIA; MODELO: SET550RX; SERIE: 117361; AÑO: 2007; ESTADO: BUENO; COLOR: VERDE; ESTRUCTURA: ( SIN ESTRUCTURA ); COMPONENTE: ( SIN COMPONENTE ); CANTIDAD: 1 | N28: N/A | O28: N/A | P28: N/A | Q28: SOKKIA | R28: SET550RX | S28: 117361 | T28: PLOMO | U28: ND | V28: ND | W28: BUENO | X28: 2007 | Y28: ND | Z28: MOMPICHE | AA28: 1 | AB28: 1 | AC28: =AA28-AB28 -> 0 | AD28: N/A | AE28: N/A | AF28: 3979 | AG28: 2785.1 | AH28: 5226 | AI28: =AH28*AB28 -> 5226 | AJ28: 2089.575 | AK28: =AJ28*AB28 -> 2089.575 | AL28: =AK28*0.12 -> 250.749 | AM28: =AL28+AK28 -> 2340.324 | AN28: =AJ28*0.9 -> 1880.6175 | AO28: =AN28*AB28 -> 1880.6175 | AP28: =AO28*0.12 -> 225.6741 | AQ28: =AO28+AP28 -> 2106.2916 | AR28: EQUIPOS DE EXPLORACIÓN Y MAQUINARIA DE PERFORACIÓN | AS28: EQUIPO DE TOPOGRAFÍA | AT28: VENTA | AU28: PF | AZ28: IN
A29: 182 | B29: 80042000000820 | C29: BIEN0163 | D29: BODEGA CENTRAL | E29: ARMARIO 1 | F29: NIVEL 2 | G29: BODEGA CENTRAL | H29: ACTIVO FIJO | I29: MAQUINARIA Y EQUIPO PESADO | J29: N/A | K29: N/A | L29: LUXOMETRO | M29: [ LUXOMETRO ] - MARCA: TESTO; MODELO: 545; AÑO: 2013; ESTADO: BUENO; COLOR: AZUL; ESTRUCTURA: ( SIN ESTRUCTURA ); COMPONENTE: ( SIN COMPONENTE ); CANTIDAD: 1 | N29: N/A | O29: N/A | P29: N/A | Q29: TESTO | R29: 545 | S29: 2548825 | T29: AZUL | U29: ND | V29: ND | W29: BUENO | X29: 2013 | Y29: ND | Z29: REVENTADOR | AA29: 1 | AB29: 1 | AC29: =AA29-AB29 -> 0 | AD29: N/A | AE29: N/A | AF29: 567 | AG29: 396.7 | AH29: 781 | AI29: =AH29*AB29 -> 781 | AJ29: 298.275 | AK29: =AJ29*AB29 -> 298.275 | AL29: =AK29*0.12 -> 35.793 | AM29: =AL29+AK29 -> 334.068 | AN29: =AJ29*0.9 -> 268.4475 | AO29: =AN29*AB29 -> 268.4475 | AP29: =AO29*0.12 -> 32.2137 | AQ29: =AO29+AP29 -> 300.6612 | AR29: EQUIPOS MEDICOS / MDEM / IM / RDT / PP / SEÑALETICA Y MS / EXTINTORES / MDGA | AS29: EQUIPO MÉDICO | AT29: SIN USO | AU29: INVTR | AZ29: IN
A30: 183 | B30: 80042000018566 | C30: INV00665 | D30: BODEGA CENTRAL | E30: ESTRUCTURA DE MADERA TRAS CONTENEDOR No 1 | F30: SOBRE ESTRUCTURA DE MADERA TRAS CONTENEDOR No 1 | G30: BODEGA CENTRAL | H30: ACTIVO FIJO | I30: MAQUINARIA Y EQUIPO PESADO | J30: N/A | K30: N/A | L30: BALANZA CON TALLIMETRO | M30: BASCULA ROMANA CON TALLIMETRO 200 KG. ADE M318800 | N30: N/A | O30: N/A | P30: N/A | Q30: ADE | R30: M318800 | S30: 16329-0000802 | T30: GRIS | U30: ND | V30: ND | W30: MUY BUENO | X30: 2017 | Y30: ND | Z30: MATRIZ | AA30: 1 | AB30: 1 | AC30: =AA30-AB30 -> 0 | AD30: N/A | AE30: N/A | AF30: 450 | AG30: 310.36 | AH30: 364.936 | AI30: =AH30*AB30 -> 364.936 | AJ30: 217.952 | AK30: =AJ30*AB30 -> 217.952 | AL30: =AK30*0.12 -> 26.15424 | AM30: =AL30+AK30 -> 244.10624 | AN30: =AJ30*0.9 -> 196.1568 | AO30: =AN30*AB30 -> 196.1568 | AP30: =AO30*0.12 -> 23.538816 | AQ30: =AO30+AP30 -> 219.69562 | AR30: EQUIPOS MEDICOS / MDEM / IM / RDT / PP / SEÑALETICA Y MS / EXTINTORES / MDGA | AS30: EQUIPO MÉDICO | AT30: VENTA | AU30: SAR | AZ30: IN
A31: 184 | B31: 80042000018573 | C31: INV00669 | D31: BODEGA CENTRAL | E31: ESTRUCTURA DE MADERA TRAS CONTENEDOR No 1 | F31: SOBRE ESTRUCTURA DE MADERA TRAS CONTENEDOR No 1 | G31: BODEGA CENTRAL | H31: ACTIVO FIJO | I31: MAQUINARIA Y EQUIPO PESADO | J31: N/A | K31: N/A | L31: BALANZA CON TALLIMETRO | M31: BASCULA ROMANA CON TALLIMETRO 200 KG. ADE M318800 | N31: N/A | O31: N/A | P31: N/A | Q31: ADE | R31: M318800 | S31: 16329-0005890 | T31: GRIS | U31: ND | V31: ND | W31: MUY BUENO | X31: 2017 | Y31: ND | Z31: MATRIZ | AA31: 1 | AB31: 1 | AC31: =AA31-AB31 -> 0 | AD31: N/A | AE31: N/A | AF31: 450 | AG31: 310.36 | AH31: 364.936 | AI31: =AH31*AB31 -> 364.936 | AJ31: 217.952 | AK31: =AJ31*AB31 -> 217.952 | AL31: =AK31*0.12 -> 26.15424 | AM31: =AL31+AK31 -> 244.10624 | AN31: =AJ31*0.9 -> 196.1568 | AO31: =AN31*AB31 -> 196.1568 | AP31: =AO31*0.12 -> 23.538816 | AQ31: =AO31+AP31 -> 219.69562 | AR31: EQUIPOS MEDICOS / MDEM / IM / RDT / PP / SEÑALETICA Y MS / EXTINTORES / MDGA | AS31: EQUIPO MÉDICO | AT31: VENTA | AU31: SAR | AZ31: IN
A32: 186 | B32: 80042000007782 | C32: BIEN0574 | D32: BODEGA CENTRAL | E32: ESTANTERIA 2 | F32: PASILLO ESTANTERIA 2 | G32: BODEGA CENTRAL | H32: ACTIVO FIJO | I32: MAQUINARIA Y EQUIPO PESADO | J32: N/A | K32: N/A | L32: BALANZA DE PLATAFORMA | M32: [ BALANZA DE PLATAFORMA ] - MODELO: A12E; AÑO: 2012; ESTADO: BUENO; COLOR: (SIN COLOR); ESTRUCTURA: ACERO INOXIDABLE; COMPONENTE: ( SIN COMPONENTE ); CAPACIDAD: 8 KG; CANTIDAD: 1 | N32: N/A | O32: N/A | P32: N/A | Q32: AC LOW BATERY | R32: A12E | S32: ND | T32: SIN COLOR | U32: 8 KG | V32: ND | W32: BUENO | X32: 2012 | Y32: ND | Z32: MOMPICHE | AA32: 1 | AB32: 1 | AC32: =AA32-AB32 -> 0 | AD32: N/A | AE32: N/A | AF32: 346 | AG32: 242.2 | AH32: 500 | AI32: =AH32*AB32 -> 500 | AJ32: 193.75 | AK32: =AJ32*AB32 -> 193.75 | AL32: =AK32*0.12 -> 23.25 | AM32: =AL32+AK32 -> 217 | AN32: =AJ32*0.9 -> 174.375 | AO32: =AN32*AB32 -> 174.375 | AP32: =AO32*0.12 -> 20.925 | AQ32: =AO32+AP32 -> 195.3 | AR32: EQUIPOS DE EXPLORACIÓN Y MAQUINARIA DE PERFORACIÓN | AS32: HERRAMIENTAS DE PERFORACIÓN | AT32: SIN USO | AU32: INVTR | AZ32: IN
A33: 187 | B33: 80042000018351 | C33: INV00664 | D33: BODEGA CENTRAL | E33: ESTRUCTURA DE MADERA TRAS CONTENEDOR No 1 | F33: SOBRE ESTRUCTURA DE MADERA TRAS CONTENEDOR No 1 | G33: BODEGA CENTRAL | H33: ACTIVO FIJO | I33: MAQUINARIA Y EQUIPO PESADO | J33: N/A | K33: N/A | L33: BALANZA CON TALLIMETRO | M33: BASCULA ROMANA CON TALLIMETRO 200 KG. ADE M318800 | N33: N/A | O33: N/A | P33: N/A | Q33: ADE | R33: M318800 | S33: 16329-0000588 | T33: GRIS | U33: ND | V33: ND | W33: BUENO | X33: 2017 | Y33: ND | Z33: MATRIZ | AA33: 1 | AB33: 1 | AC33: =AA33-AB33 -> 0 | AD33: N/A | AE33: N/A | AF33: 450 | AG33: 310.36 | AH33: 364.936 | AI33: =AH33*AB33 -> 364.936 | AJ33: 217.952 | AK33: =AJ33*AB33 -> 217.952 | AL33: =AK33*0.12 -> 26.15424 | AM33: =AL33+AK33 -> 244.10624 | AN33: =AJ33*0.9 -> 196.1568 | AO33: =AN33*AB33 -> 196.1568 | AP33: =AO33*0.12 -> 23.538816 | AQ33: =AO33+AP33 -> 219.69562 | AR33: EQUIPOS MEDICOS / MDEM / IM / RDT / PP / SEÑALETICA Y MS / EXTINTORES / MDGA | AS33: EQUIPO MÉDICO | AT33: VENTA | AU33: SAR | AZ33: IN
A34: 193 | B34: 80042000009656 | C34: BIEN0294 | D34: BODEGA CENTRAL | E34: ESTRUCTURA DE MADERA TRAS CONTENEDOR No 1 | F34: BAJO ESTRUCTURA DE MADERA TRAS CONTENEDOR No 1 | G34: BODEGA CENTRAL | H34: ACTIVO FIJO | I34: MAQUINARIA Y EQUIPO PESADO | J34: N/A | K34: N/A | L34: EXTINTOR PQS | M34: [ EXTINTOR PQS ] - AÑO: 2013; ESTADO: BUENO; COLOR: ROJO; ESTRUCTURA: ACERO; COMPONENTE: ( SIN COMPONENTE ); CAPACIDAD: 100 LB; CANTIDAD: 1 | N34: N/A | O34: N/A | P34: N/A | Q34: PREDEXE | R34: ND | S34: ND | T34: ROJO | U34: 100 lb | V34: ND | W34: BUENO | X34: 2013 | Y34: CON CARRO DE 2 RUEDAS, 100 LIBRAS | Z34: MOMPICHE | AA34: 1 | AB34: 1 | AC34: =AA34-AB34 -> 0 | AD34: N/A | AE34: N/A | AF34: 484 | AG34: 338.8 | AH34: 390 | AI34: =AH34*AB34 -> 390 | AJ34: 203.88 | AK34: =AJ34*AB34 -> 203.88 | AL34: =AK34*0.12 -> 24.4656 | AM34: =AL34+AK34 -> 228.3456 | AN34: =AJ34*0.9 -> 183.492 | AO34: =AN34*AB34 -> 183.492 | AP34: =AO34*0.12 -> 22.01904 | AQ34: =AO34+AP34 -> 205.51104 | AR34: EQUIPOS MEDICOS / MDEM / IM / RDT / PP / SEÑALETICA Y MS / EXTINTORES / MDGA | AS34: EXTINTORES | AT34: VENTA | AU34: SAR | AZ34: IN
A35: 194 | B35: 80042000009649 | C35: BIEN0295 | D35: BODEGA CENTRAL | E35: ESTRUCTURA DE MADERA TRAS CONTENEDOR No 1 | F35: BAJO ESTRUCTURA DE MADERA TRAS CONTENEDOR No 1 | G35: BODEGA CENTRAL | H35: ACTIVO FIJO | I35: MAQUINARIA Y EQUIPO PESADO | J35: N/A | K35: N/A | L35: EXTINTOR PQS | M35: [ EXTINTOR PQS ] - AÑO: 2013; ESTADO: BUENO; COLOR: ROJO; ESTRUCTURA: ACERO; COMPONENTE: ( SIN COMPONENTE ); CAPACIDAD: 100 LB; CANTIDAD: 1 | N35: N/A | O35: N/A | P35: N/A | Q35: PREDEXE | R35: ND | S35: ND | T35: ROJO | U35: 100 lb | V35: ND | W35: BUENO | X35: 2013 | Y35: CON CARRO DE 2 RUEDAS, 100 LIBRAS | Z35: MOMPICHE | AA35: 1 | AB35: 1 | AC35: =AA35-AB35 -> 0 | AD35: N/A | AE35: N/A | AF35: 484 | AG35: 338.8 | AH35: 390 | AI35: =AH35*AB35 -> 390 | AJ35: 203.88 | AK35: =AJ35*AB35 -> 203.88 | AL35: =AK35*0.12 -> 24.4656 | AM35: =AL35+AK35 -> 228.3456 | AN35: =AJ35*0.9 -> 183.492 | AO35: =AN35*AB35 -> 183.492 | AP35: =AO35*0.12 -> 22.01904 | AQ35: =AO35+AP35 -> 205.51104 | AR35: EQUIPOS MEDICOS / MDEM / IM / RDT / PP / SEÑALETICA Y MS / EXTINTORES / MDGA | AS35: EXTINTORES | AT35: VENTA | AU35: SAR | AZ35: IN
A36: 195 | B36: 80042000008512 | C36: BIEN0538 | D36: BODEGA CENTRAL | E36: MAQUINARIA | F36: PARED DERECHA CONTENEDOR No 2 MAQUINARIA | G36: BODEGA CENTRAL | H36: ACTIVO FIJO | I36: MAQUINARIA Y EQUIPO PESADO | J36: N/A | K36: N/A | L36: TABLERO DE CONTROL | M36: [ TABLERO DE CONTROL ] - AÑO: 2012; ESTADO: BUENO; COLOR: BEIGE; ESTRUCTURA: METAL; COMPONENTE: ( SIN COMPONENTE ); LARGO: 40 CM; ANCHO: 20 CM; ALTO: 60 CM; CANTIDAD: 1 | N36: N/A | O36: N/A | P36: N/A | Q36: ND | R36: ND | S36: ND | T36: BEIGE | U36: ND | V36: ND | W36: BUENO | X36: 2012 | Y36: ND | Z36: REVENTADOR | AA36: 1 | AB36: 1 | AC36: =AA36-AB36 -> 0 | AD36: N/A | AE36: N/A | AF36: 154 | AG36: 107.8 | AH36: 214.77 | AI36: =AH36*AB36 -> 214.77 | AJ36: 83.125 | AK36: =AJ36*AB36 -> 83.125 | AL36: =AK36*0.12 -> 9.975 | AM36: =AL36+AK36 -> 93.1 | AN36: =AJ36*0.9 -> 74.8125 | AO36: =AN36*AB36 -> 74.8125 | AP36: =AO36*0.12 -> 8.9775 | AQ36: =AO36+AP36 -> 83.79 | AR36: EQUIPOS DE EXPLORACIÓN Y MAQUINARIA DE PERFORACIÓN | AS36: MATERIALES DE FERRETERÍA | AT36: VENTA | AU36: PF | AZ36: IN
A37: 196 | B37: 80042000008147 | C37: BIEN0397 | D37: BODEGA CENTRAL | E37: ESTANTERIA 4 | F37: NIVEL 1 | G37: BODEGA CENTRAL | H37: ACTIVO FIJO | I37: MAQUINARIA Y EQUIPO PESADO | J37: N/A | K37: N/A | L37: SOPLADOR DE AIRE | M37: [ SOPLADOR DE AIRE ] - MARCA: MAKITA; MODELO: UB1100; SERIE: 00200057K; AÑO: 2013; ESTADO: BUENO; COLOR: VERDE; ESTRUCTURA: ( SIN ESTRUCTURA ); COMPONENTE: ( SIN COMPONENTE ); CANTIDAD: 1 | N37: N/A | O37: N/A | P37: N/A | Q37: MAKITA | R37: UB1101 | S37: 00200057K | T37: VERDE | U37: ND | V37: ND | W37: BUENO | X37: 2013 | Y37: ND | Z37: MATRIZ | AA37: 1 | AB37: 1 | AC37: =AA37-AB37 -> 0 | AD37: N/A | AE37: N/A | AF37: 110 | AG37: 77 | AH37: 238.8 | AI37: =AH37*AB37 -> 238.8 | AJ37: 77 | AK37: =AJ37*AB37 -> 77 | AL37: =AK37*0.12 -> 9.24 | AM37: =AL37+AK37 -> 86.24 | AN37: =AJ37*0.9 -> 69.3 | AO37: =AN37*AB37 -> 69.3 | AP37: =AO37*0.12 -> 8.316 | AQ37: =AO37+AP37 -> 77.616 | AR37: EQUIPOS DE COMPUTO | AS37: EQUIPOS DE COMPUTO | AT37: EN USO | AU37: EN USO | AZ37: IN
A38: 197 | B38: 80042000009267 | C38: BIEN0571 | D38: BODEGA CENTRAL | E38: ESTANTERIA 8 | F38: NIVEL 3 | G38: BODEGA CENTRAL | H38: ACTIVO FIJO | I38: MAQUINARIA Y EQUIPO PESADO | J38: N/A | K38: N/A | L38: BOMBA SUMERGIBLE | M38: [ BOMBA SUMERGIBLE ] - MARCA: LITTLE GIANT; MODELO: PE-2H; SERIE: 12D140201495W; AÑO: 2012; ESTADO: BUENO; COLOR: NEGRO; ESTRUCTURA: ( SIN ESTRUCTURA ); COMPONENTE: ( SIN COMPONENTE ); CANTIDAD: 1 | N38: N/A | O38: N/A | P38: N/A | Q38: LITTLE GIANT | R38: PE-2H | S38: 12D140201495W | T38: NEGRO | U38: ND | V38: ND | W38: BUENO | X38: 2012 | Y38: ND | Z38: REVENTADOR | AA38: 1 | AB38: 1 | AC38: =AA38-AB38 -> 0 | AD38: N/A | AE38: N/A | AF38: 115 | AG38: 80.3 | AH38: 124 | AI38: =AH38*AB38 -> 124 | AJ38: 48.78 | AK38: =AJ38*AB38 -> 48.78 | AL38: =AK38*0.12 -> 5.8536 | AM38: =AL38+AK38 -> 54.6336 | AN38: =AJ38*0.9 -> 43.902 | AO38: =AN38*AB38 -> 43.902 | AP38: =AO38*0.12 -> 5.26824 | AQ38: =AO38+AP38 -> 49.17024 | AR38: EQUIPOS DE EXPLORACIÓN Y MAQUINARIA DE PERFORACIÓN | AS38: EQUIPO DE EXPLORACIÓN | AT38: VENTA | AU38: PF | AZ38: IN
A39: 198 | B39: 80042000004293 | C39: BIEN0292 | D39: BODEGA CENTRAL | E39: ESTRUCTURA DE MADERA TRAS CONTENEDOR No 1 | F39: BAJO ESTRUCTURA DE MADERA TRAS CONTENEDOR No 1 | G39: BODEGA CENTRAL | H39: ACTIVO FIJO | I39: MAQUINARIA Y EQUIPO PESADO | J39: N/A | K39: N/A | L39: EXTINTOR CO2 | M39: [ EXTINTOR CO2 ] - AÑO: 2012; ESTADO: BUENO; COLOR: ROJO; ESTRUCTURA: ACERO; COMPONENTE: ( SIN COMPONENTE ); CAPACIDAD: 20 LB; CANTIDAD: 1 | N39: N/A | O39: N/A | P39: N/A | Q39: AC PLANETA | R39: ND | S39: ND | T39: ROJO | U39: 20 lb | V39: ND | W39: BUENO (VALOR ADQUISICION SOBREVALORADO) | X39: 2012 | Y39: CON COCHE DE 2 RUEDAS, CO2 , 20 LIBRAS | Z39: MATRIZ | AA39: 1 | AB39: 1 | AC39: =AA39-AB39 -> 0 | AD39: N/A | AE39: N/A | AF39: 135 | AG39: 94.3 | AH39: 50 | AI39: =AH39*AB39 -> 50 | AJ39: 12 | AK39: =AJ39*AB39 -> 12 | AL39: =AK39*0.12 -> 1.44 | AM39: =AL39+AK39 -> 13.44 | AN39: =AJ39*0.9 -> 10.8 | AO39: =AN39*AB39 -> 10.8 | AP39: =AO39*0.12 -> 1.296 | AQ39: =AO39+AP39 -> 12.096 | AR39: EQUIPOS MEDICOS / MDEM / IM / RDT / PP / SEÑALETICA Y MS / EXTINTORES / MDGA | AS39: EXTINTORES | AT39: VENTA | AU39: SAR | AZ39: IN
A40: 199 | B40: 80042000007362 | C40: BIEN0293 | D40: BODEGA CENTRAL | E40: ESTRUCTURA DE MADERA TRAS CONTENEDOR No 1 | F40: BAJO ESTRUCTURA DE MADERA TRAS CONTENEDOR No 1 | G40: BODEGA CENTRAL | H40: ACTIVO FIJO | I40: MAQUINARIA Y EQUIPO PESADO | J40: N/A | K40: N/A | L40: EXTINTOR CO2 | M40: [ EXTINTOR CO2 ] - MARCA: PREDEXE; AÑO: 2012; ESTADO: BUENO; COLOR: ROJO; ESTRUCTURA: ACERO; COMPONENTE: ( SIN COMPONENTE ); CAPACIDAD: 20 LB; CANTIDAD: 1 | N40: N/A | O40: N/A | P40: N/A | Q40: AC PLANETA | R40: ND | S40: ND | T40: ROJO | U40: 20 lb | V40: ND | W40: BUENO (VALOR ADQUISICION SOBREVALORADO) | X40: 2012 | Y40: CON COCHE DE 2 RUEDAS, CO2 , 20 LIBRAS | Z40: MOMPICHE | AA40: 1 | AB40: 1 | AC40: =AA40-AB40 -> 0 | AD40: N/A | AE40: N/A | AF40: 135 | AG40: 94.3 | AH40: 50 | AI40: =AH40*AB40 -> 50 | AJ40: 12 | AK40: =AJ40*AB40 -> 12 | AL40: =AK40*0.12 -> 1.44 | AM40: =AL40+AK40 -> 13.44 | AN40: =AJ40*0.9 -> 10.8 | AO40: =AN40*AB40 -> 10.8 | AP40: =AO40*0.12 -> 1.296 | AQ40: =AO40+AP40 -> 12.096 | AR40: EQUIPOS MEDICOS / MDEM / IM / RDT / PP / SEÑALETICA Y MS / EXTINTORES / MDGA | AS40: EXTINTORES | AT40: VENTA | AU40: SAR | AZ40: IN
A41: 200 | B41: 80042000018610 | C41: BIEN0568 | D41: BODEGA CENTRAL | E41: ESTANTERIA 58 | F41: PASILLO ESTANTERIA 58 | G41: BODEGA CENTRAL | H41: ACTIVO FIJO | I41: MUEBLES Y ENSERES | J41: N/A | K41: N/A | L41: ARCHIVADOR RODANTE | M41: ARCHIVADOR RODANTE | N41: N/A | O41: N/A | P41: N/A | Q41: ND | R41: ND | S41: ND | T41: PLOMO | U41: ND | V41: METAL Y MDF | W41: BUENO | X41: 2017 | Y41: DESARMADA | Z41: MATRIZ | AA41: 1 | AB41: 1 | AC41: =AA41-AB41 -> 0 | AD41: N/A | AE41: N/A | AF41: 3712 | AG41: 2784 | AH41: 2600 | AI41: =AH41*AB41 -> 2600 | AJ41: 1949.5 | AK41: =AJ41*AB41 -> 1949.5 | AL41: =AK41*0.12 -> 233.94 | AM41: =AL41+AK41 -> 2183.44 | AN41: =AJ41*0.9 -> 1754.55 | AO41: =AN41*AB41 -> 1754.55 | AP41: =AO41*0.12 -> 210.546 | AQ41: =AO41+AP41 -> 1965.096 | AR41: MOVILIARIO | AS41: MOVILIARIO | AT41: VENTA | AU41: MB | AZ41: IN
... A44: 206 | B44: 80042000005849 | C44: BIEN0608 | D44: BODEGA CENTRAL | E44: CONTENEDOR No 2 | F44: INTERIOR CONTENEDOR No 2 | G44: BODEGA CENTRAL | H44: ACTIVO FIJO | I44: MUEBLES Y ENSERES | J44: N/A | K44: N/A | L44: SET PUBLICITARIO PORTATIL | M44: [ SET PUBLICITARIO PORTATIL ] - AÑO: 2012; ESTADO: BUENO; COLOR: NEGRO; ESTRUCTURA: ALUMINIO; COMPONENTE: LONA; CANTIDAD: 1 | N44: N/A | O44: N/A | P44: N/A | Q44: ND | R44: ND | S44: ND | T44: NEGRO | U44: ND | V44: ND | W44: BUENO | X44: 2012 | Y44: ND | Z44: MATRIZ | AA44: 1 | AB44: 1 | AC44: =AA44-AB44 -> 0 | AD44: N/A | AE44: N/A | AF44: 550 | AG44: 329.8 | AH44: 1256.4045 | AI44: =AH44*AB44 -> 1256.4045 | AJ44: 417.03125 | AK44: =AJ44*AB44 -> 417.03125 | AL44: =AK44*0.12 -> 50.04375 | AM44: =AL44+AK44 -> 467.075 | AN44: =AJ44*0.9 -> 375.32812 | AO44: =AN44*AB44 -> 375.32812 | AP44: =AO44*0.12 -> 45.039375 | AQ44: =AO44+AP44 -> 420.3675 | AR44: MATERIALES DE PUBLICIDAD | AS44: MATERIALES DE PUBLICIDAD | AT44: SIN USO | AU44: INVTR | AZ44: IN
A45: 209 | B45: 80042000001384 | C45: BIEN0491 | D45: EDIFICIO MATRIZ | E45: ADMINISTRATIVO | F45: ADMINISTRATIVO | G45: USO OFICINA | H45: ACTIVO FIJO | I45: MUEBLES Y ENSERES | J45: N/A | K45: N/A | L45: RACK DE PISO TIPO GABINETE | M45: [ RACK DE PISO TIPO GABINETE ] - AÑO: 2012; ESTADO: BUENO; COLOR: NEGRO; ESTRUCTURA: METAL; COMPONENTE: VIDRIO; LARGO: 60 CM; ANCHO: 75 CM; ALTO: 204 CM; PUERTAS: 2; CANTIDAD: 1 | N45: N/A | O45: N/A | P45: N/A | Q45: ND | R45: ND | S45: ND | T45: NEGRO | U45: ND | V45: VIDRIO | W45: BUENO | X45: 2012 | Y45: USADO INCLUYE PATCH PANEL COD 003-001-0001 (42 U) PUERTA DE VIDRIO | Z45: MATRIZ | AA45: 1 | AB45: 1 | AC45: =AA45-AB45 -> 0 | AD45: N/A | AE45: N/A | AF45: 608 | AG45: 364.8 | AH45: 1039 | AI45: =AH45*AB45 -> 1039 | AJ45: 344.78125 | AK45: =AJ45*AB45 -> 344.78125 | AL45: =AK45*0.12 -> 41.37375 | AM45: =AL45+AK45 -> 386.155 | AN45: =AJ45*0.9 -> 310.30312 | AO45: =AN45*AB45 -> 310.30312 | AP45: =AO45*0.12 -> 37.236375 | AQ45: =AO45+AP45 -> 347.5395 | AR45: EQUIPOS DE COMPUTO | AS45: EQUIPOS DE COMPUTO | AT45: EN USO | AU45: EN USO | AV45: OFICINA EN USO | AZ45: IN
A46: 213 | B46: 80042000001629 | C46: BIEN0567 | D46: BODEGA CENTRAL | E46: ESTANTERIA 58 | F46: PASILLO ESTANTERIA 58 | G46: BODEGA CENTRAL | H46: ACTIVO FIJO | I46: MUEBLES Y ENSERES | J46: N/A | K46: N/A | L46: MESA DE REUNIONES | M46: [ MESA DE REUNIONES ] - AÑO: 2012; ESTADO: BUENO; COLOR: CAFE; ESTRUCTURA: METAL; COMPONENTE: MDF; LARGO: 480 CM; ANCHO: 120 CM; ALTO: 75 CM; CANTIDAD: 1 | N46: N/A | O46: N/A | P46: N/A | Q46: ND | R46: ND | S46: ND | T46: CAFE | U46: 480X120X75 | V46: MDF | W46: BUENO | X46: 2012 | Y46: DESARMADA | Z46: MATRIZ | AA46: 1 | AB46: 1 | AC46: =AA46-AB46 -> 0 | AD46: N/A | AE46: N/A | AF46: 885 | AG46: 530.9 | AH46: 476 | AI46: =AH46*AB46 -> 476 | AJ46: 425.52 | AK46: =AJ46*AB46 -> 425.52 | AL46: =AK46*0.12 -> 51.0624 | AM46: =AL46+AK46 -> 476.5824 | AN46: =AJ46*0.9 -> 382.968 | AO46: =AN46*AB46 -> 382.968 | AP46: =AO46*0.12 -> 45.95616 | AQ46: =AO46+AP46 -> 428.92416 | AR46: MOVILIARIO | AS46: MOVILIARIO | AT46: VENTA | AU46: MB | AZ46: IN
A47: 216 | B47: 80042000003968 | C47: BIEN0573 | D47: BODEGA CENTRAL | E47: ESTANTERIA 58 | F47: ESTANTERIA 58 | G47: BODEGA CENTRAL | H47: ACTIVO FIJO | I47: MUEBLES Y ENSERES | J47: N/A | K47: N/A | L47: COUNTER | M47: [ COUNTER ] - AÑO: 2012; ESTADO: BUENO; COLOR: CAFE; ESTRUCTURA: MDF; COMPONENTE: VIDRIO; LARGO: 180 CM; ANCHO: 70 CM; ALTO: 110 CM; CANTIDAD: 1 | N47: N/A | O47: N/A | P47: N/A | Q47: ND | R47: ND | S47: ND | T47: CAFE | U47: ND | V47: ND | W47: BUENO | X47: 2012 | Y47: DESARMADO | Z47: MATRIZ | AA47: 1 | AB47: 1 | AC47: =AA47-AB47 -> 0 | AD47: N/A | AE47: N/A | AF47: 247 | AG47: 148.3 | AH47: 502.46732 | AI47: =AH47*AB47 -> 502.46732 | AJ47: 166.8125 | AK47: =AJ47*AB47 -> 166.8125 | AL47: =AK47*0.12 -> 20.0175 | AM47: =AL47+AK47 -> 186.83 | AN47: =AJ47*0.9 -> 150.13125 | AO47: =AN47*AB47 -> 150.13125 | AP47: =AO47*0.12 -> 18.01575 | AQ47: =AO47+AP47 -> 168.147 | AR47: MOVILIARIO | AS47: MOVILIARIO | AT47: SIN USO | AU47: INVTR | AZ47: IN
A48: 217 | B48: 80042000018344 | C48: BIEN0168 | D48: BODEGA CENTRAL | E48: ARMARIO 3 | F48: NIVEL 1 | G48: BODEGA CENTRAL | H48: ACTIVO FIJO | I48: MUEBLES Y ENSERES | J48: N/A | K48: N/A | L48: SET DE LARINGOSCOPIO | M48: SET DE LARINGOSCOPIO | N48: N/A | O48: N/A | P48: N/A | Q48: RIESTER | R48: MRTE001 | S48: ND | T48: GRIS | U48: ND | V48: ND | W48: BUENO | X48: 2017 | Y48: ND | Z48: MATRIZ | AA48: 1 | AB48: 1 | AC48: =AA48-AB48 -> 0 | AD48: N/A | AE48: N/A | AF48: 155 | AG48: 107.02 | AH48: 350 | AI48: =AH48*AB48 -> 350 | AJ48: 139.1875 | AK48: =AJ48*AB48 -> 139.1875 | AL48: =AK48*0.12 -> 16.7025 | AM48: =AL48+AK48 -> 155.89 | AN48: =AJ48*0.9 -> 125.26875 | AO48: =AN48*AB48 -> 125.26875 | AP48: =AO48*0.12 -> 15.03225 | AQ48: =AO48+AP48 -> 140.301 | AR48: EQUIPOS MEDICOS / MDEM / IM / RDT / PP / SEÑALETICA Y MS / EXTINTORES / MDGA | AS48: EQUIPO MÉDICO | AT48: VENTA | AU48: SAR | AZ48: IN
A49: 218 | B49: 80042000018559 | C49: BIEN0169 | D49: BODEGA CENTRAL | E49: ARMARIO 3 | F49: NIVEL 1 | G49: BODEGA CENTRAL | H49: ACTIVO FIJO | I49: MUEBLES Y ENSERES | J49: N/A | K49: N/A | L49: SET DE LARINGOSCOPIO | M49: SET DE LARINGOSCOPIO | N49: N/A | O49: N/A | P49: N/A | Q49: RIESTER | R49: MRTE001 | S49: ND | T49: GRIS | U49: ND | V49: ND | W49: BUENO | X49: 2017 | Y49: ND | Z49: MATRIZ | AA49: 1 | AB49: 1 | AC49: =AA49-AB49 -> 0 | AD49: N/A | AE49: N/A | AF49: 155 | AG49: 107.02 | AH49: 350 | AI49: =AH49*AB49 -> 350 | AJ49: 139.1875 | AK49: =AJ49*AB49 -> 139.1875 | AL49: =AK49*0.12 -> 16.7025 | AM49: =AL49+AK49 -> 155.89 | AN49: =AJ49*0.9 -> 125.26875 | AO49: =AN49*AB49 -> 125.26875 | AP49: =AO49*0.12 -> 15.03225 | AQ49: =AO49+AP49 -> 140.301 | AR49: EQUIPOS MEDICOS / MDEM / IM / RDT / PP / SEÑALETICA Y MS / EXTINTORES / MDGA | AS49: EQUIPO MÉDICO | AT49: VENTA | AU49: SAR | AZ49: IN
A50: 219 | B50: 80042000018337 | C50: BIEN0147 | D50: BODEGA CENTRAL | E50: ARMARIO 3 | F50: NIVEL 1 | G50: BODEGA CENTRAL | H50: ACTIVO FIJO | I50: MUEBLES Y ENSERES | J50: N/A | K50: N/A | L50: SET DE DIAGNOSTICO PORTATIL | M50: SET DE DIAGNOSTICO PORTATIL | N50: N/A | O50: N/A | P50: N/A | Q50: RIESTER | R50: MRTE001 | S50: ND | T50: GRIS | U50: ND | V50: ND | W50: BUENO | X50: 2017 | Y50: ND | Z50: MATRIZ | AA50: 1 | AB50: 1 | AC50: =AA50-AB50 -> 0 | AD50: N/A | AE50: N/A | AF50: 199 | AG50: 137.38 | AH50: 215 | AI50: =AH50*AB50 -> 215 | AJ50: 121.42857 | AK50: =AJ50*AB50 -> 121.42857 | AL50: =AK50*0.12 -> 14.571429 | AM50: =AL50+AK50 -> 136 | AN50: =AJ50*0.9 -> 109.28571 | AO50: =AN50*AB50 -> 109.28571 | AP50: =AO50*0.12 -> 13.114286 | AQ50: =AO50+AP50 -> 122.4 | AR50: EQUIPOS MEDICOS / MDEM / IM / RDT / PP / SEÑALETICA Y MS / EXTINTORES / MDGA | AS50: EQUIPO MÉDICO | AT50: VENTA | AU50: SAR | AZ50: IN
A51: 220 | B51: 80042000018535 | C51: BIEN0148 | D51: BODEGA CENTRAL | E51: ARMARIO 3 | F51: NIVEL 1 | G51: BODEGA CENTRAL | H51: ACTIVO FIJO | I51: MUEBLES Y ENSERES | J51: N/A | K51: N/A | L51: SET DE DIAGNOSTICO PORTATIL | M51: SET DE DIAGNOSTICO PORTATIL | N51: N/A | O51: N/A | P51: N/A | Q51: RIESTER | R51: MRTE001 | S51: ND | T51: GRIS | U51: ND | V51: ND | W51: BUENO | X51: 2017 | Y51: ND | Z51: MATRIZ | AA51: 1 | AB51: 1 | AC51: =AA51-AB51 -> 0 | AD51: N/A | AE51: N/A | AF51: 199 | AG51: 137.38 | AH51: 215 | AI51: =AH51*AB51 -> 215 | AJ51: 121.42857 | AK51: =AJ51*AB51 -> 121.42857 | AL51: =AK51*0.12 -> 14.571429 | AM51: =AL51+AK51 -> 136 | AN51: =AJ51*0.9 -> 109.28571 | AO51: =AN51*AB51 -> 109.28571 | AP51: =AO51*0.12 -> 13.114286 | AQ51: =AO51+AP51 -> 122.4 | AR51: EQUIPOS MEDICOS / MDEM / IM / RDT / PP / SEÑALETICA Y MS / EXTINTORES / MDGA | AS51: EQUIPO MÉDICO | AT51: VENTA | AU51: SAR | AZ51: IN
...

Sheet ROTURA MAQUINARIA
A4: No. | B4: COD. | C4: CODIGO PERITO | D4: UBICACIÓN GEOGRAFICA | E4: UBICACIÓN ORGANICA | F4: UBICACIÓN ADMINISTRATIVA | G4: UBICACIÓN GENERAL | H4: TIPO DE BIEN | I4: TIPO DE ACTIVO GNMMS | J4: CLASIFICACION | K4: SUBCLASIFICACION | L4: NOM. /DESCRIPCION | M4: NOMINACION LARGA | N4: EST. | O4: UNIDAD | P4: MODULO | Q4: MARCA | R4: MODELO | S4: SERIE | T4: COLOR | U4: CAPACIDAD | V4: COMPONENTES | W4: ESTADO | X4: AÑO | Y4: OBSERVACION | Z4: PROYECTO | AA4: CANTIDAD GNMMS | AB4: CANTIDAD PERITO | AC4: DIFERENCIA ENTRE GNMMS Y PERITO | AD4: VALOR DE COMPRA UNITARIO GNMMS (USD | AE4: VALOR DE COMPRA TOTAL GNMMS (USD) | AF4: V. REVALORIZADO | AG4: VAL. ACT. | AH4: VALOR DE REPOSICION UNITARIO (USD) | AI4: VALOR DE REPOSICION TOTAL (USD) | AJ4: VALOR COMERCIAL UNITARIO (USD) | AK4: SUBTOTAL VALOR COMERCIAL (USD) | AL4: IVA 12% | AM4: VALOR COMERCIAL INCLUIDO IVA (USD) | AN4: VALOR DE REALIZACION UNITARIO (USD) | AO4: SUBTOTAL VALOR REALIZACION (USD) | AP4: IVA 12% | AQ4: VALOR DE REALIZACION TOTAL INCLUIDO IVA (USD) | AR4: LOTE INFORME | AS4: SUB LOTE INFORME | AT4: PRIMER INFORME ESTADO / BIENE E INVENTARIO | AU4: INFORME / LOTE PARA VENTA | AV4: OBSERVACIÓN / BIENES E INVENTARIO VENDIDOS Y EN USO | AW4: CONTEO | AX4: OBSERVACION | AY4: VERIFICADO | AZ4: RAMO
A5: 158 | B5: 80042000006198 | C5: BIEN0517 | D5: BODEGA CENTRAL | E5: MAQUINARIA | F5: PARED DERECHA CONTENEDOR No 2 MAQUINARIA | G5: BODEGA CENTRAL | H5: ACTIVO FIJO | I5: MAQUINARIA Y EQUIPO PESADO | J5: N/A | K5: N/A | L5: PERFORADORA INDUSTRIAL ACKER | M5: [ PERFORADORA ] - MARCA: ACKER; MODELO: ACE; SERIE: 18635; AÑO: 2012; ESTADO: BUENO; COLOR: NARANJA; ESTRUCTURA: ACERO; LARGO: 220 CM; ANCHO: 85 CM; ALTO: 135 CM; CANTIDAD: 1 | N5: N/A | O5: N/A | P5: N/A | Q5: ACKER | R5: ACKER-ACE | S5: 18635 | T5: SIN COLOR | U5: ND | V5: ND | W5: BUENO | X5: 2012 | Y5: ND | Z5: MOMPICHE | AA5: 1 | AB5: 1 | AC5: =AA5-AB5 -> 0 | AD5: N/A | AE5: N/A | AF5: 160788 | AG5: 112551.6 | AH5: 204493.26 | AI5: =AH5*AB5 -> 204493.26 | AJ5: 90636.429 | AK5: =AJ5*AB5 -> 90636.429 | AL5: =AK5*0.12 -> 10876.371 | AM5: =AL5+AK5 -> 101512.8 | AN5: =AJ5*0.9 -> 81572.786 | AO5: =AN5*AB5 -> 81572.786 | AP5: =AO5*0.12 -> 9788.7343 | AQ5: =AO5+AP5 -> 91361.52 | AR5: EQUIPOS DE EXPLORACIÓN Y MAQUINARIA DE PERFORACIÓN | AS5: MAQUINARIAS E ÍNSUMOS DE PERFORACIÓN | AT5: VENTA | AU5: PF | AZ5: RM
A6: 159 | B6: 80042000006204 | C6: BIEN0520 | D6: BODEGA CENTRAL | E6: MAQUINARIA | F6: PARED DERECHA CONTENEDOR No 2 MAQUINARIA | G6: BODEGA CENTRAL | H6: ACTIVO FIJO | I6: MAQUINARIA Y EQUIPO PESADO | J6: N/A | K6: N/A | L6: PERFORADORA INDUSTRIAL ACKER | M6: [ PERFORADORA ] - MARCA: ACKER; MODELO: ACE; SERIE: 18634; AÑO: 2012; ESTADO: BUENO; COLOR: NARANJA; ESTRUCTURA: ACERO; LARGO: 220 CM; ANCHO: 85 CM; ALTO: 135 CM; CANTIDAD: 1 | N6: N/A | O6: N/A | P6: N/A | Q6: ACKER | R6: ACKER-ACE | S6: 18634 | T6: SIN COLOR | U6: ND | V6: ND | W6: BUENO | X6: 2012 | Y6: ND | Z6: MOMPICHE | AA6: 1 | AB6: 1 | AC6: =AA6-AB6 -> 0 | AD6: N/A | AE6: N/A | AF6: 160788 | AG6: 112551.6 | AH6: 204493.26 | AI6: =AH6*AB6 -> 204493.26 | AJ6: 90636.429 | AK6: =AJ6*AB6 -> 90636.429 | AL6: =AK6*0.12 -> 10876.371 | AM6: =AL6+AK6 -> 101512.8 | AN6: =AJ6*0.9 -> 81572.786 | AO6: =AN6*AB6 -> 81572.786 | AP6: =AO6*0.12 -> 9788.7343 | AQ6: =AO6+AP6 -> 91361.52 | AR6: EQUIPOS DE EXPLORACIÓN Y MAQUINARIA DE PERFORACIÓN | AS6: MAQUINARIAS E ÍNSUMOS DE PERFORACIÓN | AT6: VENTA | AU6: PF | AZ6: RM
A7: 161 | B7: 80042000006228 | C7: BIEN0518 | D7: BODEGA CENTRAL | E7: MAQUINARIA | F7: PARED DERECHA CONTENEDOR No 2 MAQUINARIA | G7: BODEGA CENTRAL | H7: ACTIVO FIJO | I7: MAQUINARIA Y EQUIPO PESADO | J7: N/A | K7: N/A | L7: MOTOBOMBA | M7: [ MOTOBOMBA ] - MARCA: ACKER; MODELO: APS 8-20; SERIE: 19553; AÑO: 2012; ESTADO: BUENO; COLOR: NARANJA; ESTRUCTURA: FUNDICION; COMPONENTE: ACERO; LARGO: 150 CM; ANCHO: 90 CM; ALTO: 90 CM; CANTIDAD: 1 | N7: N/A | O7: N/A | P7: N/A | Q7: ACKER | R7: APS 8-20 | S7: 19553 | T7: NEGRO | U7: ND | V7: ND | W7: BUENO | X7: 2012 | Y7: ND | Z7: MOMPICHE | AA7: 1 | AB7: 1 | AC7: =AA7-AB7 -> 0 | AD7: N/A | AE7: N/A | AF7: 12178 | AG7: 8524.6 | AH7: 16107.75 | AI7: =AH7*AB7 -> 16107.75 | AJ7: 6693.0804 | AK7: =AJ7*AB7 -> 6693.0804 | AL7: =AK7*0.12 -> 803.16964 | AM7: =AL7+AK7 -> 7496.25 | AN7: =AJ7*0.9 -> 6023.7723 | AO7: =AN7*AB7 -> 6023.7723 | AP7: =AO7*0.12 -> 722.85268 | AQ7: =AO7+AP7 -> 6746.625 | AR7: EQUIPOS DE EXPLORACIÓN Y MAQUINARIA DE PERFORACIÓN | AS7: MAQUINARIAS E ÍNSUMOS DE PERFORACIÓN | AT7: VENTA | AU7: PF | AZ7: RM
A8: 162 | B8: 80042000006211 | C8: BIEN0519 | D8: BODEGA CENTRAL | E8: MAQUINARIA | F8: PARED DERECHA CONTENEDOR No 2 MAQUINARIA | G8: BODEGA CENTRAL | H8: ACTIVO FIJO | I8: MAQUINARIA Y EQUIPO PESADO | J8: N/A | K8: N/A | L8: MOTOBOMBA | M8: [ MOTOBOMBA ] - MARCA: ACKER; MODELO: APS 8-20; SERIE: 19552; AÑO: 2012; ESTADO: BUENO; COLOR: NARANJA; ESTRUCTURA: FUNDICION; COMPONENTE: ACERO; LARGO: 150 CM; ANCHO: 90 CM; ALTO: 90 CM; CANTIDAD: 1 | N8: N/A | O8: N/A | P8: N/A | Q8: ACKER | R8: APS 8-20 | S8: 19552 | T8: NEGRO | U8: ND | V8: ND | W8: BUENO | X8: 2012 | Y8: ND | Z8: MOMPICHE | AA8: 1 | AB8: 1 | AC8: =AA8-AB8 -> 0 | AD8: N/A | AE8: N/A | AF8: 12178 | AG8: 8524.6 | AH8: 16107.75 | AI8: =AH8*AB8 -> 16107.75 | AJ8: 6693.0804 | AK8: =AJ8*AB8 -> 6693.0804 | AL8: =AK8*0.12 -> 803.16964 | AM8: =AL8+AK8 -> 7496.25 | AN8: =AJ8*0.9 -> 6023.7723 | AO8: =AN8*AB8 -> 6023.7723 | AP8: =AO8*0.12 -> 722.85268 | AQ8: =AO8+AP8 -> 6746.625 | AR8: EQUIPOS DE EXPLORACIÓN Y MAQUINARIA DE PERFORACIÓN | AS8: MAQUINARIAS E ÍNSUMOS DE PERFORACIÓN | AT8: VENTA | AU8: PF | AZ8: RM
A9: 170 | B9: 80042000013141 | C9: BIEN0182 | D9: BODEGA CENTRAL | E9: ARMARIO 1 | F9: NIVEL 1 | G9: BODEGA CENTRAL | H9: ACTIVO FIJO | I9: MAQUINARIA Y EQUIPO PESADO | J9: N/A | K9: N/A | L9: PARARRAYOS | M9: [ PARARRAYOS ] - AÑO: 2012; ESTADO: BUENO; ESTRUCTURA: METAL; CANTIDAD: 1 | N9: N/A | O9: N/A | P9: N/A | Q9: ND | R9: ND | S9: ND | T9: SIN COLOR | U9: ND | V9: ND | W9: BUENO | X9: 2012 | Y9: ND | Z9: MOMPICHE | AA9: 1 | AB9: 1 | AC9: =AA9-AB9 -> 0 | AD9: N/A | AE9: N/A | AF9: 2322 | AG9: 1625.4 | AH9: 2040 | AI9: =AH9*AB9 -> 2040 | AJ9: 1138.48 | AK9: =AJ9*AB9 -> 1138.48 | AL9: =AK9*0.12 -> 136.6176 | AM9: =AL9+AK9 -> 1275.0976 | AN9: =AJ9*0.9 -> 1024.632 | AO9: =AN9*AB9 -> 1024.632 | AP9: =AO9*0.12 -> 122.95584 | AQ9: =AO9+AP9 -> 1147.5878 | AR9: EQUIPOS DE EXPLORACIÓN Y MAQUINARIA DE PERFORACIÓN | AS9: ÍNSUMOS DE PERFORACIÓN | AT9: VENTA | AU9: PF | AZ9: RM
A10: 174 | B10: 80042000006280 | C10: BIEN0566 | D10: BODEGA CENTRAL | E10: MAQUINARIA | F10: PARED DERECHA CONTENEDOR No 2 MAQUINARIA | G10: BODEGA CENTRAL | H10: ACTIVO FIJO | I10: MAQUINARIA Y EQUIPO PESADO | J10: N/A | K10: N/A | L10: SURTIDOR DE COMBUSTIBLE | M10: [ SURTIDOR DE COMBUSTIBLE ] - MARCA: FILL-RITE; MODELO: SERIES 900; AÑO: 2012; ESTADO: BUENO; COLOR: ROJO; ESTRUCTURA: FUNDICION; COMPONENTE: ( SIN COMPONENTE ); CANTIDAD: 1 | N10: N/A | O10: N/A | P10: N/A | Q10: FILL-RITE | R10: SERIES 900 | S10: CD-82210 | T10: ROJO | U10: ND | V10: ND | W10: BUENO | X10: 2012 | Y10: ND | Z10: MOMPICHE | AA10: 1 | AB10: 1 | AC10: =AA10-AB10 -> 0 | AD10: N/A | AE10: N/A | AF10: 837 | AG10: 585.7 | AH10: 1214 | AI10: =AH10*AB10 -> 1214 | AJ10: 470.625 | AK10: =AJ10*AB10 -> 470.625 | AL10: =AK10*0.12 -> 56.475 | AM10: =AL10+AK10 -> 527.1 | AN10: =AJ10*0.9 -> 423.5625 | AO10: =AN10*AB10 -> 423.5625 | AP10: =AO10*0.12 -> 50.8275 | AQ10: =AO10+AP10 -> 474.39 | AR10: EQUIPOS DE EXPLORACIÓN Y MAQUINARIA DE PERFORACIÓN | AS10: MAQUINARIAS E ÍNSUMOS DE PERFORACIÓN | AT10: VENTA | AU10: PF | AZ10: RM
A11: 175 | B11: 80042000006174 | C11: BIEN0565 | D11: BODEGA CENTRAL | E11: MAQUINARIA | F11: PARED DERECHA CONTENEDOR No 2 MAQUINARIA | G11: BODEGA CENTRAL | H11: ACTIVO FIJO | I11: MAQUINARIA Y EQUIPO PESADO | J11: N/A | K11: N/A | L11: SURTIDOR DE COMBUSTIBLE | M11: [ SURTIDOR DE COMBUSTIBLE ] - MARCA: FILL-RITE; MODELO: SERIES 900; AÑO: 2012; ESTADO: BUENO; COLOR: ROJO; ESTRUCTURA: METAL; COMPONENTE: ( SIN COMPONENTE ); CANTIDAD: 1 | N11: N/A | O11: N/A | P11: N/A | Q11: FILL-RITE | R11: SERIES 900 | S11: CD-82205 | T11: ROJO | U11: ND | V11: ND | W11: BUENO | X11: 2012 | Y11: ND | Z11: REVENTADOR | AA11: 1 | AB11: 1 | AC11: =AA11-AB11 -> 0 | AD11: N/A | AE11: N/A | AF11: 837 | AG11: 585.7 | AH11: 1214 | AI11: =AH11*AB11 -> 1214 | AJ11: 470.625 | AK11: =AJ11*AB11 -> 470.625 | AL11: =AK11*0.12 -> 56.475 | AM11: =AL11+AK11 -> 527.1 | AN11: =AJ11*0.9 -> 423.5625 | AO11: =AN11*AB11 -> 423.5625 | AP11: =AO11*0.12 -> 50.8275 | AQ11: =AO11+AP11 -> 474.39 | AR11: EQUIPOS DE EXPLORACIÓN Y MAQUINARIA DE PERFORACIÓN | AS11: MAQUINARIAS E ÍNSUMOS DE PERFORACIÓN | AT11: VENTA | AU11: PF | AZ11: RM
A12: 176 | B12: 80042000006167 | C12: BIEN0400 | D12: BODEGA CENTRAL | E12: MAQUINARIA | F12: PARED DERECHA CONTENEDOR No 2 MAQUINARIA | G12: BODEGA CENTRAL | H12: ACTIVO FIJO | I12: MAQUINARIA Y EQUIPO PESADO | J12: N/A | K12: N/A | L12: MOTOGENERADOR | M12: [ MOTOGENERADOR ] - MARCA: ROBOT; MODELO: KJ3000A; AÑO: 2012; ESTADO: BUENO; COLOR: AMARILLO; ESTRUCTURA: METAL; COMPONENTE: ( SIN COMPONENTE ); CAPACIDAD: 6.5 HP; CANTIDAD: 1 | N12: N/A | O12: N/A | P12: N/A | Q12: ROBOT GENERATION | R12: KJ3000A | S12: 130100044 | T12: AMARILLO | U12: 6.5 HP | V12: ND | W12: BUENO | X12: 2012 | Y12: MODELO 168 F | Z12: MOMPICHE | AA12: 1 | AB12: 1 | AC12: =AA12-AB12 -> 0 | AD12: N/A | AE12: N/A | AF12: 846 | AG12: 592.2 | AH12: 699.6 | AI12: =AH12*AB12 -> 699.6 | AJ12: 444.9 | AK12: =AJ12*AB12 -> 444.9 | AL12: =AK12*0.12 -> 53.388 | AM12: =AL12+AK12 -> 498.288 | AN12: =AJ12*0.9 -> 400.41 | AO12: =AN12*AB12 -> 400.41 | AP12: =AO12*0.12 -> 48.0492 | AQ12: =AO12+AP12 -> 448.4592 | AR12: EQUIPOS DE EXPLORACIÓN Y MAQUINARIA DE PERFORACIÓN | AS12: MAQUINARIAS E ÍNSUMOS DE PERFORACIÓN | AT12: VENTA | AU12: PF | AZ12: RM
A13: 177 | B13: 80042000006150 | C13: BIEN0401 | D13: BODEGA CENTRAL | E13: MAQUINARIA | F13: PARED DERECHA CONTENEDOR No 2 MAQUINARIA | G13: BODEGA CENTRAL | H13: ACTIVO FIJO | I13: MAQUINARIA Y EQUIPO PESADO | J13: N/A | K13: N/A | L13: MOTOGENERADOR | M13: [ MOTOGENERADOR ] - MARCA: ROBOT; MODELO: KJ3000A; AÑO: 2012; ESTADO: BUENO; COLOR: AMARILLO; ESTRUCTURA: METAL; COMPONENTE: ( SIN COMPONENTE ); CAPACIDAD: 6.5 HP; CANTIDAD: 1 | N13: N/A | O13: N/A | P13: N/A | Q13: ROBOT GENERATION | R13: KJ3000A | S13: 130100005 | T13: AMARILLO | U13: 6.5 HP | V13: ND | W13: BUENO | X13: 2012 | Y13: MODELO 168 F | Z13: MOMPICHE | AA13: 1 | AB13: 1 | AC13: =AA13-AB13 -> 0 | AD13: N/A | AE13: N/A | AF13: 846 | AG13: 592.2 | AH13: 699.6 | AI13: =AH13*AB13 -> 699.6 | AJ13: 444.9 | AK13: =AJ13*AB13 -> 444.9 | AL13: =AK13*0.12 -> 53.388 | AM13: =AL13+AK13 -> 498.288 | AN13: =AJ13*0.9 -> 400.41 | AO13: =AN13*AB13 -> 400.41 | AP13: =AO13*0.12 -> 48.0492 | AQ13: =AO13+AP13 -> 448.4592 | AR13: EQUIPOS DE EXPLORACIÓN Y MAQUINARIA DE PERFORACIÓN | AS13: MAQUINARIAS E ÍNSUMOS DE PERFORACIÓN | AT13: VENTA | AU13: PF | AZ13: RM
A14: 178 | B14: 80042000006136 | C14: BIEN0402 | D14: BODEGA CENTRAL | E14: MAQUINARIA | F14: PARED DERECHA CONTENEDOR No 2 MAQUINARIA | G14: BODEGA CENTRAL | H14: ACTIVO FIJO | I14: MAQUINARIA Y EQUIPO PESADO | J14: N/A | K14: N/A | L14: MOTOGENERADOR | M14: [ MOTOGENERADOR ] - MARCA: ROBOT; MODELO: KJ3000A; AÑO: 2012; ESTADO: BUENO; COLOR: AMARILLO; ESTRUCTURA: ( SIN ESTRUCTURA ); COMPONENTE: ( SIN COMPONENTE ); CANTIDAD: 1 | N14: N/A | O14: N/A | P14: N/A | Q14: ROBOT GENERATOR | R14: KJ300A | S14: 130100049 | T14: AMARILLO | U14: 6.5 HP | V14: ND | W14: BUENO | X14: 2012 | Y14: MODELO 168F | Z14: REVENTADOR | AA14: 1 | AB14: 1 | AC14: =AA14-AB14 -> 0 | AD14: N/A | AE14: N/A | AF14: 846 | AG14: 592.2 | AH14: 699.6 | AI14: =AH14*AB14 -> 699.6 | AJ14: 444.9 | AK14: =AJ14*AB14 -> 444.9 | AL14: =AK14*0.12 -> 53.388 | AM14: =AL14+AK14 -> 498.288 | AN14: =AJ14*0.9 -> 400.41 | AO14: =AN14*AB14 -> 400.41 | AP14: =AO14*0.12 -> 48.0492 | AQ14: =AO14+AP14 -> 448.4592 | AR14: EQUIPOS DE EXPLORACIÓN Y MAQUINARIA DE PERFORACIÓN | AS14: MAQUINARIAS E ÍNSUMOS DE PERFORACIÓN | AT14: VENTA | AU14: PF | AZ14: RM
A15: 179 | B15: 80042000006129 | C15: BIEN0403 | D15: BODEGA CENTRAL | E15: MAQUINARIA | F15: PARED DERECHA CONTENEDOR No 2 MAQUINARIA | G15: BODEGA CENTRAL | H15: ACTIVO FIJO | I15: MAQUINARIA Y EQUIPO PESADO | J15: N/A | K15: N/A | L15: MOTOGENERADOR | M15: [ MOTOGENERADOR ] - MARCA: ROBOT; MODELO: KJ3000A; AÑO: 2012; ESTADO: BUENO; COLOR: AMARILLO; ESTRUCTURA: ( SIN ESTRUCTURA ); COMPONENTE: ( SIN COMPONENTE ); CANTIDAD: 1 | N15: N/A | O15: N/A | P15: N/A | Q15: ROBOT GENERATOR | R15: KJ300A | S15: 130100028 | T15: AMARILLO | U15: 6.5 HP | V15: ND | W15: REGULAR | X15: 2012 | Y15: MODELO 168F | Z15: REVENTADOR | AA15: 1 | AB15: 1 | AC15: =AA15-AB15 -> 0 | AD15: N/A | AE15: N/A | AF15: 846 | AG15: 592.2 | AH15: 699.6 | AI15: =AH15*AB15 -> 699.6 | AJ15: 444.9 | AK15: =AJ15*AB15 -> 444.9 | AL15: =AK15*0.12 -> 53.388 | AM15: =AL15+AK15 -> 498.288 | AN15: =AJ15*0.9 -> 400.41 | AO15: =AN15*AB15 -> 400.41 | AP15: =AO15*0.12 -> 48.0492 | AQ15: =AO15+AP15 -> 448.4592 | AR15: EQUIPOS DE EXPLORACIÓN Y MAQUINARIA DE PERFORACIÓN | AS15: MAQUINARIAS E ÍNSUMOS DE PERFORACIÓN | AT15: VENTA | AU15: PF | AZ15: RM
